Workbook

Sheet INFO

Sheet Priser
A1: =CONCATENATE("Priser för gasår ",Listor!$B$11) -> Priser för gasår 2026/2027 | B1: Priser anges i kr per kWh/h per månad | L1: Priser anges i kr per kWh/h per dygn
A2: Månad | B2: År | C2: Vinter 1 | D2: Vinter 2 | E2: Vinter 3 | F2: Sommar | G2: Kvartals-faktor | H2: Kvartal avgift | I2: Månads-faktor | J2: Månads-avgift | K2: Antal Dagar | L2: Kapacitetsavgift dygn | N2: Antal Överuttag inom max kap.behov | O2: Multiplikator vs dygnsprodukt | P2: Antal Överuttag utöver max kap.behov | Q2: Multiplikator vs dygnsprodukt
A3: 10 | B3: =ROUND($B$23/12,2) -> 35.88 | C3: =ROUND($B$23*C$16/7,2) -> 49.21 | G3: 0.326 | H3: =ROUND(G3/3*$B$23,2) -> 46.79 | I3: 0.11 | J3: =ROUND($B$23*I3,2) -> 47.37 | K3: =COUNTIFS(Uttag!BL:BL,A3) -> 31 | L3: =ROUND($B$23*2.8*I3/K3,2) -> 4.28 | N3: 0 | O3: 0 | P3: 0 | Q3: =O3*2 -> 0
A4: 11 | B4: =ROUND($B$23/12,2) -> 35.88 | C4: =ROUND($B$23*C$16/7,2) -> 49.21 | D4: =ROUND($B$23*D$16/5,2) -> 55.98 | G4: 0.326 | H4: =ROUND(G4/3*$B$23,2) -> 46.79 | I4: 0.12 | J4: =ROUND($B$23*I4,2) -> 51.67 | K4: =COUNTIFS(Uttag!BL:BL,A4) -> 30 | L4: =ROUND($B$23*2.8*I4/K4,2) -> 4.82 | N4: 1 | O4: 2 | P4: 1 | Q4: =O4*2 -> 4
A5: 12 | B5: =ROUND($B$23/12,2) -> 35.88 | C5: =ROUND($B$23*C$16/7,2) -> 49.21 | D5: =ROUND($B$23*D$16/5,2) -> 55.98 | E5: =ROUND($B$23*E$16/3,2) -> 71.77 | G5: 0.326 | H5: =ROUND(G5/3*$B$23,2) -> 46.79 | I5: 0.17 | J5: =ROUND($B$23*I5,2) -> 73.2 | K5: =COUNTIFS(Uttag!BL:BL,A5) -> 31 | L5: =ROUND($B$23*2.8*I5/K5,2) -> 6.61 | N5: 2 | O5: 4 | P5: 2 | Q5: =O5*2 -> 8
A6: 1 | B6: =ROUND($B$23/12,2) -> 35.88 | C6: =ROUND($B$23*C$16/7,2) -> 49.21 | D6: =ROUND($B$23*D$16/5,2) -> 55.98 | E6: =ROUND($B$23*E$16/3,2) -> 71.77 | G6: 0.5 | H6: =ROUND(G6/3*$B$23,2) -> 71.77 | I6: 0.18 | J6: =ROUND($B$23*I6,2) -> 77.51 | K6: =COUNTIFS(Uttag!BL:BL,A6) -> 31 | L6: =ROUND($B$23*2.8*I6/K6,2) -> 7 | N6: 3 | O6: 6 | P6: 3 | Q6: =O6*2 -> 12
A7: 2 | B7: =ROUND($B$23/12,2) -> 35.88 | C7: =ROUND($B$23*C$16/7,2) -> 49.21 | D7: =ROUND($B$23*D$16/5,2) -> 55.98 | E7: =ROUND($B$23*E$16/3,2) -> 71.77 | G7: 0.5 | H7: =ROUND(G7/3*$B$23,2) -> 71.77 | I7: 0.2 | J7: =ROUND($B$23*I7,2) -> 86.12 | K7: =COUNTIFS(Uttag!BL:BL,A7) -> 28 | L7: =ROUND($B$23*2.8*I7/K7,2) -> 8.61
A8: 3 | B8: =ROUND($B$23/12,2) -> 35.88 | C8: =ROUND($B$23*C$16/7,2) -> 49.21 | D8: =ROUND($B$23*D$16/5,2) -> 55.98 | G8: 0.5 | H8: =ROUND(G8/3*$B$23,2) -> 71.77 | I8: 0.14 | J8: =ROUND($B$23*I8,2) -> 60.28 | K8: =COUNTIFS(Uttag!BL:BL,A8) -> 31 | L8: =ROUND($B$23*2.8*I8/K8,2) -> 5.44
A9: 4 | B9: =ROUND($B$23/12,2) -> 35.88 | C9: =ROUND($B$23*C$16/7,2) -> 49.21 | G9: 0.16 | H9: =ROUND(G9/3*$B$23,2) -> 22.96 | I9: 0.09 | J9: =ROUND($B$23*I9,2) -> 38.75 | K9: =COUNTIFS(Uttag!BL:BL,A9) -> 30 | L9: =ROUND($B$23*2.8*I9/K9,2) -> 3.62
A10: 5 | B10: =ROUND($B$23/12,2) -> 35.88 | F10: =ROUND($B$23*F$16/5,2) -> 17.22 | G10: 0.16 | H10: =ROUND(G10/3*$B$23,2) -> 22.96 | I10: 0.05 | J10: =ROUND($B$23*I10,2) -> 21.53 | K10: =COUNTIFS(Uttag!BL:BL,A10) -> 31 | L10: =ROUND($B$23*2.8*I10/K10,2) -> 1.94
A11: 6 | B11: =ROUND($B$23/12,2) -> 35.88 | F11: =ROUND($B$23*F$16/5,2) -> 17.22 | G11: 0.16 | H11: =ROUND(G11/3*$B$23,2) -> 22.96 | I11: 0.045 | J11: =ROUND($B$23*I11,2) -> 19.38 | K11: =COUNTIFS(Uttag!BL:BL,A11) -> 30 | L11: =ROUND($B$23*2.8*I11/K11,2) -> 1.81
A12: 7 | B12: =ROUND($B$23/12,2) -> 35.88 | F12: =ROUND($B$23*F$16/5,2) -> 17.22 | G12: 0.13 | H12: =ROUND(G12/3*$B$23,2) -> 18.66 | I12: 0.045 | J12: =ROUND($B$23*I12,2) -> 19.38 | K12: =COUNTIFS(Uttag!BL:BL,A12) -> 31 | L12: =ROUND($B$23*2.8*I12/K12,2) -> 1.75
A13: 8 | B13: =ROUND($B$23/12,2) -> 35.88 | F13: =ROUND($B$23*F$16/5,2) -> 17.22 | G13: 0.13 | H13: =ROUND(G13/3*$B$23,2) -> 18.66 | I13: 0.045 | J13: =ROUND($B$23*I13,2) -> 19.38 | K13: =COUNTIFS(Uttag!BL:BL,A13) -> 31 | L13: =ROUND($B$23*2.8*I13/K13,2) -> 1.75
A14: 9 | B14: =ROUND($B$23/12,2) -> 35.88 | F14: =ROUND($B$23*F$16/5,2) -> 17.22 | G14: 0.13 | H14: =ROUND(G14/3*$B$23,2) -> 18.66 | I14: 0.055 | J14: =ROUND($B$23*I14,2) -> 23.68 | K14: =COUNTIFS(Uttag!BL:BL,A14) -> 30 | L14: =ROUND($B$23*2.8*I14/K14,2) -> 2.21
A16: Andel av årskapacitet uttag | B16: 1 | C16: 0.8 | D16: 0.65 | E16: 0.5 | F16: 0.2
A18: Avgifter
A19: Grundavgift | B19: 435846
A20: Kapacitetstilldelningsavgift vinter | B20: 1947
A21: Kapacitetstilldelningsavgift sommar | B21: 487
A22: Kapacitetstilldelningsavgift dygn | B22: 3.37
A23: Kapacitetsavgift | B23: 430.5912
A24: Avgift för extra områdeförbrukning | B24: 0.0195
A25: Myndighetsavgift | B25: 0.001

Sheet Indata
A1: Inmatning från kund
A2: Kundnamn
A3: Dygnsabonnemang
A5: Maximalt kapacitetsbehov
A6: Max kap.behov vinter
A7: Max kap.behov sommar
A9: Kapacitetsabonnemang | C9: Total bokningsnivå
A10: Kap.ab Årskapacitet
A11: Kap.ab Vinter 1
A12: Kap.ab Vinter 2
A13: Kap.ab Vinter 3
A14: Kap.ab Sommar
A15: Kvartal 4
A16: Kvartal 1
A17: Kvartal 2
A18: Kvartal 3
A20: Kap.ab Oktober | C20: =$B$10+$B$11+B15+B20 -> 0
A21: Kap.ab November | C21: =$B$10+$B$11+$B$12+B15+B21 -> 0
A22: Kap.ab December | C22: =$B$10+$B$11+$B$12+$B$13+B15+B22 -> 0
A23: Kap.ab Januari | C23: =$B$10+$B$11+$B$12+$B$13+B16+B23 -> 0
A24: Kap.ab Februari | C24: =$B$10+$B$11+$B$12+$B$13+B16+B24 -> 0
A25: Kap.ab Mars | C25: =$B$10+$B$11+$B$12+B16+B25 -> 0
A26: Kap.ab April | C26: =$B$10+$B$11+B17+B26 -> 0
A27: Kap.ab Maj | C27: =$B$10+B17+B14+B27 -> 0
A28: Kap.ab Juni | C28: =$B$10+B17+$B$14+B28 -> 0
A29: Kap.ab Juli | C29: =$B$10+B18+$B$14+B29 -> 0
A30: Kap.ab Augusti | C30: =$B$10+B18+$B$14+B30 -> 0
A31: Kap.ab September | C31: =$B$10+B18+$B$14+B31 -> 0

Sheet Förbrukning
E1: ="Uttag ("&B3&"/dygn)" -> Uttag (kWh/dygn) | H1: Dygns-abonnemang
E2: Prognos | F2: Faktiskt uttag | H2: Dygnsbokning
A3: Vald enhet | B3: kWh | D3: Datum | E3: =B3 -> kWh | F3: =B3 -> kWh | H3: kWh/h
D4: =Listor!B12 -> 46296
D5: =D4+1 -> 46297
D6: =D5+1 -> 46298
D7: =D6+1 -> 46299
D8: =D7+1 -> 46300
D9: =D8+1 -> 46301
D10: =D9+1 -> 46302
D11: =D10+1 -> 46303
D12: =D11+1 -> 46304
D13: =D12+1 -> 46305
D14: =D13+1 -> 46306
D15: =D14+1 -> 46307
D16: =D15+1 -> 46308
... D369: =D368+1 -> 46661

Sheet Uttag
A1: Säsongs- & månadsbokningar | E1: Uttag | I1: Dygns-abonnemang | K1: Överlåtelse | N1: Bokningsnivå | P1: Dygnskostnader | S1: Överuttag ↓ | U1: Överuttag | AE1: Överlåtelse ↓ | AG1: Överlåtelse | AV1: Kvarstående bokning ↓ | AX1: Kvarstående bokning | BG1: Förbrukning ↓ | BI1: Förbrukning
E2: Volym | G2: Kapacitet | X2: Inom Maximalt kapacitet behov | AA2: Över Maximalt kapacitet behov | AG2: Överlåtet ur produkt | AN2: Grundabonnemang
K3: Swap ut | L3: Swap in | N3: =BE3 -> Total bokning | P3: Dygnsbokning | Q3: Överuttag | U3: Totalt överuttag | V3: Inom max kap.behov | W3: Över max kap.behov | X3: Antal överuttag | Y3: Multi-plikator | Z3: Avgift överuttag | AA3: Antal överuttag | AB3: Multi-plikator | AC3: Avgift överuttag | AG3: Årskap. | AH3: Vint 1/Som | AI3: Vinter 2 | AJ3: Vinter 3 | AK3: Kvartal | AL3: Månad | AM3: Dygn | AN3: Årskap. | AO3: Vint 1/Som | AP3: Vinter 2 | AQ3: Vinter 3 | AR3: Kvartal | AS3: Månad | AT3: Dygn/Swap in | AX3: Årskap. | AY3: Vint 1/Som | AZ3: Vinter 2 | BA3: Vinter 3 | BB3: Kvartal | BC3: Månad | BD3: Dygn/Swap in | BE3: Total bokning | BI3: Prognos | BJ3: Faktiskt uttag | BL3: Månad | BM3: Kvartal | BN3: Maximalt kapacitetsbehov
A4: Produkt | B4: kWh/h | E4: kWh | F4: h | G4: kWh/h | I4: kWh/h | K4: kWh/h | L4: kWh/h | N4: =BE4 -> kWh/h | P4: SEK | Q4: SEK | U4: kWh/h | V4: kWh/h | W4: kWh/h | X4: st | Z4: SEK | AA4: st | AC4: SEK | AG4: kWh/h | AH4: kWh/h | AI4: kWh/h | AJ4: kWh/h | AK4: kWh/h | AL4: kWh/h | AM4: kWh/h | AN4: kWh/h | AO4: kWh/h | AP4: kWh/h | AQ4: kWh/h | AR4: kWh/h | AS4: kWh/h | AT4: kWh/h | AX4: kWh/h | AY4: kWh/h | AZ4: kWh/h | BA4: kWh/h | BB4: kWh/h | BC4: kWh/h | BD4: kWh/h | BE4: kWh/h | BI4: kWh/h | BJ4: kWh/h | BN4: kWh/h
A5: Max kap.behov vinter | B5: =Indata!B6 -> 0 | D5: =Listor!$B$12 -> 46296 | E5: =F5*G5 -> 0 | F5: =24+SUMIFS(Listor!$C$22:$C$23,Listor!$B$22:$B$23,Uttag!D5) -> 24 | G5: =SUM(BI5:BJ5) -> 0 | I5: =Förbrukning!H4 -> 0 | N5: =BE5 -> 0 | P5: =I5*SUMIFS(Priser!$L$3:$L$14,Priser!$A$3:$A$14,BL5) -> 0 | Q5: =Z5+AC5 -> 0 | U5: =MAX(G5-BE5,0) -> 0 | V5: =U5-W5 -> 0 | W5: =MAX(G5-BN5,0) -> 0 | X5: =COUNTIFS(V5,">0")+IF(BL5=BL4,X4,0) -> 0 | Y5: =IF(X5>=Priser!$N$6,Priser!$O$6,IF(X5>=Priser!$N$5,Priser!$O$5,IF(X5>=Priser!$N$4,Priser!$O$4,Priser!$O$3))) -> 0 | Z5: =Y5*SUMIFS(Priser!$L$3:$L$14,Priser!$A$3:$A$14,$BL5)*V5 -> 0 | AA5: =COUNTIFS(W5,">0")+IF(BL5=BL4,AA4,0) -> 0 | AB5: =IF(AA5>=Priser!$P$6,Priser!$Q$6,IF(AA5>=Priser!$P$5,Priser!$Q$5,IF(AA5>=Priser!$P$4,Priser!$Q$4,Priser!$Q$3))) -> 0 | AC5: =AB5*SUMIFS(Priser!$L$3:$L$14,Priser!$A$3:$A$14,$BL5)*W5 -> 0 | AG5: =IF(AND((K5-SUM(AH5:AM5)>0),(AN5-(K5-SUM(AH5:AM5))>0)),K5-SUM(AH5:AM5),IF((K5-SUM(AH5:AM5))>0,AN5,0)) -> 0 | AH5: =IF(AND((K5-SUM(AI5:AM5)>0),(AO5-(K5-SUM(AI5:AM5))>0)),K5-SUM(AI5:AM5),IF((K5-SUM(AI5:AM5))>0,AO5,0)) -> 0 | AI5: =IF(AND((K5-SUM(AJ5:AM5)>0),(AP5-(K5-SUM(AJ5:AM5))>0)),K5-SUM(AJ5:AM5),IF((K5-SUM(AJ5:AM5))>0,AP5,0)) -> 0 | AJ5: =IF(AND((K5-SUM(AK5:AM5)>0),(AQ5-(K5-SUM(AK5:AM5))>0)),K5-SUM(AK5:AM5),IF((K5-SUM(AK5:AM5))>0,AQ5,0)) -> 0 | AK5: =IF(AND((K5-SUM(AL5:AM5)>0),(AR5-(K5-SUM(AL5:AM5))>0)),K5-SUM(AL5:AM5),IF((K5-SUM(AL5:AM5))>0,AR5,0)) -> 0 | AL5: =IF(AND((K5-AM5)>0,(AS5-(K5-AM5))>0),(K5-AM5),IF((K5-AM5)>0,AS5,0)) -> 0 | AM5: =IF(AND(I5>0,(I5-K5)>0),K5,I5) -> 0 | AN5: =B$8 -> 0 | AO5: =IF(OR(BL5=10,BL5=11,BL5=12,BL5=1,BL5=2,BL5=3,BL5=4),B$9,$B$12) -> 0 | AP5: =IF(OR(BL5=11,BL5=12,BL5=1,BL5=2,BL5=3),B$10,) -> 0 | AQ5: =IF(OR(BL5=12,BL5=1,BL5=2),B$11,) -> 0 | AR5: =SUMIFS($B$13:$B$16,$C$13:$C$16,BM5) -> 0 | AS5: =SUMIFS($B$18:$B$29,$C$18:$C$29,BL5) -> 0 | AT5: =L5+I5 -> 0 | AX5: =MAX(AN5-AG5,0) -> 0 | AY5: =MAX(AO5-AH5,0) -> 0 | AZ5: =MAX(AP5-AI5,0) -> 0 | BA5: =MAX(AQ5-AJ5,0) -> 0 | BB5: =MAX(AR5-AK5,0) -> 0 | BC5: =MAX(AS5-AL5,0) -> 0 | BD5: =MAX(AT5-AM5,0) -> 0 | BE5: =SUM(AX5:BD5) -> 0 | BI5: =IF(Förbrukning!F4="",Förbrukning!E4,0)/IF(Förbrukning!$B$3=Listor!$B$5,F5,1) -> 0 | BJ5: =Förbrukning!F4/IF(Förbrukning!$B$3=Listor!$B$5,F5,1) -> 0 | BL5: =MONTH(D5) -> 10 | BM5: =ROUNDUP(BL5/3,0) -> 4 | BN5: =Indata!$B$6 -> 0
A6: Max kap.behov sommar | B6: =Indata!B7 -> 0 | D6: =D5+1 -> 46297 | E6: =F6*G6 -> 0 | F6: =24+SUMIFS(Listor!$C$22:$C$23,Listor!$B$22:$B$23,Uttag!D6) -> 24 | G6: =SUM(BI6:BJ6) -> 0 | I6: =Förbrukning!H5 -> 0 | N6: =BE6 -> 0 | P6: =I6*SUMIFS(Priser!$L$3:$L$14,Priser!$A$3:$A$14,BL6) -> 0 | Q6: =Z6+AC6 -> 0 | U6: =MAX(G6-BE6,0) -> 0 | V6: =U6-W6 -> 0 | W6: =MAX(G6-BN6,0) -> 0 | X6: =COUNTIFS(V6,">0")+IF(BL6=BL5,X5,0) -> 0 | Y6: =IF(X6>=Priser!$N$6,Priser!$O$6,IF(X6>=Priser!$N$5,Priser!$O$5,IF(X6>=Priser!$N$4,Priser!$O$4,Priser!$O$3))) -> 0 | Z6: =Y6*SUMIFS(Priser!$L$3:$L$14,Priser!$A$3:$A$14,$BL6)*V6 -> 0 | AA6: =COUNTIFS(W6,">0")+IF(BL6=BL5,AA5,0) -> 0 | AB6: =IF(AA6>=Priser!$P$6,Priser!$Q$6,IF(AA6>=Priser!$P$5,Priser!$Q$5,IF(AA6>=Priser!$P$4,Priser!$Q$4,Priser!$Q$3))) -> 0 | AC6: =AB6*SUMIFS(Priser!$L$3:$L$14,Priser!$A$3:$A$14,$BL6)*W6 -> 0 | AG6: =IF(AND((K6-SUM(AH6:AM6)>0),(AN6-(K6-SUM(AH6:AM6))>0)),K6-SUM(AH6:AM6),IF((K6-SUM(AH6:AM6))>0,AN6,0)) -> 0 | AH6: =IF(AND((K6-SUM(AI6:AM6)>0),(AO6-(K6-SUM(AI6:AM6))>0)),K6-SUM(AI6:AM6),IF((K6-SUM(AI6:AM6))>0,AO6,0)) -> 0 | AI6: =IF(AND((K6-SUM(AJ6:AM6)>0),(AP6-(K6-SUM(AJ6:AM6))>0)),K6-SUM(AJ6:AM6),IF((K6-SUM(AJ6:AM6))>0,AP6,0)) -> 0 | AJ6: =IF(AND((K6-SUM(AK6:AM6)>0),(AQ6-(K6-SUM(AK6:AM6))>0)),K6-SUM(AK6:AM6),IF((K6-SUM(AK6:AM6))>0,AQ6,0)) -> 0 | AK6: =IF(AND((K6-SUM(AL6:AM6)>0),(AR6-(K6-SUM(AL6:AM6))>0)),K6-SUM(AL6:AM6),IF((K6-SUM(AL6:AM6))>0,AR6,0)) -> 0 | AL6: =IF(AND((K6-AM6)>0,(AS6-(K6-AM6))>0),(K6-AM6),IF((K6-AM6)>0,AS6,0)) -> 0 | AM6: =IF(AND(I6>0,(I6-K6)>0),K6,I6) -> 0 | AN6: =B$8 -> 0 | AO6: =IF(OR(BL6=10,BL6=11,BL6=12,BL6=1,BL6=2,BL6=3,BL6=4),B$9,$B$12) -> 0 | AP6: =IF(OR(BL6=11,BL6=12,BL6=1,BL6=2,BL6=3),B$10,) -> 0 | AQ6: =IF(OR(BL6=12,BL6=1,BL6=2),B$11,) -> 0 | AR6: =SUMIFS($B$13:$B$16,$C$13:$C$16,BM6) -> 0 | AS6: =SUMIFS($B$18:$B$29,$C$18:$C$29,BL6) -> 0 | AT6: =L6+I6 -> 0 | AX6: =MAX(AN6-AG6,0) -> 0 | AY6: =MAX(AO6-AH6,0) -> 0 | AZ6: =MAX(AP6-AI6,0) -> 0 | BA6: =MAX(AQ6-AJ6,0) -> 0 | BB6: =MAX(AR6-AK6,0) -> 0 | BC6: =MAX(AS6-AL6,0) -> 0 | BD6: =MAX(AT6-AM6,0) -> 0 | BE6: =SUM(AX6:BD6) -> 0 | BI6: =IF(Förbrukning!F5="",Förbrukning!E5,0)/IF(Förbrukning!$B$3=Listor!$B$5,F6,1) -> 0 | BJ6: =Förbrukning!F5/IF(Förbrukning!$B$3=Listor!$B$5,F6,1) -> 0 | BL6: =MONTH(D6) -> 10 | BM6: =ROUNDUP(BL6/3,0) -> 4 | BN6: =Indata!$B$6 -> 0
D7: =D6+1 -> 46298 | E7: =F7*G7 -> 0 | F7: =24+SUMIFS(Listor!$C$22:$C$23,Listor!$B$22:$B$23,Uttag!D7) -> 24 | G7: =SUM(BI7:BJ7) -> 0 | I7: =Förbrukning!H6 -> 0 | N7: =BE7 -> 0 | P7: =I7*SUMIFS(Priser!$L$3:$L$14,Priser!$A$3:$A$14,BL7) -> 0 | Q7: =Z7+AC7 -> 0 | U7: =MAX(G7-BE7,0) -> 0 | V7: =U7-W7 -> 0 | W7: =MAX(G7-BN7,0) -> 0 | X7: =COUNTIFS(V7,">0")+IF(BL7=BL6,X6,0) -> 0 | Y7: =IF(X7>=Priser!$N$6,Priser!$O$6,IF(X7>=Priser!$N$5,Priser!$O$5,IF(X7>=Priser!$N$4,Priser!$O$4,Priser!$O$3))) -> 0 | Z7: =Y7*SUMIFS(Priser!$L$3:$L$14,Priser!$A$3:$A$14,$BL7)*V7 -> 0 | AA7: =COUNTIFS(W7,">0")+IF(BL7=BL6,AA6,0) -> 0 | AB7: =IF(AA7>=Priser!$P$6,Priser!$Q$6,IF(AA7>=Priser!$P$5,Priser!$Q$5,IF(AA7>=Priser!$P$4,Priser!$Q$4,Priser!$Q$3))) -> 0 | AC7: =AB7*SUMIFS(Priser!$L$3:$L$14,Priser!$A$3:$A$14,$BL7)*W7 -> 0 | AG7: =IF(AND((K7-SUM(AH7:AM7)>0),(AN7-(K7-SUM(AH7:AM7))>0)),K7-SUM(AH7:AM7),IF((K7-SUM(AH7:AM7))>0,AN7,0)) -> 0 | AH7: =IF(AND((K7-SUM(AI7:AM7)>0),(AO7-(K7-SUM(AI7:AM7))>0)),K7-SUM(AI7:AM7),IF((K7-SUM(AI7:AM7))>0,AO7,0)) -> 0 | AI7: =IF(AND((K7-SUM(AJ7:AM7)>0),(AP7-(K7-SUM(AJ7:AM7))>0)),K7-SUM(AJ7:AM7),IF((K7-SUM(AJ7:AM7))>0,AP7,0)) -> 0 | AJ7: =IF(AND((K7-SUM(AK7:AM7)>0),(AQ7-(K7-SUM(AK7:AM7))>0)),K7-SUM(AK7:AM7),IF((K7-SUM(AK7:AM7))>0,AQ7,0)) -> 0 | AK7: =IF(AND((K7-SUM(AL7:AM7)>0),(AR7-(K7-SUM(AL7:AM7))>0)),K7-SUM(AL7:AM7),IF((K7-SUM(AL7:AM7))>0,AR7,0)) -> 0 | AL7: =IF(AND((K7-AM7)>0,(AS7-(K7-AM7))>0),(K7-AM7),IF((K7-AM7)>0,AS7,0)) -> 0 | AM7: =IF(AND(I7>0,(I7-K7)>0),K7,I7) -> 0 | AN7: =B$8 -> 0 | AO7: =IF(OR(BL7=10,BL7=11,BL7=12,BL7=1,BL7=2,BL7=3,BL7=4),B$9,$B$12) -> 0 | AP7: =IF(OR(BL7=11,BL7=12,BL7=1,BL7=2,BL7=3),B$10,) -> 0 | AQ7: =IF(OR(BL7=12,BL7=1,BL7=2),B$11,) -> 0 | AR7: =SUMIFS($B$13:$B$16,$C$13:$C$16,BM7) -> 0 | AS7: =SUMIFS($B$18:$B$29,$C$18:$C$29,BL7) -> 0 | AT7: =L7+I7 -> 0 | AX7: =MAX(AN7-AG7,0) -> 0 | AY7: =MAX(AO7-AH7,0) -> 0 | AZ7: =MAX(AP7-AI7,0) -> 0 | BA7: =MAX(AQ7-AJ7,0) -> 0 | BB7: =MAX(AR7-AK7,0) -> 0 | BC7: =MAX(AS7-AL7,0) -> 0 | BD7: =MAX(AT7-AM7,0) -> 0 | BE7: =SUM(AX7:BD7) -> 0 | BI7: =IF(Förbrukning!F6="",Förbrukning!E6,0)/IF(Förbrukning!$B$3=Listor!$B$5,F7,1) -> 0 | BJ7: =Förbrukning!F6/IF(Förbrukning!$B$3=Listor!$B$5,F7,1) -> 0 | BL7: =MONTH(D7) -> 10 | BM7: =ROUNDUP(BL7/3,0) -> 4 | BN7: =Indata!$B$6 -> 0
A8: Kap.ab Årskapacitet | B8: =Indata!B10 -> 0 | D8: =D7+1 -> 46299 | E8: =F8*G8 -> 0 | F8: =24+SUMIFS(Listor!$C$22:$C$23,Listor!$B$22:$B$23,Uttag!D8) -> 24 | G8: =SUM(BI8:BJ8) -> 0 | I8: =Förbrukning!H7 -> 0 | N8: =BE8 -> 0 | P8: =I8*SUMIFS(Priser!$L$3:$L$14,Priser!$A$3:$A$14,BL8) -> 0 | Q8: =Z8+AC8 -> 0 | U8: =MAX(G8-BE8,0) -> 0 | V8: =U8-W8 -> 0 | W8: =MAX(G8-BN8,0) -> 0 | X8: =COUNTIFS(V8,">0")+IF(BL8=BL7,X7,0) -> 0 | Y8: =IF(X8>=Priser!$N$6,Priser!$O$6,IF(X8>=Priser!$N$5,Priser!$O$5,IF(X8>=Priser!$N$4,Priser!$O$4,Priser!$O$3))) -> 0 | Z8: =Y8*SUMIFS(Priser!$L$3:$L$14,Priser!$A$3:$A$14,$BL8)*V8 -> 0 | AA8: =COUNTIFS(W8,">0")+IF(BL8=BL7,AA7,0) -> 0 | AB8: =IF(AA8>=Priser!$P$6,Priser!$Q$6,IF(AA8>=Priser!$P$5,Priser!$Q$5,IF(AA8>=Priser!$P$4,Priser!$Q$4,Priser!$Q$3))) -> 0 | AC8: =AB8*SUMIFS(Priser!$L$3:$L$14,Priser!$A$3:$A$14,$BL8)*W8 -> 0 | AG8: =IF(AND((K8-SUM(AH8:AM8)>0),(AN8-(K8-SUM(AH8:AM8))>0)),K8-SUM(AH8:AM8),IF((K8-SUM(AH8:AM8))>0,AN8,0)) -> 0 | AH8: =IF(AND((K8-SUM(AI8:AM8)>0),(AO8-(K8-SUM(AI8:AM8))>0)),K8-SUM(AI8:AM8),IF((K8-SUM(AI8:AM8))>0,AO8,0)) -> 0 | AI8: =IF(AND((K8-SUM(AJ8:AM8)>0),(AP8-(K8-SUM(AJ8:AM8))>0)),K8-SUM(AJ8:AM8),IF((K8-SUM(AJ8:AM8))>0,AP8,0)) -> 0 | AJ8: =IF(AND((K8-SUM(AK8:AM8)>0),(AQ8-(K8-SUM(AK8:AM8))>0)),K8-SUM(AK8:AM8),IF((K8-SUM(AK8:AM8))>0,AQ8,0)) -> 0 | AK8: =IF(AND((K8-SUM(AL8:AM8)>0),(AR8-(K8-SUM(AL8:AM8))>0)),K8-SUM(AL8:AM8),IF((K8-SUM(AL8:AM8))>0,AR8,0)) -> 0 | AL8: =IF(AND((K8-AM8)>0,(AS8-(K8-AM8))>0),(K8-AM8),IF((K8-AM8)>0,AS8,0)) -> 0 | AM8: =IF(AND(I8>0,(I8-K8)>0),K8,I8) -> 0 | AN8: =B$8 -> 0 | AO8: =IF(OR(BL8=10,BL8=11,BL8=12,BL8=1,BL8=2,BL8=3,BL8=4),B$9,$B$12) -> 0 | AP8: =IF(OR(BL8=11,BL8=12,BL8=1,BL8=2,BL8=3),B$10,) -> 0 | AQ8: =IF(OR(BL8=12,BL8=1,BL8=2),B$11,) -> 0 | AR8: =SUMIFS($B$13:$B$16,$C$13:$C$16,BM8) -> 0 | AS8: =SUMIFS($B$18:$B$29,$C$18:$C$29,BL8) -> 0 | AT8: =L8+I8 -> 0 | AX8: =MAX(AN8-AG8,0) -> 0 | AY8: =MAX(AO8-AH8,0) -> 0 | AZ8: =MAX(AP8-AI8,0) -> 0 | BA8: =MAX(AQ8-AJ8,0) -> 0 | BB8: =MAX(AR8-AK8,0) -> 0 | BC8: =MAX(AS8-AL8,0) -> 0 | BD8: =MAX(AT8-AM8,0) -> 0 | BE8: =SUM(AX8:BD8) -> 0 | BI8: =IF(Förbrukning!F7="",Förbrukning!E7,0)/IF(Förbrukning!$B$3=Listor!$B$5,F8,1) -> 0 | BJ8: =Förbrukning!F7/IF(Förbrukning!$B$3=Listor!$B$5,F8,1) -> 0 | BL8: =MONTH(D8) -> 10 | BM8: =ROUNDUP(BL8/3,0) -> 4 | BN8: =Indata!$B$6 -> 0
A9: Kap.ab Vinter 1 | B9: =Indata!B11 -> 0 | D9: =D8+1 -> 46300 | E9: =F9*G9 -> 0 | F9: =24+SUMIFS(Listor!$C$22:$C$23,Listor!$B$22:$B$23,Uttag!D9) -> 24 | G9: =SUM(BI9:BJ9) -> 0 | I9: =Förbrukning!H8 -> 0 | N9: =BE9 -> 0 | P9: =I9*SUMIFS(Priser!$L$3:$L$14,Priser!$A$3:$A$14,BL9) -> 0 | Q9: =Z9+AC9 -> 0 | U9: =MAX(G9-BE9,0) -> 0 | V9: =U9-W9 -> 0 | W9: =MAX(G9-BN9,0) -> 0 | X9: =COUNTIFS(V9,">0")+IF(BL9=BL8,X8,0) -> 0 | Y9: =IF(X9>=Priser!$N$6,Priser!$O$6,IF(X9>=Priser!$N$5,Priser!$O$5,IF(X9>=Priser!$N$4,Priser!$O$4,Priser!$O$3))) -> 0 | Z9: =Y9*SUMIFS(Priser!$L$3:$L$14,Priser!$A$3:$A$14,$BL9)*V9 -> 0 | AA9: =COUNTIFS(W9,">0")+IF(BL9=BL8,AA8,0) -> 0 | AB9: =IF(AA9>=Priser!$P$6,Priser!$Q$6,IF(AA9>=Priser!$P$5,Priser!$Q$5,IF(AA9>=Priser!$P$4,Priser!$Q$4,Priser!$Q$3))) -> 0 | AC9: =AB9*SUMIFS(Priser!$L$3:$L$14,Priser!$A$3:$A$14,$BL9)*W9 -> 0 | AG9: =IF(AND((K9-SUM(AH9:AM9)>0),(AN9-(K9-SUM(AH9:AM9))>0)),K9-SUM(AH9:AM9),IF((K9-SUM(AH9:AM9))>0,AN9,0)) -> 0 | AH9: =IF(AND((K9-SUM(AI9:AM9)>0),(AO9-(K9-SUM(AI9:AM9))>0)),K9-SUM(AI9:AM9),IF((K9-SUM(AI9:AM9))>0,AO9,0)) -> 0 | AI9: =IF(AND((K9-SUM(AJ9:AM9)>0),(AP9-(K9-SUM(AJ9:AM9))>0)),K9-SUM(AJ9:AM9),IF((K9-SUM(AJ9:AM9))>0,AP9,0)) -> 0 | AJ9: =IF(AND((K9-SUM(AK9:AM9)>0),(AQ9-(K9-SUM(AK9:AM9))>0)),K9-SUM(AK9:AM9),IF((K9-SUM(AK9:AM9))>0,AQ9,0)) -> 0 | AK9: =IF(AND((K9-SUM(AL9:AM9)>0),(AR9-(K9-SUM(AL9:AM9))>0)),K9-SUM(AL9:AM9),IF((K9-SUM(AL9:AM9))>0,AR9,0)) -> 0 | AL9: =IF(AND((K9-AM9)>0,(AS9-(K9-AM9))>0),(K9-AM9),IF((K9-AM9)>0,AS9,0)) -> 0 | AM9: =IF(AND(I9>0,(I9-K9)>0),K9,I9) -> 0 | AN9: =B$8 -> 0 | AO9: =IF(OR(BL9=10,BL9=11,BL9=12,BL9=1,BL9=2,BL9=3,BL9=4),B$9,$B$12) -> 0 | AP9: =IF(OR(BL9=11,BL9=12,BL9=1,BL9=2,BL9=3),B$10,) -> 0 | AQ9: =IF(OR(BL9=12,BL9=1,BL9=2),B$11,) -> 0 | AR9: =SUMIFS($B$13:$B$16,$C$13:$C$16,BM9) -> 0 | AS9: =SUMIFS($B$18:$B$29,$C$18:$C$29,BL9) -> 0 | AT9: =L9+I9 -> 0 | AX9: =MAX(AN9-AG9,0) -> 0 | AY9: =MAX(AO9-AH9,0) -> 0 | AZ9: =MAX(AP9-AI9,0) -> 0 | BA9: =MAX(AQ9-AJ9,0) -> 0 | BB9: =MAX(AR9-AK9,0) -> 0 | BC9: =MAX(AS9-AL9,0) -> 0 | BD9: =MAX(AT9-AM9,0) -> 0 | BE9: =SUM(AX9:BD9) -> 0 | BI9: =IF(Förbrukning!F8="",Förbrukning!E8,0)/IF(Förbrukning!$B$3=Listor!$B$5,F9,1) -> 0 | BJ9: =Förbrukning!F8/IF(Förbrukning!$B$3=Listor!$B$5,F9,1) -> 0 | BL9: =MONTH(D9) -> 10 | BM9: =ROUNDUP(BL9/3,0) -> 4 | BN9: =Indata!$B$6 -> 0
A10: Kap.ab Vinter 2 | B10: =Indata!B12 -> 0 | D10: =D9+1 -> 46301 | E10: =F10*G10 -> 0 | F10: =24+SUMIFS(Listor!$C$22:$C$23,Listor!$B$22:$B$23,Uttag!D10) -> 24 | G10: =SUM(BI10:BJ10) -> 0 | I10: =Förbrukning!H9 -> 0 | N10: =BE10 -> 0 | P10: =I10*SUMIFS(Priser!$L$3:$L$14,Priser!$A$3:$A$14,BL10) -> 0 | Q10: =Z10+AC10 -> 0 | U10: =MAX(G10-BE10,0) -> 0 | V10: =U10-W10 -> 0 | W10: =MAX(G10-BN10,0) -> 0 | X10: =COUNTIFS(V10,">0")+IF(BL10=BL9,X9,0) -> 0 | Y10: =IF(X10>=Priser!$N$6,Priser!$O$6,IF(X10>=Priser!$N$5,Priser!$O$5,IF(X10>=Priser!$N$4,Priser!$O$4,Priser!$O$3))) -> 0 | Z10: =Y10*SUMIFS(Priser!$L$3:$L$14,Priser!$A$3:$A$14,$BL10)*V10 -> 0 | AA10: =COUNTIFS(W10,">0")+IF(BL10=BL9,AA9,0) -> 0 | AB10: =IF(AA10>=Priser!$P$6,Priser!$Q$6,IF(AA10>=Priser!$P$5,Priser!$Q$5,IF(AA10>=Priser!$P$4,Priser!$Q$4,Priser!$Q$3))) -> 0 | AC10: =AB10*SUMIFS(Priser!$L$3:$L$14,Priser!$A$3:$A$14,$BL10)*W10 -> 0 | AG10: =IF(AND((K10-SUM(AH10:AM10)>0),(AN10-(K10-SUM(AH10:AM10))>0)),K10-SUM(AH10:AM10),IF((K10-SUM(AH10:AM10))>0,AN10,0)) -> 0 | AH10: =IF(AND((K10-SUM(AI10:AM10)>0),(AO10-(K10-SUM(AI10:AM10))>0)),K10-SUM(AI10:AM10),IF((K10-SUM(AI10:AM10))>0,AO10,0)) -> 0 | AI10: =IF(AND((K10-SUM(AJ10:AM10)>0),(AP10-(K10-SUM(AJ10:AM10))>0)),K10-SUM(AJ10:AM10),IF((K10-SUM(AJ10:AM10))>0,AP10,0)) -> 0 | AJ10: =IF(AND((K10-SUM(AK10:AM10)>0),(AQ10-(K10-SUM(AK10:AM10))>0)),K10-SUM(AK10:AM10),IF((K10-SUM(AK10:AM10))>0,AQ10,0)) -> 0 | AK10: =IF(AND((K10-SUM(AL10:AM10)>0),(AR10-(K10-SUM(AL10:AM10))>0)),K10-SUM(AL10:AM10),IF((K10-SUM(AL10:AM10))>0,AR10,0)) -> 0 | AL10: =IF(AND((K10-AM10)>0,(AS10-(K10-AM10))>0),(K10-AM10),IF((K10-AM10)>0,AS10,0)) -> 0 | AM10: =IF(AND(I10>0,(I10-K10)>0),K10,I10) -> 0 | AN10: =B$8 -> 0 | AO10: =IF(OR(BL10=10,BL10=11,BL10=12,BL10=1,BL10=2,BL10=3,BL10=4),B$9,$B$12) -> 0 | AP10: =IF(OR(BL10=11,BL10=12,BL10=1,BL10=2,BL10=3),B$10,) -> 0 | AQ10: =IF(OR(BL10=12,BL10=1,BL10=2),B$11,) -> 0 | AR10: =SUMIFS($B$13:$B$16,$C$13:$C$16,BM10) -> 0 | AS10: =SUMIFS($B$18:$B$29,$C$18:$C$29,BL10) -> 0 | AT10: =L10+I10 -> 0 | AX10: =MAX(AN10-AG10,0) -> 0 | AY10: =MAX(AO10-AH10,0) -> 0 | AZ10: =MAX(AP10-AI10,0) -> 0 | BA10: =MAX(AQ10-AJ10,0) -> 0 | BB10: =MAX(AR10-AK10,0) -> 0 | BC10: =MAX(AS10-AL10,0) -> 0 | BD10: =MAX(AT10-AM10,0) -> 0 | BE10: =SUM(AX10:BD10) -> 0 | BI10: =IF(Förbrukning!F9="",Förbrukning!E9,0)/IF(Förbrukning!$B$3=Listor!$B$5,F10,1) -> 0 | BJ10: =Förbrukning!F9/IF(Förbrukning!$B$3=Listor!$B$5,F10,1) -> 0 | BL10: =MONTH(D10) -> 10 | BM10: =ROUNDUP(BL10/3,0) -> 4 | BN10: =Indata!$B$6 -> 0
A11: Kap.ab Vinter 3 | B11: =Indata!B13 -> 0 | D11: =D10+1 -> 46302 | E11: =F11*G11 -> 0 | F11: =24+SUMIFS(Listor!$C$22:$C$23,Listor!$B$22:$B$23,Uttag!D11) -> 24 | G11: =SUM(BI11:BJ11) -> 0 | I11: =Förbrukning!H10 -> 0 | N11: =BE11 -> 0 | P11: =I11*SUMIFS(Priser!$L$3:$L$14,Priser!$A$3:$A$14,BL11) -> 0 | Q11: =Z11+AC11 -> 0 | U11: =MAX(G11-BE11,0) -> 0 | V11: =U11-W11 -> 0 | W11: =MAX(G11-BN11,0) -> 0 | X11: =COUNTIFS(V11,">0")+IF(BL11=BL10,X10,0) -> 0 | Y11: =IF(X11>=Priser!$N$6,Priser!$O$6,IF(X11>=Priser!$N$5,Priser!$O$5,IF(X11>=Priser!$N$4,Priser!$O$4,Priser!$O$3))) -> 0 | Z11: =Y11*SUMIFS(Priser!$L$3:$L$14,Priser!$A$3:$A$14,$BL11)*V11 -> 0 | AA11: =COUNTIFS(W11,">0")+IF(BL11=BL10,AA10,0) -> 0 | AB11: =IF(AA11>=Priser!$P$6,Priser!$Q$6,IF(AA11>=Priser!$P$5,Priser!$Q$5,IF(AA11>=Priser!$P$4,Priser!$Q$4,Priser!$Q$3))) -> 0 | AC11: =AB11*SUMIFS(Priser!$L$3:$L$14,Priser!$A$3:$A$14,$BL11)*W11 -> 0 | AG11: =IF(AND((K11-SUM(AH11:AM11)>0),(AN11-(K11-SUM(AH11:AM11))>0)),K11-SUM(AH11:AM11),IF((K11-SUM(AH11:AM11))>0,AN11,0)) -> 0 | AH11: =IF(AND((K11-SUM(AI11:AM11)>0),(AO11-(K11-SUM(AI11:AM11))>0)),K11-SUM(AI11:AM11),IF((K11-SUM(AI11:AM11))>0,AO11,0)) -> 0 | AI11: =IF(AND((K11-SUM(AJ11:AM11)>0),(AP11-(K11-SUM(AJ11:AM11))>0)),K11-SUM(AJ11:AM11),IF((K11-SUM(AJ11:AM11))>0,AP11,0)) -> 0 | AJ11: =IF(AND((K11-SUM(AK11:AM11)>0),(AQ11-(K11-SUM(AK11:AM11))>0)),K11-SUM(AK11:AM11),IF((K11-SUM(AK11:AM11))>0,AQ11,0)) -> 0 | AK11: =IF(AND((K11-SUM(AL11:AM11)>0),(AR11-(K11-SUM(AL11:AM11))>0)),K11-SUM(AL11:AM11),IF((K11-SUM(AL11:AM11))>0,AR11,0)) -> 0 | AL11: =IF(AND((K11-AM11)>0,(AS11-(K11-AM11))>0),(K11-AM11),IF((K11-AM11)>0,AS11,0)) -> 0 | AM11: =IF(AND(I11>0,(I11-K11)>0),K11,I11) -> 0 | AN11: =B$8 -> 0 | AO11: =IF(OR(BL11=10,BL11=11,BL11=12,BL11=1,BL11=2,BL11=3,BL11=4),B$9,$B$12) -> 0 | AP11: =IF(OR(BL11=11,BL11=12,BL11=1,BL11=2,BL11=3),B$10,) -> 0 | AQ11: =IF(OR(BL11=12,BL11=1,BL11=2),B$11,) -> 0 | AR11: =SUMIFS($B$13:$B$16,$C$13:$C$16,BM11) -> 0 | AS11: =SUMIFS($B$18:$B$29,$C$18:$C$29,BL11) -> 0 | AT11: =L11+I11 -> 0 | AX11: =MAX(AN11-AG11,0) -> 0 | AY11: =MAX(AO11-AH11,0) -> 0 | AZ11: =MAX(AP11-AI11,0) -> 0 | BA11: =MAX(AQ11-AJ11,0) -> 0 | BB11: =MAX(AR11-AK11,0) -> 0 | BC11: =MAX(AS11-AL11,0) -> 0 | BD11: =MAX(AT11-AM11,0) -> 0 | BE11: =SUM(AX11:BD11) -> 0 | BI11: =IF(Förbrukning!F10="",Förbrukning!E10,0)/IF(Förbrukning!$B$3=Listor!$B$5,F11,1) -> 0 | BJ11: =Förbrukning!F10/IF(Förbrukning!$B$3=Listor!$B$5,F11,1) -> 0 | BL11: =MONTH(D11) -> 10 | BM11: =ROUNDUP(BL11/3,0) -> 4 | BN11: =Indata!$B$6 -> 0
A12: Kap.ab Sommar | B12: =Indata!B14 -> 0 | D12: =D11+1 -> 46303 | E12: =F12*G12 -> 0 | F12: =24+SUMIFS(Listor!$C$22:$C$23,Listor!$B$22:$B$23,Uttag!D12) -> 24 | G12: =SUM(BI12:BJ12) -> 0 | I12: =Förbrukning!H11 -> 0 | N12: =BE12 -> 0 | P12: =I12*SUMIFS(Priser!$L$3:$L$14,Priser!$A$3:$A$14,BL12) -> 0 | Q12: =Z12+AC12 -> 0 | U12: =MAX(G12-BE12,0) -> 0 | V12: =U12-W12 -> 0 | W12: =MAX(G12-BN12,0) -> 0 | X12: =COUNTIFS(V12,">0")+IF(BL12=BL11,X11,0) -> 0 | Y12: =IF(X12>=Priser!$N$6,Priser!$O$6,IF(X12>=Priser!$N$5,Priser!$O$5,IF(X12>=Priser!$N$4,Priser!$O$4,Priser!$O$3))) -> 0 | Z12: =Y12*SUMIFS(Priser!$L$3:$L$14,Priser!$A$3:$A$14,$BL12)*V12 -> 0 | AA12: =COUNTIFS(W12,">0")+IF(BL12=BL11,AA11,0) -> 0 | AB12: =IF(AA12>=Priser!$P$6,Priser!$Q$6,IF(AA12>=Priser!$P$5,Priser!$Q$5,IF(AA12>=Priser!$P$4,Priser!$Q$4,Priser!$Q$3))) -> 0 | AC12: =AB12*SUMIFS(Priser!$L$3:$L$14,Priser!$A$3:$A$14,$BL12)*W12 -> 0 | AG12: =IF(AND((K12-SUM(AH12:AM12)>0),(AN12-(K12-SUM(AH12:AM12))>0)),K12-SUM(AH12:AM12),IF((K12-SUM(AH12:AM12))>0,AN12,0)) -> 0 | AH12: =IF(AND((K12-SUM(AI12:AM12)>0),(AO12-(K12-SUM(AI12:AM12))>0)),K12-SUM(AI12:AM12),IF((K12-SUM(AI12:AM12))>0,AO12,0)) -> 0 | AI12: =IF(AND((K12-SUM(AJ12:AM12)>0),(AP12-(K12-SUM(AJ12:AM12))>0)),K12-SUM(AJ12:AM12),IF((K12-SUM(AJ12:AM12))>0,AP12,0)) -> 0 | AJ12: =IF(AND((K12-SUM(AK12:AM12)>0),(AQ12-(K12-SUM(AK12:AM12))>0)),K12-SUM(AK12:AM12),IF((K12-SUM(AK12:AM12))>0,AQ12,0)) -> 0 | AK12: =IF(AND((K12-SUM(AL12:AM12)>0),(AR12-(K12-SUM(AL12:AM12))>0)),K12-SUM(AL12:AM12),IF((K12-SUM(AL12:AM12))>0,AR12,0)) -> 0 | AL12: =IF(AND((K12-AM12)>0,(AS12-(K12-AM12))>0),(K12-AM12),IF((K12-AM12)>0,AS12,0)) -> 0 | AM12: =IF(AND(I12>0,(I12-K12)>0),K12,I12) -> 0 | AN12: =B$8 -> 0 | AO12: =IF(OR(BL12=10,BL12=11,BL12=12,BL12=1,BL12=2,BL12=3,BL12=4),B$9,$B$12) -> 0 | AP12: =IF(OR(BL12=11,BL12=12,BL12=1,BL12=2,BL12=3),B$10,) -> 0 | AQ12: =IF(OR(BL12=12,BL12=1,BL12=2),B$11,) -> 0 | AR12: =SUMIFS($B$13:$B$16,$C$13:$C$16,BM12) -> 0 | AS12: =SUMIFS($B$18:$B$29,$C$18:$C$29,BL12) -> 0 | AT12: =L12+I12 -> 0 | AX12: =MAX(AN12-AG12,0) -> 0 | AY12: =MAX(AO12-AH12,0) -> 0 | AZ12: =MAX(AP12-AI12,0) -> 0 | BA12: =MAX(AQ12-AJ12,0) -> 0 | BB12: =MAX(AR12-AK12,0) -> 0 | BC12: =MAX(AS12-AL12,0) -> 0 | BD12: =MAX(AT12-AM12,0) -> 0 | BE12: =SUM(AX12:BD12) -> 0 | BI12: =IF(Förbrukning!F11="",Förbrukning!E11,0)/IF(Förbrukning!$B$3=Listor!$B$5,F12,1) -> 0 | BJ12: =Förbrukning!F11/IF(Förbrukning!$B$3=Listor!$B$5,F12,1) -> 0 | BL12: =MONTH(D12) -> 10 | BM12: =ROUNDUP(BL12/3,0) -> 4 | BN12: =Indata!$B$6 -> 0
A13: Kap.ab Kvartal 4 | B13: =Indata!B15 -> 0 | C13: 4 | D13: =D12+1 -> 46304 | E13: =F13*G13 -> 0 | F13: =24+SUMIFS(Listor!$C$22:$C$23,Listor!$B$22:$B$23,Uttag!D13) -> 24 | G13: =SUM(BI13:BJ13) -> 0 | I13: =Förbrukning!H12 -> 0 | N13: =BE13 -> 0 | P13: =I13*SUMIFS(Priser!$L$3:$L$14,Priser!$A$3:$A$14,BL13) -> 0 | Q13: =Z13+AC13 -> 0 | U13: =MAX(G13-BE13,0) -> 0 | V13: =U13-W13 -> 0 | W13: =MAX(G13-BN13,0) -> 0 | X13: =COUNTIFS(V13,">0")+IF(BL13=BL12,X12,0) -> 0 | Y13: =IF(X13>=Priser!$N$6,Priser!$O$6,IF(X13>=Priser!$N$5,Priser!$O$5,IF(X13>=Priser!$N$4,Priser!$O$4,Priser!$O$3))) -> 0 | Z13: =Y13*SUMIFS(Priser!$L$3:$L$14,Priser!$A$3:$A$14,$BL13)*V13 -> 0 | AA13: =COUNTIFS(W13,">0")+IF(BL13=BL12,AA12,0) -> 0 | AB13: =IF(AA13>=Priser!$P$6,Priser!$Q$6,IF(AA13>=Priser!$P$5,Priser!$Q$5,IF(AA13>=Priser!$P$4,Priser!$Q$4,Priser!$Q$3))) -> 0 | AC13: =AB13*SUMIFS(Priser!$L$3:$L$14,Priser!$A$3:$A$14,$BL13)*W13 -> 0 | AG13: =IF(AND((K13-SUM(AH13:AM13)>0),(AN13-(K13-SUM(AH13:AM13))>0)),K13-SUM(AH13:AM13),IF((K13-SUM(AH13:AM13))>0,AN13,0)) -> 0 | AH13: =IF(AND((K13-SUM(AI13:AM13)>0),(AO13-(K13-SUM(AI13:AM13))>0)),K13-SUM(AI13:AM13),IF((K13-SUM(AI13:AM13))>0,AO13,0)) -> 0 | AI13: =IF(AND((K13-SUM(AJ13:AM13)>0),(AP13-(K13-SUM(AJ13:AM13))>0)),K13-SUM(AJ13:AM13),IF((K13-SUM(AJ13:AM13))>0,AP13,0)) -> 0 | AJ13: =IF(AND((K13-SUM(AK13:AM13)>0),(AQ13-(K13-SUM(AK13:AM13))>0)),K13-SUM(AK13:AM13),IF((K13-SUM(AK13:AM13))>0,AQ13,0)) -> 0 | AK13: =IF(AND((K13-SUM(AL13:AM13)>0),(AR13-(K13-SUM(AL13:AM13))>0)),K13-SUM(AL13:AM13),IF((K13-SUM(AL13:AM13))>0,AR13,0)) -> 0 | AL13: =IF(AND((K13-AM13)>0,(AS13-(K13-AM13))>0),(K13-AM13),IF((K13-AM13)>0,AS13,0)) -> 0 | AM13: =IF(AND(I13>0,(I13-K13)>0),K13,I13) -> 0 | AN13: =B$8 -> 0 | AO13: =IF(OR(BL13=10,BL13=11,BL13=12,BL13=1,BL13=2,BL13=3,BL13=4),B$9,$B$12) -> 0 | AP13: =IF(OR(BL13=11,BL13=12,BL13=1,BL13=2,BL13=3),B$10,) -> 0 | AQ13: =IF(OR(BL13=12,BL13=1,BL13=2),B$11,) -> 0 | AR13: =SUMIFS($B$13:$B$16,$C$13:$C$16,BM13) -> 0 | AS13: =SUMIFS($B$18:$B$29,$C$18:$C$29,BL13) -> 0 | AT13: =L13+I13 -> 0 | AX13: =MAX(AN13-AG13,0) -> 0 | AY13: =MAX(AO13-AH13,0) -> 0 | AZ13: =MAX(AP13-AI13,0) -> 0 | BA13: =MAX(AQ13-AJ13,0) -> 0 | BB13: =MAX(AR13-AK13,0) -> 0 | BC13: =MAX(AS13-AL13,0) -> 0 | BD13: =MAX(AT13-AM13,0) -> 0 | BE13: =SUM(AX13:BD13) -> 0 | BI13: =IF(Förbrukning!F12="",Förbrukning!E12,0)/IF(Förbrukning!$B$3=Listor!$B$5,F13,1) -> 0 | BJ13: =Förbrukning!F12/IF(Förbrukning!$B$3=Listor!$B$5,F13,1) -> 0 | BL13: =MONTH(D13) -> 10 | BM13: =ROUNDUP(BL13/3,0) -> 4 | BN13: =Indata!$B$6 -> 0
A14: Kap.ab Kvartal 1 | B14: =Indata!B16 -> 0 | C14: 1 | D14: =D13+1 -> 46305 | E14: =F14*G14 -> 0 | F14: =24+SUMIFS(Listor!$C$22:$C$23,Listor!$B$22:$B$23,Uttag!D14) -> 24 | G14: =SUM(BI14:BJ14) -> 0 | I14: =Förbrukning!H13 -> 0 | N14: =BE14 -> 0 | P14: =I14*SUMIFS(Priser!$L$3:$L$14,Priser!$A$3:$A$14,BL14) -> 0 | Q14: =Z14+AC14 -> 0 | U14: =MAX(G14-BE14,0) -> 0 | V14: =U14-W14 -> 0 | W14: =MAX(G14-BN14,0) -> 0 | X14: =COUNTIFS(V14,">0")+IF(BL14=BL13,X13,0) -> 0 | Y14: =IF(X14>=Priser!$N$6,Priser!$O$6,IF(X14>=Priser!$N$5,Priser!$O$5,IF(X14>=Priser!$N$4,Priser!$O$4,Priser!$O$3))) -> 0 | Z14: =Y14*SUMIFS(Priser!$L$3:$L$14,Priser!$A$3:$A$14,$BL14)*V14 -> 0 | AA14: =COUNTIFS(W14,">0")+IF(BL14=BL13,AA13,0) -> 0 | AB14: =IF(AA14>=Priser!$P$6,Priser!$Q$6,IF(AA14>=Priser!$P$5,Priser!$Q$5,IF(AA14>=Priser!$P$4,Priser!$Q$4,Priser!$Q$3))) -> 0 | AC14: =AB14*SUMIFS(Priser!$L$3:$L$14,Priser!$A$3:$A$14,$BL14)*W14 -> 0 | AG14: =IF(AND((K14-SUM(AH14:AM14)>0),(AN14-(K14-SUM(AH14:AM14))>0)),K14-SUM(AH14:AM14),IF((K14-SUM(AH14:AM14))>0,AN14,0)) -> 0 | AH14: =IF(AND((K14-SUM(AI14:AM14)>0),(AO14-(K14-SUM(AI14:AM14))>0)),K14-SUM(AI14:AM14),IF((K14-SUM(AI14:AM14))>0,AO14,0)) -> 0 | AI14: =IF(AND((K14-SUM(AJ14:AM14)>0),(AP14-(K14-SUM(AJ14:AM14))>0)),K14-SUM(AJ14:AM14),IF((K14-SUM(AJ14:AM14))>0,AP14,0)) -> 0 | AJ14: =IF(AND((K14-SUM(AK14:AM14)>0),(AQ14-(K14-SUM(AK14:AM14))>0)),K14-SUM(AK14:AM14),IF((K14-SUM(AK14:AM14))>0,AQ14,0)) -> 0 | AK14: =IF(AND((K14-SUM(AL14:AM14)>0),(AR14-(K14-SUM(AL14:AM14))>0)),K14-SUM(AL14:AM14),IF((K14-SUM(AL14:AM14))>0,AR14,0)) -> 0 | AL14: =IF(AND((K14-AM14)>0,(AS14-(K14-AM14))>0),(K14-AM14),IF((K14-AM14)>0,AS14,0)) -> 0 | AM14: =IF(AND(I14>0,(I14-K14)>0),K14,I14) -> 0 | AN14: =B$8 -> 0 | AO14: =IF(OR(BL14=10,BL14=11,BL14=12,BL14=1,BL14=2,BL14=3,BL14=4),B$9,$B$12) -> 0 | AP14: =IF(OR(BL14=11,BL14=12,BL14=1,BL14=2,BL14=3),B$10,) -> 0 | AQ14: =IF(OR(BL14=12,BL14=1,BL14=2),B$11,) -> 0 | AR14: =SUMIFS($B$13:$B$16,$C$13:$C$16,BM14) -> 0 | AS14: =SUMIFS($B$18:$B$29,$C$18:$C$29,BL14) -> 0 | AT14: =L14+I14 -> 0 | AX14: =MAX(AN14-AG14,0) -> 0 | AY14: =MAX(AO14-AH14,0) -> 0 | AZ14: =MAX(AP14-AI14,0) -> 0 | BA14: =MAX(AQ14-AJ14,0) -> 0 | BB14: =MAX(AR14-AK14,0) -> 0 | BC14: =MAX(AS14-AL14,0) -> 0 | BD14: =MAX(AT14-AM14,0) -> 0 | BE14: =SUM(AX14:BD14) -> 0 | BI14: =IF(Förbrukning!F13="",Förbrukning!E13,0)/IF(Förbrukning!$B$3=Listor!$B$5,F14,1) -> 0 | BJ14: =Förbrukning!F13/IF(Förbrukning!$B$3=Listor!$B$5,F14,1) -> 0 | BL14: =MONTH(D14) -> 10 | BM14: =ROUNDUP(BL14/3,0) -> 4 | BN14: =Indata!$B$6 -> 0
A15: Kap.ab Kvartal 2 | B15: =Indata!B17 -> 0 | C15: 2 | D15: =D14+1 -> 46306 | E15: =F15*G15 -> 0 | F15: =24+SUMIFS(Listor!$C$22:$C$23,Listor!$B$22:$B$23,Uttag!D15) -> 24 | G15: =SUM(BI15:BJ15) -> 0 | I15: =Förbrukning!H14 -> 0 | N15: =BE15 -> 0 | P15: =I15*SUMIFS(Priser!$L$3:$L$14,Priser!$A$3:$A$14,BL15) -> 0 | Q15: =Z15+AC15 -> 0 | U15: =MAX(G15-BE15,0) -> 0 | V15: =U15-W15 -> 0 | W15: =MAX(G15-BN15,0) -> 0 | X15: =COUNTIFS(V15,">0")+IF(BL15=BL14,X14,0) -> 0 | Y15: =IF(X15>=Priser!$N$6,Priser!$O$6,IF(X15>=Priser!$N$5,Priser!$O$5,IF(X15>=Priser!$N$4,Priser!$O$4,Priser!$O$3))) -> 0 | Z15: =Y15*SUMIFS(Priser!$L$3:$L$14,Priser!$A$3:$A$14,$BL15)*V15 -> 0 | AA15: =COUNTIFS(W15,">0")+IF(BL15=BL14,AA14,0) -> 0 | AB15: =IF(AA15>=Priser!$P$6,Priser!$Q$6,IF(AA15>=Priser!$P$5,Priser!$Q$5,IF(AA15>=Priser!$P$4,Priser!$Q$4,Priser!$Q$3))) -> 0 | AC15: =AB15*SUMIFS(Priser!$L$3:$L$14,Priser!$A$3:$A$14,$BL15)*W15 -> 0 | AG15: =IF(AND((K15-SUM(AH15:AM15)>0),(AN15-(K15-SUM(AH15:AM15))>0)),K15-SUM(AH15:AM15),IF((K15-SUM(AH15:AM15))>0,AN15,0)) -> 0 | AH15: =IF(AND((K15-SUM(AI15:AM15)>0),(AO15-(K15-SUM(AI15:AM15))>0)),K15-SUM(AI15:AM15),IF((K15-SUM(AI15:AM15))>0,AO15,0)) -> 0 | AI15: =IF(AND((K15-SUM(AJ15:AM15)>0),(AP15-(K15-SUM(AJ15:AM15))>0)),K15-SUM(AJ15:AM15),IF((K15-SUM(AJ15:AM15))>0,AP15,0)) -> 0 | AJ15: =IF(AND((K15-SUM(AK15:AM15)>0),(AQ15-(K15-SUM(AK15:AM15))>0)),K15-SUM(AK15:AM15),IF((K15-SUM(AK15:AM15))>0,AQ15,0)) -> 0 | AK15: =IF(AND((K15-SUM(AL15:AM15)>0),(AR15-(K15-SUM(AL15:AM15))>0)),K15-SUM(AL15:AM15),IF((K15-SUM(AL15:AM15))>0,AR15,0)) -> 0 | AL15: =IF(AND((K15-AM15)>0,(AS15-(K15-AM15))>0),(K15-AM15),IF((K15-AM15)>0,AS15,0)) -> 0 | AM15: =IF(AND(I15>0,(I15-K15)>0),K15,I15) -> 0 | AN15: =B$8 -> 0 | AO15: =IF(OR(BL15=10,BL15=11,BL15=12,BL15=1,BL15=2,BL15=3,BL15=4),B$9,$B$12) -> 0 | AP15: =IF(OR(BL15=11,BL15=12,BL15=1,BL15=2,BL15=3),B$10,) -> 0 | AQ15: =IF(OR(BL15=12,BL15=1,BL15=2),B$11,) -> 0 | AR15: =SUMIFS($B$13:$B$16,$C$13:$C$16,BM15) -> 0 | AS15: =SUMIFS($B$18:$B$29,$C$18:$C$29,BL15) -> 0 | AT15: =L15+I15 -> 0 | AX15: =MAX(AN15-AG15,0) -> 0 | AY15: =MAX(AO15-AH15,0) -> 0 | AZ15: =MAX(AP15-AI15,0) -> 0 | BA15: =MAX(AQ15-AJ15,0) -> 0 | BB15: =MAX(AR15-AK15,0) -> 0 | BC15: =MAX(AS15-AL15,0) -> 0 | BD15: =MAX(AT15-AM15,0) -> 0 | BE15: =SUM(AX15:BD15) -> 0 | BI15: =IF(Förbrukning!F14="",Förbrukning!E14,0)/IF(Förbrukning!$B$3=Listor!$B$5,F15,1) -> 0 | BJ15: =Förbrukning!F14/IF(Förbrukning!$B$3=Listor!$B$5,F15,1) -> 0 | BL15: =MONTH(D15) -> 10 | BM15: =ROUNDUP(BL15/3,0) -> 4 | BN15: =Indata!$B$6 -> 0
A16: Kap.ab Kvartal 3 | B16: =Indata!B18 -> 0 | C16: 3 | D16: =D15+1 -> 46307 | E16: =F16*G16 -> 0 | F16: =24+SUMIFS(Listor!$C$22:$C$23,Listor!$B$22:$B$23,Uttag!D16) -> 24 | G16: =SUM(BI16:BJ16) -> 0 | I16: =Förbrukning!H15 -> 0 | N16: =BE16 -> 0 | P16: =I16*SUMIFS(Priser!$L$3:$L$14,Priser!$A$3:$A$14,BL16) -> 0 | Q16: =Z16+AC16 -> 0 | U16: =MAX(G16-BE16,0) -> 0 | V16: =U16-W16 -> 0 | W16: =MAX(G16-BN16,0) -> 0 | X16: =COUNTIFS(V16,">0")+IF(BL16=BL15,X15,0) -> 0 | Y16: =IF(X16>=Priser!$N$6,Priser!$O$6,IF(X16>=Priser!$N$5,Priser!$O$5,IF(X16>=Priser!$N$4,Priser!$O$4,Priser!$O$3))) -> 0 | Z16: =Y16*SUMIFS(Priser!$L$3:$L$14,Priser!$A$3:$A$14,$BL16)*V16 -> 0 | AA16: =COUNTIFS(W16,">0")+IF(BL16=BL15,AA15,0) -> 0 | AB16: =IF(AA16>=Priser!$P$6,Priser!$Q$6,IF(AA16>=Priser!$P$5,Priser!$Q$5,IF(AA16>=Priser!$P$4,Priser!$Q$4,Priser!$Q$3))) -> 0 | AC16: =AB16*SUMIFS(Priser!$L$3:$L$14,Priser!$A$3:$A$14,$BL16)*W16 -> 0 | AG16: =IF(AND((K16-SUM(AH16:AM16)>0),(AN16-(K16-SUM(AH16:AM16))>0)),K16-SUM(AH16:AM16),IF((K16-SUM(AH16:AM16))>0,AN16,0)) -> 0 | AH16: =IF(AND((K16-SUM(AI16:AM16)>0),(AO16-(K16-SUM(AI16:AM16))>0)),K16-SUM(AI16:AM16),IF((K16-SUM(AI16:AM16))>0,AO16,0)) -> 0 | AI16: =IF(AND((K16-SUM(AJ16:AM16)>0),(AP16-(K16-SUM(AJ16:AM16))>0)),K16-SUM(AJ16:AM16),IF((K16-SUM(AJ16:AM16))>0,AP16,0)) -> 0 | AJ16: =IF(AND((K16-SUM(AK16:AM16)>0),(AQ16-(K16-SUM(AK16:AM16))>0)),K16-SUM(AK16:AM16),IF((K16-SUM(AK16:AM16))>0,AQ16,0)) -> 0 | AK16: =IF(AND((K16-SUM(AL16:AM16)>0),(AR16-(K16-SUM(AL16:AM16))>0)),K16-SUM(AL16:AM16),IF((K16-SUM(AL16:AM16))>0,AR16,0)) -> 0 | AL16: =IF(AND((K16-AM16)>0,(AS16-(K16-AM16))>0),(K16-AM16),IF((K16-AM16)>0,AS16,0)) -> 0 | AM16: =IF(AND(I16>0,(I16-K16)>0),K16,I16) -> 0 | AN16: =B$8 -> 0 | AO16: =IF(OR(BL16=10,BL16=11,BL16=12,BL16=1,BL16=2,BL16=3,BL16=4),B$9,$B$12) -> 0 | AP16: =IF(OR(BL16=11,BL16=12,BL16=1,BL16=2,BL16=3),B$10,) -> 0 | AQ16: =IF(OR(BL16=12,BL16=1,BL16=2),B$11,) -> 0 | AR16: =SUMIFS($B$13:$B$16,$C$13:$C$16,BM16) -> 0 | AS16: =SUMIFS($B$18:$B$29,$C$18:$C$29,BL16) -> 0 | AT16: =L16+I16 -> 0 | AX16: =MAX(AN16-AG16,0) -> 0 | AY16: =MAX(AO16-AH16,0) -> 0 | AZ16: =MAX(AP16-AI16,0) -> 0 | BA16: =MAX(AQ16-AJ16,0) -> 0 | BB16: =MAX(AR16-AK16,0) -> 0 | BC16: =MAX(AS16-AL16,0) -> 0 | BD16: =MAX(AT16-AM16,0) -> 0 | BE16: =SUM(AX16:BD16) -> 0 | BI16: =IF(Förbrukning!F15="",Förbrukning!E15,0)/IF(Förbrukning!$B$3=Listor!$B$5,F16,1) -> 0 | BJ16: =Förbrukning!F15/IF(Förbrukning!$B$3=Listor!$B$5,F16,1) -> 0 | BL16: =MONTH(D16) -> 10 | BM16: =ROUNDUP(BL16/3,0) -> 4 | BN16: =Indata!$B$6 -> 0
D17: =D16+1 -> 46308 | E17: =F17*G17 -> 0 | F17: =24+SUMIFS(Listor!$C$22:$C$23,Listor!$B$22:$B$23,Uttag!D17) -> 24 | G17: =SUM(BI17:BJ17) -> 0 | I17: =Förbrukning!H16 -> 0 | N17: =BE17 -> 0 | P17: =I17*SUMIFS(Priser!$L$3:$L$14,Priser!$A$3:$A$14,BL17) -> 0 | Q17: =Z17+AC17 -> 0 | U17: =MAX(G17-BE17,0) -> 0 | V17: =U17-W17 -> 0 | W17: =MAX(G17-BN17,0) -> 0 | X17: =COUNTIFS(V17,">0")+IF(BL17=BL16,X16,0) -> 0 | Y17: =IF(X17>=Priser!$N$6,Priser!$O$6,IF(X17>=Priser!$N$5,Priser!$O$5,IF(X17>=Priser!$N$4,Priser!$O$4,Priser!$O$3))) -> 0 | Z17: =Y17*SUMIFS(Priser!$L$3:$L$14,Priser!$A$3:$A$14,$BL17)*V17 -> 0 | AA17: =COUNTIFS(W17,">0")+IF(BL17=BL16,AA16,0) -> 0 | AB17: =IF(AA17>=Priser!$P$6,Priser!$Q$6,IF(AA17>=Priser!$P$5,Priser!$Q$5,IF(AA17>=Priser!$P$4,Priser!$Q$4,Priser!$Q$3))) -> 0 | AC17: =AB17*SUMIFS(Priser!$L$3:$L$14,Priser!$A$3:$A$14,$BL17)*W17 -> 0 | AG17: =IF(AND((K17-SUM(AH17:AM17)>0),(AN17-(K17-SUM(AH17:AM17))>0)),K17-SUM(AH17:AM17),IF((K17-SUM(AH17:AM17))>0,AN17,0)) -> 0 | AH17: =IF(AND((K17-SUM(AI17:AM17)>0),(AO17-(K17-SUM(AI17:AM17))>0)),K17-SUM(AI17:AM17),IF((K17-SUM(AI17:AM17))>0,AO17,0)) -> 0 | AI17: =IF(AND((K17-SUM(AJ17:AM17)>0),(AP17-(K17-SUM(AJ17:AM17))>0)),K17-SUM(AJ17:AM17),IF((K17-SUM(AJ17:AM17))>0,AP17,0)) -> 0 | AJ17: =IF(AND((K17-SUM(AK17:AM17)>0),(AQ17-(K17-SUM(AK17:AM17))>0)),K17-SUM(AK17:AM17),IF((K17-SUM(AK17:AM17))>0,AQ17,0)) -> 0 | AK17: =IF(AND((K17-SUM(AL17:AM17)>0),(AR17-(K17-SUM(AL17:AM17))>0)),K17-SUM(AL17:AM17),IF((K17-SUM(AL17:AM17))>0,AR17,0)) -> 0 | AL17: =IF(AND((K17-AM17)>0,(AS17-(K17-AM17))>0),(K17-AM17),IF((K17-AM17)>0,AS17,0)) -> 0 | AM17: =IF(AND(I17>0,(I17-K17)>0),K17,I17) -> 0 | AN17: =B$8 -> 0 | AO17: =IF(OR(BL17=10,BL17=11,BL17=12,BL17=1,BL17=2,BL17=3,BL17=4),B$9,$B$12) -> 0 | AP17: =IF(OR(BL17=11,BL17=12,BL17=1,BL17=2,BL17=3),B$10,) -> 0 | AQ17: =IF(OR(BL17=12,BL17=1,BL17=2),B$11,) -> 0 | AR17: =SUMIFS($B$13:$B$16,$C$13:$C$16,BM17) -> 0 | AS17: =SUMIFS($B$18:$B$29,$C$18:$C$29,BL17) -> 0 | AT17: =L17+I17 -> 0 | AX17: =MAX(AN17-AG17,0) -> 0 | AY17: =MAX(AO17-AH17,0) -> 0 | AZ17: =MAX(AP17-AI17,0) -> 0 | BA17: =MAX(AQ17-AJ17,0) -> 0 | BB17: =MAX(AR17-AK17,0) -> 0 | BC17: =MAX(AS17-AL17,0) -> 0 | BD17: =MAX(AT17-AM17,0) -> 0 | BE17: =SUM(AX17:BD17) -> 0 | BI17: =IF(Förbrukning!F16="",Förbrukning!E16,0)/IF(Förbrukning!$B$3=Listor!$B$5,F17,1) -> 0 | BJ17: =Förbrukning!F16/IF(Förbrukning!$B$3=Listor!$B$5,F17,1) -> 0 | BL17: =MONTH(D17) -> 10 | BM17: =ROUNDUP(BL17/3,0) -> 4 | BN17: =Indata!$B$6 -> 0
A18: Kap.ab Oktober | B18: =Indata!B20 -> 0 | C18: 10 | D18: =D17+1 -> 46309 | E18: =F18*G18 -> 0 | F18: =24+SUMIFS(Listor!$C$22:$C$23,Listor!$B$22:$B$23,Uttag!D18) -> 24 | G18: =SUM(BI18:BJ18) -> 0 | I18: =Förbrukning!H17 -> 0 | N18: =BE18 -> 0 | P18: =I18*SUMIFS(Priser!$L$3:$L$14,Priser!$A$3:$A$14,BL18) -> 0 | Q18: =Z18+AC18 -> 0 | U18: =MAX(G18-BE18,0) -> 0 | V18: =U18-W18 -> 0 | W18: =MAX(G18-BN18,0) -> 0 | X18: =COUNTIFS(V18,">0")+IF(BL18=BL17,X17,0) -> 0 | Y18: =IF(X18>=Priser!$N$6,Priser!$O$6,IF(X18>=Priser!$N$5,Priser!$O$5,IF(X18>=Priser!$N$4,Priser!$O$4,Priser!$O$3))) -> 0 | Z18: =Y18*SUMIFS(Priser!$L$3:$L$14,Priser!$A$3:$A$14,$BL18)*V18 -> 0 | AA18: =COUNTIFS(W18,">0")+IF(BL18=BL17,AA17,0) -> 0 | AB18: =IF(AA18>=Priser!$P$6,Priser!$Q$6,IF(AA18>=Priser!$P$5,Priser!$Q$5,IF(AA18>=Priser!$P$4,Priser!$Q$4,Priser!$Q$3))) -> 0 | AC18: =AB18*SUMIFS(Priser!$L$3:$L$14,Priser!$A$3:$A$14,$BL18)*W18 -> 0 | AG18: =IF(AND((K18-SUM(AH18:AM18)>0),(AN18-(K18-SUM(AH18:AM18))>0)),K18-SUM(AH18:AM18),IF((K18-SUM(AH18:AM18))>0,AN18,0)) -> 0 | AH18: =IF(AND((K18-SUM(AI18:AM18)>0),(AO18-(K18-SUM(AI18:AM18))>0)),K18-SUM(AI18:AM18),IF((K18-SUM(AI18:AM18))>0,AO18,0)) -> 0 | AI18: =IF(AND((K18-SUM(AJ18:AM18)>0),(AP18-(K18-SUM(AJ18:AM18))>0)),K18-SUM(AJ18:AM18),IF((K18-SUM(AJ18:AM18))>0,AP18,0)) -> 0 | AJ18: =IF(AND((K18-SUM(AK18:AM18)>0),(AQ18-(K18-SUM(AK18:AM18))>0)),K18-SUM(AK18:AM18),IF((K18-SUM(AK18:AM18))>0,AQ18,0)) -> 0 | AK18: =IF(AND((K18-SUM(AL18:AM18)>0),(AR18-(K18-SUM(AL18:AM18))>0)),K18-SUM(AL18:AM18),IF((K18-SUM(AL18:AM18))>0,AR18,0)) -> 0 | AL18: =IF(AND((K18-AM18)>0,(AS18-(K18-AM18))>0),(K18-AM18),IF((K18-AM18)>0,AS18,0)) -> 0 | AM18: =IF(AND(I18>0,(I18-K18)>0),K18,I18) -> 0 | AN18: =B$8 -> 0 | AO18: =IF(OR(BL18=10,BL18=11,BL18=12,BL18=1,BL18=2,BL18=3,BL18=4),B$9,$B$12) -> 0 | AP18: =IF(OR(BL18=11,BL18=12,BL18=1,BL18=2,BL18=3),B$10,) -> 0 | AQ18: =IF(OR(BL18=12,BL18=1,BL18=2),B$11,) -> 0 | AR18: =SUMIFS($B$13:$B$16,$C$13:$C$16,BM18) -> 0 | AS18: =SUMIFS($B$18:$B$29,$C$18:$C$29,BL18) -> 0 | AT18: =L18+I18 -> 0 | AX18: =MAX(AN18-AG18,0) -> 0 | AY18: =MAX(AO18-AH18,0) -> 0 | AZ18: =MAX(AP18-AI18,0) -> 0 | BA18: =MAX(AQ18-AJ18,0) -> 0 | BB18: =MAX(AR18-AK18,0) -> 0 | BC18: =MAX(AS18-AL18,0) -> 0 | BD18: =MAX(AT18-AM18,0) -> 0 | BE18: =SUM(AX18:BD18) -> 0 | BI18: =IF(Förbrukning!F17="",Förbrukning!E17,0)/IF(Förbrukning!$B$3=Listor!$B$5,F18,1) -> 0 | BJ18: =Förbrukning!F17/IF(Förbrukning!$B$3=Listor!$B$5,F18,1) -> 0 | BL18: =MONTH(D18) -> 10 | BM18: =ROUNDUP(BL18/3,0) -> 4 | BN18: =Indata!$B$6 -> 0
A19: Kap.ab November | B19: =Indata!B21 -> 0 | C19: 11 | D19: =D18+1 -> 46310 | E19: =F19*G19 -> 0 | F19: =24+SUMIFS(Listor!$C$22:$C$23,Listor!$B$22:$B$23,Uttag!D19) -> 24 | G19: =SUM(BI19:BJ19) -> 0 | I19: =Förbrukning!H18 -> 0 | N19: =BE19 -> 0 | P19: =I19*SUMIFS(Priser!$L$3:$L$14,Priser!$A$3:$A$14,BL19) -> 0 | Q19: =Z19+AC19 -> 0 | U19: =MAX(G19-BE19,0) -> 0 | V19: =U19-W19 -> 0 | W19: =MAX(G19-BN19,0) -> 0 | X19: =COUNTIFS(V19,">0")+IF(BL19=BL18,X18,0) -> 0 | Y19: =IF(X19>=Priser!$N$6,Priser!$O$6,IF(X19>=Priser!$N$5,Priser!$O$5,IF(X19>=Priser!$N$4,Priser!$O$4,Priser!$O$3))) -> 0 | Z19: =Y19*SUMIFS(Priser!$L$3:$L$14,Priser!$A$3:$A$14,$BL19)*V19 -> 0 | AA19: =COUNTIFS(W19,">0")+IF(BL19=BL18,AA18,0) -> 0 | AB19: =IF(AA19>=Priser!$P$6,Priser!$Q$6,IF(AA19>=Priser!$P$5,Priser!$Q$5,IF(AA19>=Priser!$P$4,Priser!$Q$4,Priser!$Q$3))) -> 0 | AC19: =AB19*SUMIFS(Priser!$L$3:$L$14,Priser!$A$3:$A$14,$BL19)*W19 -> 0 | AG19: =IF(AND((K19-SUM(AH19:AM19)>0),(AN19-(K19-SUM(AH19:AM19))>0)),K19-SUM(AH19:AM19),IF((K19-SUM(AH19:AM19))>0,AN19,0)) -> 0 | AH19: =IF(AND((K19-SUM(AI19:AM19)>0),(AO19-(K19-SUM(AI19:AM19))>0)),K19-SUM(AI19:AM19),IF((K19-SUM(AI19:AM19))>0,AO19,0)) -> 0 | AI19: =IF(AND((K19-SUM(AJ19:AM19)>0),(AP19-(K19-SUM(AJ19:AM19))>0)),K19-SUM(AJ19:AM19),IF((K19-SUM(AJ19:AM19))>0,AP19,0)) -> 0 | AJ19: =IF(AND((K19-SUM(AK19:AM19)>0),(AQ19-(K19-SUM(AK19:AM19))>0)),K19-SUM(AK19:AM19),IF((K19-SUM(AK19:AM19))>0,AQ19,0)) -> 0 | AK19: =IF(AND((K19-SUM(AL19:AM19)>0),(AR19-(K19-SUM(AL19:AM19))>0)),K19-SUM(AL19:AM19),IF((K19-SUM(AL19:AM19))>0,AR19,0)) -> 0 | AL19: =IF(AND((K19-AM19)>0,(AS19-(K19-AM19))>0),(K19-AM19),IF((K19-AM19)>0,AS19,0)) -> 0 | AM19: =IF(AND(I19>0,(I19-K19)>0),K19,I19) -> 0 | AN19: =B$8 -> 0 | AO19: =IF(OR(BL19=10,BL19=11,BL19=12,BL19=1,BL19=2,BL19=3,BL19=4),B$9,$B$12) -> 0 | AP19: =IF(OR(BL19=11,BL19=12,BL19=1,BL19=2,BL19=3),B$10,) -> 0 | AQ19: =IF(OR(BL19=12,BL19=1,BL19=2),B$11,) -> 0 | AR19: =SUMIFS($B$13:$B$16,$C$13:$C$16,BM19) -> 0 | AS19: =SUMIFS($B$18:$B$29,$C$18:$C$29,BL19) -> 0 | AT19: =L19+I19 -> 0 | AX19: =MAX(AN19-AG19,0) -> 0 | AY19: =MAX(AO19-AH19,0) -> 0 | AZ19: =MAX(AP19-AI19,0) -> 0 | BA19: =MAX(AQ19-AJ19,0) -> 0 | BB19: =MAX(AR19-AK19,0) -> 0 | BC19: =MAX(AS19-AL19,0) -> 0 | BD19: =MAX(AT19-AM19,0) -> 0 | BE19: =SUM(AX19:BD19) -> 0 | BI19: =IF(Förbrukning!F18="",Förbrukning!E18,0)/IF(Förbrukning!$B$3=Listor!$B$5,F19,1) -> 0 | BJ19: =Förbrukning!F18/IF(Förbrukning!$B$3=Listor!$B$5,F19,1) -> 0 | BL19: =MONTH(D19) -> 10 | BM19: =ROUNDUP(BL19/3,0) -> 4 | BN19: =Indata!$B$6 -> 0
A20: Kap.ab December | B20: =Indata!B22 -> 0 | C20: 12 | D20: =D19+1 -> 46311 | E20: =F20*G20 -> 0 | F20: =24+SUMIFS(Listor!$C$22:$C$23,Listor!$B$22:$B$23,Uttag!D20) -> 24 | G20: =SUM(BI20:BJ20) -> 0 | I20: =Förbrukning!H19 -> 0 | N20: =BE20 -> 0 | P20: =I20*SUMIFS(Priser!$L$3:$L$14,Priser!$A$3:$A$14,BL20) -> 0 | Q20: =Z20+AC20 -> 0 | U20: =MAX(G20-BE20,0) -> 0 | V20: =U20-W20 -> 0 | W20: =MAX(G20-BN20,0) -> 0 | X20: =COUNTIFS(V20,">0")+IF(BL20=BL19,X19,0) -> 0 | Y20: =IF(X20>=Priser!$N$6,Priser!$O$6,IF(X20>=Priser!$N$5,Priser!$O$5,IF(X20>=Priser!$N$4,Priser!$O$4,Priser!$O$3))) -> 0 | Z20: =Y20*SUMIFS(Priser!$L$3:$L$14,Priser!$A$3:$A$14,$BL20)*V20 -> 0 | AA20: =COUNTIFS(W20,">0")+IF(BL20=BL19,AA19,0) -> 0 | AB20: =IF(AA20>=Priser!$P$6,Priser!$Q$6,IF(AA20>=Priser!$P$5,Priser!$Q$5,IF(AA20>=Priser!$P$4,Priser!$Q$4,Priser!$Q$3))) -> 0 | AC20: =AB20*SUMIFS(Priser!$L$3:$L$14,Priser!$A$3:$A$14,$BL20)*W20 -> 0 | AG20: =IF(AND((K20-SUM(AH20:AM20)>0),(AN20-(K20-SUM(AH20:AM20))>0)),K20-SUM(AH20:AM20),IF((K20-SUM(AH20:AM20))>0,AN20,0)) -> 0 | AH20: =IF(AND((K20-SUM(AI20:AM20)>0),(AO20-(K20-SUM(AI20:AM20))>0)),K20-SUM(AI20:AM20),IF((K20-SUM(AI20:AM20))>0,AO20,0)) -> 0 | AI20: =IF(AND((K20-SUM(AJ20:AM20)>0),(AP20-(K20-SUM(AJ20:AM20))>0)),K20-SUM(AJ20:AM20),IF((K20-SUM(AJ20:AM20))>0,AP20,0)) -> 0 | AJ20: =IF(AND((K20-SUM(AK20:AM20)>0),(AQ20-(K20-SUM(AK20:AM20))>0)),K20-SUM(AK20:AM20),IF((K20-SUM(AK20:AM20))>0,AQ20,0)) -> 0 | AK20: =IF(AND((K20-SUM(AL20:AM20)>0),(AR20-(K20-SUM(AL20:AM20))>0)),K20-SUM(AL20:AM20),IF((K20-SUM(AL20:AM20))>0,AR20,0)) -> 0 | AL20: =IF(AND((K20-AM20)>0,(AS20-(K20-AM20))>0),(K20-AM20),IF((K20-AM20)>0,AS20,0)) -> 0 | AM20: =IF(AND(I20>0,(I20-K20)>0),K20,I20) -> 0 | AN20: =B$8 -> 0 | AO20: =IF(OR(BL20=10,BL20=11,BL20=12,BL20=1,BL20=2,BL20=3,BL20=4),B$9,$B$12) -> 0 | AP20: =IF(OR(BL20=11,BL20=12,BL20=1,BL20=2,BL20=3),B$10,) -> 0 | AQ20: =IF(OR(BL20=12,BL20=1,BL20=2),B$11,) -> 0 | AR20: =SUMIFS($B$13:$B$16,$C$13:$C$16,BM20) -> 0 | AS20: =SUMIFS($B$18:$B$29,$C$18:$C$29,BL20) -> 0 | AT20: =L20+I20 -> 0 | AX20: =MAX(AN20-AG20,0) -> 0 | AY20: =MAX(AO20-AH20,0) -> 0 | AZ20: =MAX(AP20-AI20,0) -> 0 | BA20: =MAX(AQ20-AJ20,0) -> 0 | BB20: =MAX(AR20-AK20,0) -> 0 | BC20: =MAX(AS20-AL20,0) -> 0 | BD20: =MAX(AT20-AM20,0) -> 0 | BE20: =SUM(AX20:BD20) -> 0 | BI20: =IF(Förbrukning!F19="",Förbrukning!E19,0)/IF(Förbrukning!$B$3=Listor!$B$5,F20,1) -> 0 | BJ20: =Förbrukning!F19/IF(Förbrukning!$B$3=Listor!$B$5,F20,1) -> 0 | BL20: =MONTH(D20) -> 10 | BM20: =ROUNDUP(BL20/3,0) -> 4 | BN20: =Indata!$B$6 -> 0
A21: Kap.ab Januari | B21: =Indata!B23 -> 0 | C21: 1 | D21: =D20+1 -> 46312 | E21: =F21*G21 -> 0 | F21: =24+SUMIFS(Listor!$C$22:$C$23,Listor!$B$22:$B$23,Uttag!D21) -> 24 | G21: =SUM(BI21:BJ21) -> 0 | I21: =Förbrukning!H20 -> 0 | N21: =BE21 -> 0 | P21: =I21*SUMIFS(Priser!$L$3:$L$14,Priser!$A$3:$A$14,BL21) -> 0 | Q21: =Z21+AC21 -> 0 | U21: =MAX(G21-BE21,0) -> 0 | V21: =U21-W21 -> 0 | W21: =MAX(G21-BN21,0) -> 0 | X21: =COUNTIFS(V21,">0")+IF(BL21=BL20,X20,0) -> 0 | Y21: =IF(X21>=Priser!$N$6,Priser!$O$6,IF(X21>=Priser!$N$5,Priser!$O$5,IF(X21>=Priser!$N$4,Priser!$O$4,Priser!$O$3))) -> 0 | Z21: =Y21*SUMIFS(Priser!$L$3:$L$14,Priser!$A$3:$A$14,$BL21)*V21 -> 0 | AA21: =COUNTIFS(W21,">0")+IF(BL21=BL20,AA20,0) -> 0 | AB21: =IF(AA21>=Priser!$P$6,Priser!$Q$6,IF(AA21>=Priser!$P$5,Priser!$Q$5,IF(AA21>=Priser!$P$4,Priser!$Q$4,Priser!$Q$3))) -> 0 | AC21: =AB21*SUMIFS(Priser!$L$3:$L$14,Priser!$A$3:$A$14,$BL21)*W21 -> 0 | AG21: =IF(AND((K21-SUM(AH21:AM21)>0),(AN21-(K21-SUM(AH21:AM21))>0)),K21-SUM(AH21:AM21),IF((K21-SUM(AH21:AM21))>0,AN21,0)) -> 0 | AH21: =IF(AND((K21-SUM(AI21:AM21)>0),(AO21-(K21-SUM(AI21:AM21))>0)),K21-SUM(AI21:AM21),IF((K21-SUM(AI21:AM21))>0,AO21,0)) -> 0 | AI21: =IF(AND((K21-SUM(AJ21:AM21)>0),(AP21-(K21-SUM(AJ21:AM21))>0)),K21-SUM(AJ21:AM21),IF((K21-SUM(AJ21:AM21))>0,AP21,0)) -> 0 | AJ21: =IF(AND((K21-SUM(AK21:AM21)>0),(AQ21-(K21-SUM(AK21:AM21))>0)),K21-SUM(AK21:AM21),IF((K21-SUM(AK21:AM21))>0,AQ21,0)) -> 0 | AK21: =IF(AND((K21-SUM(AL21:AM21)>0),(AR21-(K21-SUM(AL21:AM21))>0)),K21-SUM(AL21:AM21),IF((K21-SUM(AL21:AM21))>0,AR21,0)) -> 0 | AL21: =IF(AND((K21-AM21)>0,(AS21-(K21-AM21))>0),(K21-AM21),IF((K21-AM21)>0,AS21,0)) -> 0 | AM21: =IF(AND(I21>0,(I21-K21)>0),K21,I21) -> 0 | AN21: =B$8 -> 0 | AO21: =IF(OR(BL21=10,BL21=11,BL21=12,BL21=1,BL21=2,BL21=3,BL21=4),B$9,$B$12) -> 0 | AP21: =IF(OR(BL21=11,BL21=12,BL21=1,BL21=2,BL21=3),B$10,) -> 0 | AQ21: =IF(OR(BL21=12,BL21=1,BL21=2),B$11,) -> 0 | AR21: =SUMIFS($B$13:$B$16,$C$13:$C$16,BM21) -> 0 | AS21: =SUMIFS($B$18:$B$29,$C$18:$C$29,BL21) -> 0 | AT21: =L21+I21 -> 0 | AX21: =MAX(AN21-AG21,0) -> 0 | AY21: =MAX(AO21-AH21,0) -> 0 | AZ21: =MAX(AP21-AI21,0) -> 0 | BA21: =MAX(AQ21-AJ21,0) -> 0 | BB21: =MAX(AR21-AK21,0) -> 0 | BC21: =MAX(AS21-AL21,0) -> 0 | BD21: =MAX(AT21-AM21,0) -> 0 | BE21: =SUM(AX21:BD21) -> 0 | BI21: =IF(Förbrukning!F20="",Förbrukning!E20,0)/IF(Förbrukning!$B$3=Listor!$B$5,F21,1) -> 0 | BJ21: =Förbrukning!F20/IF(Förbrukning!$B$3=Listor!$B$5,F21,1) -> 0 | BL21: =MONTH(D21) -> 10 | BM21: =ROUNDUP(BL21/3,0) -> 4 | BN21: =Indata!$B$6 -> 0
A22: Kap.ab Februari | B22: =Indata!B24 -> 0 | C22: 2 | D22: =D21+1 -> 46313 | E22: =F22*G22 -> 0 | F22: =24+SUMIFS(Listor!$C$22:$C$23,Listor!$B$22:$B$23,Uttag!D22) -> 24 | G22: =SUM(BI22:BJ22) -> 0 | I22: =Förbrukning!H21 -> 0 | N22: =BE22 -> 0 | P22: =I22*SUMIFS(Priser!$L$3:$L$14,Priser!$A$3:$A$14,BL22) -> 0 | Q22: =Z22+AC22 -> 0 | U22: =MAX(G22-BE22,0) -> 0 | V22: =U22-W22 -> 0 | W22: =MAX(G22-BN22,0) -> 0 | X22: =COUNTIFS(V22,">0")+IF(BL22=BL21,X21,0) -> 0 | Y22: =IF(X22>=Priser!$N$6,Priser!$O$6,IF(X22>=Priser!$N$5,Priser!$O$5,IF(X22>=Priser!$N$4,Priser!$O$4,Priser!$O$3))) -> 0 | Z22: =Y22*SUMIFS(Priser!$L$3:$L$14,Priser!$A$3:$A$14,$BL22)*V22 -> 0 | AA22: =COUNTIFS(W22,">0")+IF(BL22=BL21,AA21,0) -> 0 | AB22: =IF(AA22>=Priser!$P$6,Priser!$Q$6,IF(AA22>=Priser!$P$5,Priser!$Q$5,IF(AA22>=Priser!$P$4,Priser!$Q$4,Priser!$Q$3))) -> 0 | AC22: =AB22*SUMIFS(Priser!$L$3:$L$14,Priser!$A$3:$A$14,$BL22)*W22 -> 0 | AG22: =IF(AND((K22-SUM(AH22:AM22)>0),(AN22-(K22-SUM(AH22:AM22))>0)),K22-SUM(AH22:AM22),IF((K22-SUM(AH22:AM22))>0,AN22,0)) -> 0 | AH22: =IF(AND((K22-SUM(AI22:AM22)>0),(AO22-(K22-SUM(AI22:AM22))>0)),K22-SUM(AI22:AM22),IF((K22-SUM(AI22:AM22))>0,AO22,0)) -> 0 | AI22: =IF(AND((K22-SUM(AJ22:AM22)>0),(AP22-(K22-SUM(AJ22:AM22))>0)),K22-SUM(AJ22:AM22),IF((K22-SUM(AJ22:AM22))>0,AP22,0)) -> 0 | AJ22: =IF(AND((K22-SUM(AK22:AM22)>0),(AQ22-(K22-SUM(AK22:AM22))>0)),K22-SUM(AK22:AM22),IF((K22-SUM(AK22:AM22))>0,AQ22,0)) -> 0 | AK22: =IF(AND((K22-SUM(AL22:AM22)>0),(AR22-(K22-SUM(AL22:AM22))>0)),K22-SUM(AL22:AM22),IF((K22-SUM(AL22:AM22))>0,AR22,0)) -> 0 | AL22: =IF(AND((K22-AM22)>0,(AS22-(K22-AM22))>0),(K22-AM22),IF((K22-AM22)>0,AS22,0)) -> 0 | AM22: =IF(AND(I22>0,(I22-K22)>0),K22,I22) -> 0 | AN22: =B$8 -> 0 | AO22: =IF(OR(BL22=10,BL22=11,BL22=12,BL22=1,BL22=2,BL22=3,BL22=4),B$9,$B$12) -> 0 | AP22: =IF(OR(BL22=11,BL22=12,BL22=1,BL22=2,BL22=3),B$10,) -> 0 | AQ22: =IF(OR(BL22=12,BL22=1,BL22=2),B$11,) -> 0 | AR22: =SUMIFS($B$13:$B$16,$C$13:$C$16,BM22) -> 0 | AS22: =SUMIFS($B$18:$B$29,$C$18:$C$29,BL22) -> 0 | AT22: =L22+I22 -> 0 | AX22: =MAX(AN22-AG22,0) -> 0 | AY22: =MAX(AO22-AH22,0) -> 0 | AZ22: =MAX(AP22-AI22,0) -> 0 | BA22: =MAX(AQ22-AJ22,0) -> 0 | BB22: =MAX(AR22-AK22,0) -> 0 | BC22: =MAX(AS22-AL22,0) -> 0 | BD22: =MAX(AT22-AM22,0) -> 0 | BE22: =SUM(AX22:BD22) -> 0 | BI22: =IF(Förbrukning!F21="",Förbrukning!E21,0)/IF(Förbrukning!$B$3=Listor!$B$5,F22,1) -> 0 | BJ22: =Förbrukning!F21/IF(Förbrukning!$B$3=Listor!$B$5,F22,1) -> 0 | BL22: =MONTH(D22) -> 10 | BM22: =ROUNDUP(BL22/3,0) -> 4 | BN22: =Indata!$B$6 -> 0
A23: Kap.ab Mars | B23: =Indata!B25 -> 0 | C23: 3 | D23: =D22+1 -> 46314 | E23: =F23*G23 -> 0 | F23: =24+SUMIFS(Listor!$C$22:$C$23,Listor!$B$22:$B$23,Uttag!D23) -> 24 | G23: =SUM(BI23:BJ23) -> 0 | I23: =Förbrukning!H22 -> 0 | N23: =BE23 -> 0 | P23: =I23*SUMIFS(Priser!$L$3:$L$14,Priser!$A$3:$A$14,BL23) -> 0 | Q23: =Z23+AC23 -> 0 | U23: =MAX(G23-BE23,0) -> 0 | V23: =U23-W23 -> 0 | W23: =MAX(G23-BN23,0) -> 0 | X23: =COUNTIFS(V23,">0")+IF(BL23=BL22,X22,0) -> 0 | Y23: =IF(X23>=Priser!$N$6,Priser!$O$6,IF(X23>=Priser!$N$5,Priser!$O$5,IF(X23>=Priser!$N$4,Priser!$O$4,Priser!$O$3))) -> 0 | Z23: =Y23*SUMIFS(Priser!$L$3:$L$14,Priser!$A$3:$A$14,$BL23)*V23 -> 0 | AA23: =COUNTIFS(W23,">0")+IF(BL23=BL22,AA22,0) -> 0 | AB23: =IF(AA23>=Priser!$P$6,Priser!$Q$6,IF(AA23>=Priser!$P$5,Priser!$Q$5,IF(AA23>=Priser!$P$4,Priser!$Q$4,Priser!$Q$3))) -> 0 | AC23: =AB23*SUMIFS(Priser!$L$3:$L$14,Priser!$A$3:$A$14,$BL23)*W23 -> 0 | AG23: =IF(AND((K23-SUM(AH23:AM23)>0),(AN23-(K23-SUM(AH23:AM23))>0)),K23-SUM(AH23:AM23),IF((K23-SUM(AH23:AM23))>0,AN23,0)) -> 0 | AH23: =IF(AND((K23-SUM(AI23:AM23)>0),(AO23-(K23-SUM(AI23:AM23))>0)),K23-SUM(AI23:AM23),IF((K23-SUM(AI23:AM23))>0,AO23,0)) -> 0 | AI23: =IF(AND((K23-SUM(AJ23:AM23)>0),(AP23-(K23-SUM(AJ23:AM23))>0)),K23-SUM(AJ23:AM23),IF((K23-SUM(AJ23:AM23))>0,AP23,0)) -> 0 | AJ23: =IF(AND((K23-SUM(AK23:AM23)>0),(AQ23-(K23-SUM(AK23:AM23))>0)),K23-SUM(AK23:AM23),IF((K23-SUM(AK23:AM23))>0,AQ23,0)) -> 0 | AK23: =IF(AND((K23-SUM(AL23:AM23)>0),(AR23-(K23-SUM(AL23:AM23))>0)),K23-SUM(AL23:AM23),IF((K23-SUM(AL23:AM23))>0,AR23,0)) -> 0 | AL23: =IF(AND((K23-AM23)>0,(AS23-(K23-AM23))>0),(K23-AM23),IF((K23-AM23)>0,AS23,0)) -> 0 | AM23: =IF(AND(I23>0,(I23-K23)>0),K23,I23) -> 0 | AN23: =B$8 -> 0 | AO23: =IF(OR(BL23=10,BL23=11,BL23=12,BL23=1,BL23=2,BL23=3,BL23=4),B$9,$B$12) -> 0 | AP23: =IF(OR(BL23=11,BL23=12,BL23=1,BL23=2,BL23=3),B$10,) -> 0 | AQ23: =IF(OR(BL23=12,BL23=1,BL23=2),B$11,) -> 0 | AR23: =SUMIFS($B$13:$B$16,$C$13:$C$16,BM23) -> 0 | AS23: =SUMIFS($B$18:$B$29,$C$18:$C$29,BL23) -> 0 | AT23: =L23+I23 -> 0 | AX23: =MAX(AN23-AG23,0) -> 0 | AY23: =MAX(AO23-AH23,0) -> 0 | AZ23: =MAX(AP23-AI23,0) -> 0 | BA23: =MAX(AQ23-AJ23,0) -> 0 | BB23: =MAX(AR23-AK23,0) -> 0 | BC23: =MAX(AS23-AL23,0) -> 0 | BD23: =MAX(AT23-AM23,0) -> 0 | BE23: =SUM(AX23:BD23) -> 0 | BI23: =IF(Förbrukning!F22="",Förbrukning!E22,0)/IF(Förbrukning!$B$3=Listor!$B$5,F23,1) -> 0 | BJ23: =Förbrukning!F22/IF(Förbrukning!$B$3=Listor!$B$5,F23,1) -> 0 | BL23: =MONTH(D23) -> 10 | BM23: =ROUNDUP(BL23/3,0) -> 4 | BN23: =Indata!$B$6 -> 0
A24: Kap.ab April | B24: =Indata!B26 -> 0 | C24: 4 | D24: =D23+1 -> 46315 | E24: =F24*G24 -> 0 | F24: =24+SUMIFS(Listor!$C$22:$C$23,Listor!$B$22:$B$23,Uttag!D24) -> 24 | G24: =SUM(BI24:BJ24) -> 0 | I24: =Förbrukning!H23 -> 0 | N24: =BE24 -> 0 | P24: =I24*SUMIFS(Priser!$L$3:$L$14,Priser!$A$3:$A$14,BL24) -> 0 | Q24: =Z24+AC24 -> 0 | U24: =MAX(G24-BE24,0) -> 0 | V24: =U24-W24 -> 0 | W24: =MAX(G24-BN24,0) -> 0 | X24: =COUNTIFS(V24,">0")+IF(BL24=BL23,X23,0) -> 0 | Y24: =IF(X24>=Priser!$N$6,Priser!$O$6,IF(X24>=Priser!$N$5,Priser!$O$5,IF(X24>=Priser!$N$4,Priser!$O$4,Priser!$O$3))) -> 0 | Z24: =Y24*SUMIFS(Priser!$L$3:$L$14,Priser!$A$3:$A$14,$BL24)*V24 -> 0 | AA24: =COUNTIFS(W24,">0")+IF(BL24=BL23,AA23,0) -> 0 | AB24: =IF(AA24>=Priser!$P$6,Priser!$Q$6,IF(AA24>=Priser!$P$5,Priser!$Q$5,IF(AA24>=Priser!$P$4,Priser!$Q$4,Priser!$Q$3))) -> 0 | AC24: =AB24*SUMIFS(Priser!$L$3:$L$14,Priser!$A$3:$A$14,$BL24)*W24 -> 0 | AG24: =IF(AND((K24-SUM(AH24:AM24)>0),(AN24-(K24-SUM(AH24:AM24))>0)),K24-SUM(AH24:AM24),IF((K24-SUM(AH24:AM24))>0,AN24,0)) -> 0 | AH24: =IF(AND((K24-SUM(AI24:AM24)>0),(AO24-(K24-SUM(AI24:AM24))>0)),K24-SUM(AI24:AM24),IF((K24-SUM(AI24:AM24))>0,AO24,0)) -> 0 | AI24: =IF(AND((K24-SUM(AJ24:AM24)>0),(AP24-(K24-SUM(AJ24:AM24))>0)),K24-SUM(AJ24:AM24),IF((K24-SUM(AJ24:AM24))>0,AP24,0)) -> 0 | AJ24: =IF(AND((K24-SUM(AK24:AM24)>0),(AQ24-(K24-SUM(AK24:AM24))>0)),K24-SUM(AK24:AM24),IF((K24-SUM(AK24:AM24))>0,AQ24,0)) -> 0 | AK24: =IF(AND((K24-SUM(AL24:AM24)>0),(AR24-(K24-SUM(AL24:AM24))>0)),K24-SUM(AL24:AM24),IF((K24-SUM(AL24:AM24))>0,AR24,0)) -> 0 | AL24: =IF(AND((K24-AM24)>0,(AS24-(K24-AM24))>0),(K24-AM24),IF((K24-AM24)>0,AS24,0)) -> 0 | AM24: =IF(AND(I24>0,(I24-K24)>0),K24,I24) -> 0 | AN24: =B$8 -> 0 | AO24: =IF(OR(BL24=10,BL24=11,BL24=12,BL24=1,BL24=2,BL24=3,BL24=4),B$9,$B$12) -> 0 | AP24: =IF(OR(BL24=11,BL24=12,BL24=1,BL24=2,BL24=3),B$10,) -> 0 | AQ24: =IF(OR(BL24=12,BL24=1,BL24=2),B$11,) -> 0 | AR24: =SUMIFS($B$13:$B$16,$C$13:$C$16,BM24) -> 0 | AS24: =SUMIFS($B$18:$B$29,$C$18:$C$29,BL24) -> 0 | AT24: =L24+I24 -> 0 | AX24: =MAX(AN24-AG24,0) -> 0 | AY24: =MAX(AO24-AH24,0) -> 0 | AZ24: =MAX(AP24-AI24,0) -> 0 | BA24: =MAX(AQ24-AJ24,0) -> 0 | BB24: =MAX(AR24-AK24,0) -> 0 | BC24: =MAX(AS24-AL24,0) -> 0 | BD24: =MAX(AT24-AM24,0) -> 0 | BE24: =SUM(AX24:BD24) -> 0 | BI24: =IF(Förbrukning!F23="",Förbrukning!E23,0)/IF(Förbrukning!$B$3=Listor!$B$5,F24,1) -> 0 | BJ24: =Förbrukning!F23/IF(Förbrukning!$B$3=Listor!$B$5,F24,1) -> 0 | BL24: =MONTH(D24) -> 10 | BM24: =ROUNDUP(BL24/3,0) -> 4 | BN24: =Indata!$B$6 -> 0
A25: Kap.ab Maj | B25: =Indata!B27 -> 0 | C25: 5 | D25: =D24+1 -> 46316 | E25: =F25*G25 -> 0 | F25: =24+SUMIFS(Listor!$C$22:$C$23,Listor!$B$22:$B$23,Uttag!D25) -> 24 | G25: =SUM(BI25:BJ25) -> 0 | I25: =Förbrukning!H24 -> 0 | N25: =BE25 -> 0 | P25: =I25*SUMIFS(Priser!$L$3:$L$14,Priser!$A$3:$A$14,BL25) -> 0 | Q25: =Z25+AC25 -> 0 | U25: =MAX(G25-BE25,0) -> 0 | V25: =U25-W25 -> 0 | W25: =MAX(G25-BN25,0) -> 0 | X25: =COUNTIFS(V25,">0")+IF(BL25=BL24,X24,0) -> 0 | Y25: =IF(X25>=Priser!$N$6,Priser!$O$6,IF(X25>=Priser!$N$5,Priser!$O$5,IF(X25>=Priser!$N$4,Priser!$O$4,Priser!$O$3))) -> 0 | Z25: =Y25*SUMIFS(Priser!$L$3:$L$14,Priser!$A$3:$A$14,$BL25)*V25 -> 0 | AA25: =COUNTIFS(W25,">0")+IF(BL25=BL24,AA24,0) -> 0 | AB25: =IF(AA25>=Priser!$P$6,Priser!$Q$6,IF(AA25>=Priser!$P$5,Priser!$Q$5,IF(AA25>=Priser!$P$4,Priser!$Q$4,Priser!$Q$3))) -> 0 | AC25: =AB25*SUMIFS(Priser!$L$3:$L$14,Priser!$A$3:$A$14,$BL25)*W25 -> 0 | AG25: =IF(AND((K25-SUM(AH25:AM25)>0),(AN25-(K25-SUM(AH25:AM25))>0)),K25-SUM(AH25:AM25),IF((K25-SUM(AH25:AM25))>0,AN25,0)) -> 0 | AH25: =IF(AND((K25-SUM(AI25:AM25)>0),(AO25-(K25-SUM(AI25:AM25))>0)),K25-SUM(AI25:AM25),IF((K25-SUM(AI25:AM25))>0,AO25,0)) -> 0 | AI25: =IF(AND((K25-SUM(AJ25:AM25)>0),(AP25-(K25-SUM(AJ25:AM25))>0)),K25-SUM(AJ25:AM25),IF((K25-SUM(AJ25:AM25))>0,AP25,0)) -> 0 | AJ25: =IF(AND((K25-SUM(AK25:AM25)>0),(AQ25-(K25-SUM(AK25:AM25))>0)),K25-SUM(AK25:AM25),IF((K25-SUM(AK25:AM25))>0,AQ25,0)) -> 0 | AK25: =IF(AND((K25-SUM(AL25:AM25)>0),(AR25-(K25-SUM(AL25:AM25))>0)),K25-SUM(AL25:AM25),IF((K25-SUM(AL25:AM25))>0,AR25,0)) -> 0 | AL25: =IF(AND((K25-AM25)>0,(AS25-(K25-AM25))>0),(K25-AM25),IF((K25-AM25)>0,AS25,0)) -> 0 | AM25: =IF(AND(I25>0,(I25-K25)>0),K25,I25) -> 0 | AN25: =B$8 -> 0 | AO25: =IF(OR(BL25=10,BL25=11,BL25=12,BL25=1,BL25=2,BL25=3,BL25=4),B$9,$B$12) -> 0 | AP25: =IF(OR(BL25=11,BL25=12,BL25=1,BL25=2,BL25=3),B$10,) -> 0 | AQ25: =IF(OR(BL25=12,BL25=1,BL25=2),B$11,) -> 0 | AR25: =SUMIFS($B$13:$B$16,$C$13:$C$16,BM25) -> 0 | AS25: =SUMIFS($B$18:$B$29,$C$18:$C$29,BL25) -> 0 | AT25: =L25+I25 -> 0 | AX25: =MAX(AN25-AG25,0) -> 0 | AY25: =MAX(AO25-AH25,0) -> 0 | AZ25: =MAX(AP25-AI25,0) -> 0 | BA25: =MAX(AQ25-AJ25,0) -> 0 | BB25: =MAX(AR25-AK25,0) -> 0 | BC25: =MAX(AS25-AL25,0) -> 0 | BD25: =MAX(AT25-AM25,0) -> 0 | BE25: =SUM(AX25:BD25) -> 0 | BI25: =IF(Förbrukning!F24="",Förbrukning!E24,0)/IF(Förbrukning!$B$3=Listor!$B$5,F25,1) -> 0 | BJ25: =Förbrukning!F24/IF(Förbrukning!$B$3=Listor!$B$5,F25,1) -> 0 | BL25: =MONTH(D25) -> 10 | BM25: =ROUNDUP(BL25/3,0) -> 4 | BN25: =Indata!$B$6 -> 0
