Workbook

Sheet INFO

Sheet Priser
A1: =CONCATENATE("Priser för gasår ",Listor!$B$11) -> Priser för gasår 2026/2027 | B1: Priser anges i kr per kWh/h per månad | L1: Priser anges i kr per kWh/h per dygn
A2: Månad | B2: År | C2: Vinter 1 | D2: Vinter 2 | E2: Vinter 3 | F2: Sommar | G2: Kvartals-faktor | H2: Kvartal avgift | I2: Månads-faktor | J2: Månads-avgift | K2: Antal Dagar | L2: Kapacitetsavgift dygn | N2: Antal Överuttag inom max kap.behov | O2: Multiplikator vs dygnsprodukt | P2: Antal Överuttag utöver max kap.behov | Q2: Multiplikator vs dygnsprodukt
A3: 10 | B3: =ROUND($B$23/12,2) -> 35.88 | C3: =ROUND($B$23*C$16/7,2) -> 49.21 | G3: 0.326 | H3: =ROUND(G3/3*$B$23,2) -> 46.79 | I3: 0.11 | J3: =ROUND($B$23*I3,2) -> 47.37 | K3: =COUNTIFS(Uttag!BL:BL,A3) -> 31 | L3: =ROUND($B$23*2.8*I3/K3,2) -> 4.28 | N3: 0 | O3: 0 | P3: 0 | Q3: =O3*2 -> 0
A4: 11 | B4: =ROUND($B$23/12,2) -> 35.88 | C4: =ROUND($B$23*C$16/7,2) -> 49.21 | D4: =ROUND($B$23*D$16/5,2) -> 55.98 | G4: 0.326 | H4: =ROUND(G4/3*$B$23,2) -> 46.79 | I4: 0.12 | J4: =ROUND($B$23*I4,2) -> 51.67 | K4: =COUNTIFS(Uttag!BL:BL,A4) -> 30 | L4: =ROUND($B$23*2.8*I4/K4,2) -> 4.82 | N4: 1 | O4: 2 | P4: 1 | Q4: =O4*2 -> 4
A5: 12 | B5: =ROUND($B$23/12,2) -> 35.88 | C5: =ROUND($B$23*C$16/7,2) -> 49.21 | D5: =ROUND($B$23*D$16/5,2) -> 55.98 | E5: =ROUND($B$23*E$16/3,2) -> 71.77 | G5: 0.326 | H5: =ROUND(G5/3*$B$23,2) -> 46.79 | I5: 0.17 | J5: =ROUND($B$23*I5,2) -> 73.2 | K5: =COUNTIFS(Uttag!BL:BL,A5) -> 31 | L5: =ROUND($B$23*2.8*I5/K5,2) -> 6.61 | N5: 2 | O5: 4 | P5: 2 | Q5: =O5*2 -> 8
A6: 1 | B6: =ROUND($B$23/12,2) -> 35.88 | C6: =ROUND($B$23*C$16/7,2) -> 49.21 | D6: =ROUND($B$23*D$16/5,2) -> 55.98 | E6: =ROUND($B$23*E$16/3,2) -> 71.77 | G6: 0.5 | H6: =ROUND(G6/3*$B$23,2) -> 71.77 | I6: 0.18 | J6: =ROUND($B$23*I6,2) -> 77.51 | K6: =COUNTIFS(Uttag!BL:BL,A6) -> 31 | L6: =ROUND($B$23*2.8*I6/K6,2) -> 7 | N6: 3 | O6: 6 | P6: 3 | Q6: =O6*2 -> 12
A7: 2 | B7: =ROUND($B$23/12,2) -> 35.88 | C7: =ROUND($B$23*C$16/7,2) -> 49.21 | D7: =ROUND($B$23*D$16/5,2) -> 55.98 | E7: =ROUND($B$23*E$16/3,2) -> 71.77 | G7: 0.5 | H7: =ROUND(G7/3*$B$23,2) -> 71.77 | I7: 0.2 | J7: =ROUND($B$23*I7,2) -> 86.12 | K7: =COUNTIFS(Uttag!BL:BL,A7) -> 28 | L7: =ROUND($B$23*2.8*I7/K7,2) -> 8.61
A8: 3 | B8: =ROUND($B$23/12,2) -> 35.88 | C8: =ROUND($B$23*C$16/7,2) -> 49.21 | D8: =ROUND($B$23*D$16/5,2) -> 55.98 | G8: 0.5 | H8: =ROUND(G8/3*$B$23,2) -> 71.77 | I8: 0.14 | J8: =ROUND($B$23*I8,2) -> 60.28 | K8: =COUNTIFS(Uttag!BL:BL,A8) -> 31 | L8: =ROUND($B$23*2.8*I8/K8,2) -> 5.44
A9: 4 | B9: =ROUND($B$23/12,2) -> 35.88 | C9: =ROUND($B$23*C$16/7,2) -> 49.21 | G9: 0.16 | H9: =ROUND(G9/3*$B$23,2) -> 22.96 | I9: 0.09 | J9: =ROUND($B$23*I9,2) -> 38.75 | K9: =COUNTIFS(Uttag!BL:BL,A9) -> 30 | L9: =ROUND($B$23*2.8*I9/K9,2) -> 3.62
A10: 5 | B10: =ROUND($B$23/12,2) -> 35.88 | F10: =ROUND($B$23*F$16/5,2) -> 17.22 | G10: 0.16 | H10: =ROUND(G10/3*$B$23,2) -> 22.96 | I10: 0.05 | J10: =ROUND($B$23*I10,2) -> 21.53 | K10: =COUNTIFS(Uttag!BL:BL,A10) -> 31 | L10: =ROUND($B$23*2.8*I10/K10,2) -> 1.94
A11: 6 | B11: =ROUND($B$23/12,2) -> 35.88 | F11: =ROUND($B$23*F$16/5,2) -> 17.22 | G11: 0.16 | H11: =ROUND(G11/3*$B$23,2) -> 22.96 | I11: 0.045 | J11: =ROUND($B$23*I11,2) -> 19.38 | K11: =COUNTIFS(Uttag!BL:BL,A11) -> 30 | L11: =ROUND($B$23*2.8*I11/K11,2) -> 1.81
A12: 7 | B12: =ROUND($B$23/12,2) -> 35.88 | F12: =ROUND($B$23*F$16/5,2) -> 17.22 | G12: 0.13 | H12: =ROUND(G12/3*$B$23,2) -> 18.66 | I12: 0.045 | J12: =ROUND($B$23*I12,2) -> 19.38 | K12: =COUNTIFS(Uttag!BL:BL,A12) -> 31 | L12: =ROUND($B$23*2.8*I12/K12,2) -> 1.75
A13: 8 | B13: =ROUND($B$23/12,2) -> 35.88 | F13: =ROUND($B$23*F$16/5,2) -> 17.22 | G13: 0.13 | H13: =ROUND(G13/3*$B$23,2) -> 18.66 | I13: 0.045 | J13: =ROUND($B$23*I13,2) -> 19.38 | K13: =COUNTIFS(Uttag!BL:BL,A13) -> 31 | L13: =ROUND($B$23*2.8*I13/K13,2) -> 1.75
A14: 9 | B14: =ROUND($B$23/12,2) -> 35.88 | F14: =ROUND($B$23*F$16/5,2) -> 17.22 | G14: 0.13 | H14: =ROUND(G14/3*$B$23,2) -> 18.66 | I14: 0.055 | J14: =ROUND($B$23*I14,2) -> 23.68 | K14: =COUNTIFS(Uttag!BL:BL,A14) -> 30 | L14: =ROUND($B$23*2.8*I14/K14,2) -> 2.21
A16: Andel av årskapacitet uttag | B16: 1 | C16: 0.8 | D16: 0.65 | E16: 0.5 | F16: 0.2
A18: Avgifter
A19: Grundavgift | B19: 435846
A20: Kapacitetstilldelningsavgift vinter | B20: 1947
A21: Kapacitetstilldelningsavgift sommar | B21: 487
A22: Kapacitetstilldelningsavgift dygn | B22: 3.37
A23: Kapacitetsavgift | B23: 430.5912
A24: Avgift för extra områdeförbrukning | B24: 0.0195
A25: Myndighetsavgift | B25: 0.001

Sheet Indata
A1: Inmatning från kund
A2: Kundnamn
A3: Dygnsabonnemang
A5: Maximalt kapacitetsbehov
A6: Max kap.behov vinter
A7: Max kap.behov sommar
A9: Kapacitetsabonnemang | C9: Total bokningsnivå
A10: Kap.ab Årskapacitet
A11: Kap.ab Vinter 1
A12: Kap.ab Vinter 2
A13: Kap.ab Vinter 3
A14: Kap.ab Sommar
A15: Kvartal 4
A16: Kvartal 1
A17: Kvartal 2
A18: Kvartal 3
A20: Kap.ab Oktober | C20: =$B$10+$B$11+B15+B20 -> 0
A21: Kap.ab November | C21: =$B$10+$B$11+$B$12+B15+B21 -> 0
A22: Kap.ab December | C22: =$B$10+$B$11+$B$12+$B$13+B15+B22 -> 0
A23: Kap.ab Januari | C23: =$B$10+$B$11+$B$12+$B$13+B16+B23 -> 0
A24: Kap.ab Februari | C24: =$B$10+$B$11+$B$12+$B$13+B16+B24 -> 0
A25: Kap.ab Mars | C25: =$B$10+$B$11+$B$12+B16+B25 -> 0
A26: Kap.ab April | C26: =$B$10+$B$11+B17+B26 -> 0
A27: Kap.ab Maj | C27: =$B$10+B17+B14+B27 -> 0
A28: Kap.ab Juni | C28: =$B$10+B17+$B$14+B28 -> 0
A29: Kap.ab Juli | C29: =$B$10+B18+$B$14+B29 -> 0
A30: Kap.ab Augusti | C30: =$B$10+B18+$B$14+B30 -> 0
A31: Kap.ab September | C31: =$B$10+B18+$B$14+B31 -> 0

Sheet Förbrukning
E1: ="Uttag ("&B3&"/dygn)" -> Uttag (kWh/dygn) | H1: Dygns-abonnemang
E2: Prognos | F2: Faktiskt uttag | H2: Dygnsbokning
A3: Vald enhet | B3: kWh | D3: Datum | E3: =B3 -> kWh | F3: =B3 -> kWh | H3: kWh/h
D4: =Listor!B12 -> 46296
D5: =D4+1 -> 46297
D6: =D5+1 -> 46298
D7: =D6+1 -> 46299
D8: =D7+1 -> 46300
D9: =D8+1 -> 46301
D10: =D9+1 -> 46302
D11: =D10+1 -> 46303
D12: =D11+1 -> 46304
D13: =D12+1 -> 46305
D14: =D13+1 -> 46306
D15: =D14+1 -> 46307
D16: =D15+1 -> 46308
... D369: =D368+1 -> 46661

Sheet Uttag
A1: Säsongs- & månadsbokningar | E1: Uttag | I1: Dygns-abonnemang | K1: Överlåtelse | N1: Bokningsnivå | P1: Dygnskostnader | S1: Överuttag ↓ | U1: Överuttag | AE1: Överlåtelse ↓ | AG1: Överlåtelse | AV1: Kvarstående bokning ↓ | AX1: Kvarstående bokning | BG1: Förbrukning ↓ | BI1: Förbrukning
E2: Volym | G2: Kapacitet | X2: Inom Maximalt kapacitet behov | AA2: Över Maximalt kapacitet behov | AG2: Överlåtet ur produkt | AN2: Grundabonnemang
K3: Swap ut | L3: Swap in | N3: =BE3 -> Total bokning | P3: Dygnsbokning | Q3: Överuttag | U3: Totalt överuttag | V3: Inom max kap.behov | W3: Över max kap.behov | X3: Antal överuttag | Y3: Multi-plikator | Z3: Avgift överuttag | AA3: Antal överuttag | AB3: Multi-plikator | AC3: Avgift överuttag | AG3: Årskap. | AH3: Vint 1/Som | AI3: Vinter 2 | AJ3: Vinter 3 | AK3: Kvartal | AL3: Månad | AM3: Dygn | AN3: Årskap. | AO3: Vint 1/Som | AP3: Vinter 2 | AQ3: Vinter 3 | AR3: Kvartal | AS3: Månad | AT3: Dygn/Swap in | AX3: Årskap. | AY3: Vint 1/Som | AZ3: Vinter 2 | BA3: Vinter 3 | BB3: Kvartal | BC3: Månad | BD3: Dygn/Swap in | BE3: Total bokning | BI3: Prognos | BJ3: Faktiskt uttag | BL3: Månad | BM3: Kvartal | BN3: Maximalt kapacitetsbehov
A4: Produkt | B4: kWh/h | E4: kWh | F4: h | G4: kWh/h | I4: kWh/h | K4: kWh/h | L4: kWh/h | N4: =BE4 -> kWh/h | P4: SEK | Q4: SEK | U4: kWh/h | V4: kWh/h | W4: kWh/h | X4: st | Z4: SEK | AA4: st | AC4: SEK | AG4: kWh/h | AH4: kWh/h | AI4: kWh/h | AJ4: kWh/h | AK4: kWh/h | AL4: kWh/h | AM4: kWh/h | AN4: kWh/h | AO4: kWh/h | AP4: kWh/h | AQ4: kWh/h | AR4: kWh/h | AS4: kWh/h | AT4: kWh/h | AX4: kWh/h | AY4: kWh/h | AZ4: kWh/h | BA4: kWh/h | BB4: kWh/h | BC4: kWh/h | BD4: kWh/h | BE4: kWh/h | BI4: kWh/h | BJ4: kWh/h | BN4: kWh/h
A5: Max kap.behov vinter | B5: =Indata!B6 -> 0 | D5: =Listor!$B$12 -> 46296 | E5: =F5*G5 -> 0 | F5: =24+SUMIFS(Listor!$C$22:$C$23,Listor!$B$22:$B$23,Uttag!D5) -> 24 | G5: =SUM(BI5:BJ5) -> 0 | I5: =Förbrukning!H4 -> 0 | N5: =BE5 -> 0 | P5: =I5*SUMIFS(Priser!$L$3:$L$14,Priser!$A$3:$A$14,BL5) -> 0 | Q5: =Z5+AC5 -> 0 | U5: =MAX(G5-BE5,0) -> 0 | V5: =U5-W5 -> 0 | W5: =MAX(G5-BN5,0) -> 0 | X5: =COUNTIFS(V5,">0")+IF(BL5=BL4,X4,0) -> 0 | Y5: =IF(X5>=Priser!$N$6,Priser!$O$6,IF(X5>=Priser!$N$5,Priser!$O$5,IF(X5>=Priser!$N$4,Priser!$O$4,Priser!$O$3))) -> 0 | Z5: =Y5*SUMIFS(Priser!$L$3:$L$14,Priser!$A$3:$A$14,$BL5)*V5 -> 0 | AA5: =COUNTIFS(W5,">0")+IF(BL5=BL4,AA4,0) -> 0 | AB5: =IF(AA5>=Priser!$P$6,Priser!$Q$6,IF(AA5>=Priser!$P$5,Priser!$Q$5,IF(AA5>=Priser!$P$4,Priser!$Q$4,Priser!$Q$3))) -> 0 | AC5: =AB5*SUMIFS(Priser!$L$3:$L$14,Priser!$A$3:$A$14,$BL5)*W5 -> 0 | AG5: =IF(AND((K5-SUM(AH5:AM5)>0),(AN5-(K5-SUM(AH5:AM5))>0)),K5-SUM(AH5:AM5),IF((K5-SUM(AH5:AM5))>0,AN5,0)) -> 0 | AH5: =IF(AND((K5-SUM(AI5:AM5)>0),(AO5-(K5-SUM(AI5:AM5))>0)),K5-SUM(AI5:AM5),IF((K5-SUM(AI5:AM5))>0,AO5,0)) -> 0 | AI5: =IF(AND((K5-SUM(AJ5:AM5)>0),(AP5-(K5-SUM(AJ5:AM5))>0)),K5-SUM(AJ5:AM5),IF((K5-SUM(AJ5:AM5))>0,AP5,0)) -> 0 | AJ5: =IF(AND((K5-SUM(AK5:AM5)>0),(AQ5-(K5-SUM(AK5:AM5))>0)),K5-SUM(AK5:AM5),IF((K5-SUM(AK5:AM5))>0,AQ5,0)) -> 0 | AK5: =IF(AND((K5-SUM(AL5:AM5)>0),(AR5-(K5-SUM(AL5:AM5))>0)),K5-SUM(AL5:AM5),IF((K5-SUM(AL5:AM5))>0,AR5,0)) -> 0 | AL5: =IF(AND((K5-AM5)>0,(AS5-(K5-AM5))>0),(K5-AM5),IF((K5-AM5)>0,AS5,0)) -> 0 | AM5: =IF(AND(I5>0,(I5-K5)>0),K5,I5) -> 0 | AN5: =B$8 -> 0 | AO5: =IF(OR(BL5=10,BL5=11,BL5=12,BL5=1,BL5=2,BL5=3,BL5=4),B$9,$B$12) -> 0 | AP5: =IF(OR(BL5=11,BL5=12,BL5=1,BL5=2,BL5=3),B$10,) -> 0 | AQ5: =IF(OR(BL5=12,BL5=1,BL5=2),B$11,) -> 0 | AR5: =SUMIFS($B$13:$B$16,$C$13:$C$16,BM5) -> 0 | AS5: =SUMIFS($B$18:$B$29,$C$18:$C$29,BL5) -> 0 | AT5: =L5+I5 -> 0 | AX5: =MAX(AN5-AG5,0) -> 0 | AY5: =MAX(AO5-AH5,0) -> 0 | AZ5: =MAX(AP5-AI5,0) -> 0 | BA5: =MAX(AQ5-AJ5,0) -> 0 | BB5: =MAX(AR5-AK5,0) -> 0 | BC5: =MAX(AS5-AL5,0) -> 0 | BD5: =MAX(AT5-AM5,0) -> 0 | BE5: =SUM(AX5:BD5) -> 0 | BI5: =IF(Förbrukning!F4="",Förbrukning!E4,0)/IF(Förbrukning!$B$3=Listor!$B$5,F5,1) -> 0 | BJ5: =Förbrukning!F4/IF(Förbrukning!$B$3=Listor!$B$5,F5,1) -> 0 | BL5: =MONTH(D5) -> 10 | BM5: =ROUNDUP(BL5/3,0) -> 4 | BN5: =Indata!$B$6 -> 0
A6: Max kap.behov sommar | B6: =Indata!B7 -> 0 | D6: =D5+1 -> 46297 | E6: =F6*G6 -> 0 | F6: =24+SUMIFS(Listor!$C$22:$C$23,Listor!$B$22:$B$23,Uttag!D6) -> 24 | G6: =SUM(BI6:BJ6) -> 0 | I6: =Förbrukning!H5 -> 0 | N6: =BE6 -> 0 | P6: =I6*SUMIFS(Priser!$L$3:$L$14,Priser!$A$3:$A$14,BL6) -> 0 | Q6: =Z6+AC6 -> 0 | U6: =MAX(G6-BE6,0) -> 0 | V6: =U6-W6 -> 0 | W6: =MAX(G6-BN6,0) -> 0 | X6: =COUNTIFS(V6,">0")+IF(BL6=BL5,X5,0) -> 0 | Y6: =IF(X6>=Priser!$N$6,Priser!$O$6,IF(X6>=Priser!$N$5,Priser!$O$5,IF(X6>=Priser!$N$4,Priser!$O$4,Priser!$O$3))) -> 0 | Z6: =Y6*SUMIFS(Priser!$L$3:$L$14,Priser!$A$3:$A$14,$BL6)*V6 -> 0 | AA6: =COUNTIFS(W6,">0")+IF(BL6=BL5,AA5,0) -> 0 | AB6: =IF(AA6>=Priser!$P$6,Priser!$Q$6,IF(AA6>=Priser!$P$5,Priser!$Q$5,IF(AA6>=Priser!$P$4,Priser!$Q$4,Priser!$Q$3))) -> 0 | AC6: =AB6*SUMIFS(Priser!$L$3:$L$14,Priser!$A$3:$A$14,$BL6)*W6 -> 0 | AG6: =IF(AND((K6-SUM(AH6:AM6)>0),(AN6-(K6-SUM(AH6:AM6))>0)),K6-SUM(AH6:AM6),IF((K6-SUM(AH6:AM6))>0,AN6,0)) -> 0 | AH6: =IF(AND((K6-SUM(AI6:AM6)>0),(AO6-(K6-SUM(AI6:AM6))>0)),K6-SUM(AI6:AM6),IF((K6-SUM(AI6:AM6))>0,AO6,0)) -> 0 | AI6: =IF(AND((K6-SUM(AJ6:AM6)>0),(AP6-(K6-SUM(AJ6:AM6))>0)),K6-SUM(AJ6:AM6),IF((K6-SUM(AJ6:AM6))>0,AP6,0)) -> 0 | AJ6: =IF(AND((K6-SUM(AK6:AM6)>0),(AQ6-(K6-SUM(AK6:AM6))>0)),K6-SUM(AK6:AM6),IF((K6-SUM(AK6:AM6))>0,AQ6,0)) -> 0 | AK6: =IF(AND((K6-SUM(AL6:AM6)>0),(AR6-(K6-SUM(AL6:AM6))>0)),K6-SUM(AL6:AM6),IF((K6-SUM(AL6:AM6))>0,AR6,0)) -> 0 | AL6: =IF(AND((K6-AM6)>0,(AS6-(K6-AM6))>0),(K6-AM6),IF((K6-AM6)>0,AS6,0)) -> 0 | AM6: =IF(AND(I6>0,(I6-K6)>0),K6,I6) -> 0 | AN6: =B$8 -> 0 | AO6: =IF(OR(BL6=10,BL6=11,BL6=12,BL6=1,BL6=2,BL6=3,BL6=4),B$9,$B$12) -> 0 | AP6: =IF(OR(BL6=11,BL6=12,BL6=1,BL6=2,BL6=3),B$10,) -> 0 | AQ6: =IF(OR(BL6=12,BL6=1,BL6=2),B$11,) -> 0 | AR6: =SUMIFS($B$13:$B$16,$C$13:$C$16,BM6) -> 0 | AS6: =SUMIFS($B$18:$B$29,$C$18:$C$29,BL6) -> 0 | AT6: =L6+I6 -> 0 | AX6: =MAX(AN6-AG6,0) -> 0 | AY6: =MAX(AO6-AH6,0) -> 0 | AZ6: =MAX(AP6-AI6,0) -> 0 | BA6: =MAX(AQ6-AJ6,0) -> 0 | BB6: =MAX(AR6-AK6,0) -> 0 | BC6: =MAX(AS6-AL6,0) -> 0 | BD6: =MAX(AT6-AM6,0) -> 0 | BE6: =SUM(AX6:BD6) -> 0 | BI6: =IF(Förbrukning!F5="",Förbrukning!E5,0)/IF(Förbrukning!$B$3=Listor!$B$5,F6,1) -> 0 | BJ6: =Förbrukning!F5/IF(Förbrukning!$B$3=Listor!$B$5,F6,1) -> 0 | BL6: =MONTH(D6) -> 10 | BM6: =ROUNDUP(BL6/3,0) -> 4 | BN6: =Indata!$B$6 -> 0
D7: =D6+1 -> 46298 | E7: =F7*G7 -> 0 | F7: =24+SUMIFS(Listor!$C$22:$C$23,Listor!$B$22:$B$23,Uttag!D7) -> 24 | G7: =SUM(BI7:BJ7) -> 0 | I7: =Förbrukning!H6 -> 0 | N7: =BE7 -> 0 | P7: =I7*SUMIFS(Priser!$L$3:$L$14,Priser!$A$3:$A$14,BL7) -> 0 | Q7: =Z7+AC7 -> 0 | U7: =MAX(G7-BE7,0) -> 0 | V7: =U7-W7 -> 0 | W7: =MAX(G7-BN7,0) -> 0 | X7: =COUNTIFS(V7,">0")+IF(BL7=BL6,X6,0) -> 0 | Y7: =IF(X7>=Priser!$N$6,Priser!$O$6,IF(X7>=Priser!$N$5,Priser!$O$5,IF(X7>=Priser!$N$4,Priser!$O$4,Priser!$O$3))) -> 0 | Z7: =Y7*SUMIFS(Priser!$L$3:$L$14,Priser!$A$3:$A$14,$BL7)*V7 -> 0 | AA7: =COUNTIFS(W7,">0")+IF(BL7=BL6,AA6,0) -> 0 | AB7: =IF(AA7>=Priser!$P$6,Priser!$Q$6,IF(AA7>=Priser!$P$5,Priser!$Q$5,IF(AA7>=Priser!$P$4,Priser!$Q$4,Priser!$Q$3))) -> 0 | AC7: =AB7*SUMIFS(Priser!$L$3:$L$14,Priser!$A$3:$A$14,$BL7)*W7 -> 0 | AG7: =IF(AND((K7-SUM(AH7:AM7)>0),(AN7-(K7-SUM(AH7:AM7))>0)),K7-SUM(AH7:AM7),IF((K7-SUM(AH7:AM7))>0,AN7,0)) -> 0 | AH7: =IF(AND((K7-SUM(AI7:AM7)>0),(AO7-(K7-SUM(AI7:AM7))>0)),K7-SUM(AI7:AM7),IF((K7-SUM(AI7:AM7))>0,AO7,0)) -> 0 | AI7: =IF(AND((K7-SUM(AJ7:AM7)>0),(AP7-(K7-SUM(AJ7:AM7))>0)),K7-SUM(AJ7:AM7),IF((K7-SUM(AJ7:AM7))>0,AP7,0)) -> 0 | AJ7: =IF(AND((K7-SUM(AK7:AM7)>0),(AQ7-(K7-SUM(AK7:AM7))>0)),K7-SUM(AK7:AM7),IF((K7-SUM(AK7:AM7))>0,AQ7,0)) -> 0 | AK7: =IF(AND((K7-SUM(AL7:AM7)>0),(AR7-(K7-SUM(AL7:AM7))>0)),K7-SUM(AL7:AM7),IF((K7-SUM(AL7:AM7))>0,AR7,0)) -> 0 | AL7: =IF(AND((K7-AM7)>0,(AS7-(K7-AM7))>0),(K7-AM7),IF((K7-AM7)>0,AS7,0)) -> 0 | AM7: =IF(AND(I7>0,(I7-K7)>0),K7,I7) -> 0 | AN7: =B$8 -> 0 | AO7: =IF(OR(BL7=10,BL7=11,BL7=12,BL7=1,BL7=2,BL7=3,BL7=4),B$9,$B$12) -> 0 | AP7: =IF(OR(BL7=11,BL7=12,BL7=1,BL7=2,BL7=3),B$10,) -> 0 | AQ7: =IF(OR(BL7=12,BL7=1,BL7=2),B$11,) -> 0 | AR7: =SUMIFS($B$13:$B$16,$C$13:$C$16,BM7) -> 0 | AS7: =SUMIFS($B$18:$B$29,$C$18:$C$29,BL7) -> 0 | AT7: =L7+I7 -> 0 | AX7: =MAX(AN7-AG7,0) -> 0 | AY7: =MAX(AO7-AH7,0) -> 0 | AZ7: =MAX(AP7-AI7,0) -> 0 | BA7: =MAX(AQ7-AJ7,0) -> 0 | BB7: =MAX(AR7-AK7,0) -> 0 | BC7: =MAX(AS7-AL7,0) -> 0 | BD7: =MAX(AT7-AM7,0) -> 0 | BE7: =SUM(AX7:BD7) -> 0 | BI7: =IF(Förbrukning!F6="",Förbrukning!E6,0)/IF(Förbrukning!$B$3=Listor!$B$5,F7,1) -> 0 | BJ7: =Förbrukning!F6/IF(Förbrukning!$B$3=Listor!$B$5,F7,1) -> 0 | BL7: =MONTH(D7) -> 10 | BM7: =ROUNDUP(BL7/3,0) -> 4 | BN7: =Indata!$B$6 -> 0
A8: Kap.ab Årskapacitet | B8: =Indata!B10 -> 0 | D8: =D7+1 -> 46299 | E8: =F8*G8 -> 0 | F8: =24+SUMIFS(Listor!$C$22:$C$23,Listor!$B$22:$B$23,Uttag!D8) -> 24 | G8: =SUM(BI8:BJ8) -> 0 | I8: =Förbrukning!H7 -> 0 | N8: =BE8 -> 0 | P8: =I8*SUMIFS(Priser!$L$3:$L$14,Priser!$A$3:$A$14,BL8) -> 0 | Q8: =Z8+AC8 -> 0 | U8: =MAX(G8-BE8,0) -> 0 | V8: =U8-W8 -> 0 | W8: =MAX(G8-BN8,0) -> 0 | X8: =COUNTIFS(V8,">0")+IF(BL8=BL7,X7,0) -> 0 | Y8: =IF(X8>=Priser!$N$6,Priser!$O$6,IF(X8>=Priser!$N$5,Priser!$O$5,IF(X8>=Priser!$N$4,Priser!$O$4,Priser!$O$3))) -> 0 | Z8: =Y8*SUMIFS(Priser!$L$3:$L$14,Priser!$A$3:$A$14,$BL8)*V8 -> 0 | AA8: =COUNTIFS(W8,">0")+IF(BL8=BL7,AA7,0) -> 0 | AB8: =IF(AA8>=Priser!$P$6,Priser!$Q$6,IF(AA8>=Priser!$P$5,Priser!$Q$5,IF(AA8>=Priser!$P$4,Priser!$Q$4,Priser!$Q$3))) -> 0 | AC8: =AB8*SUMIFS(Priser!$L$3:$L$14,Priser!$A$3:$A$14,$BL8)*W8 -> 0 | AG8: =IF(AND((K8-SUM(AH8:AM8)>0),(AN8-(K8-SUM(AH8:AM8))>0)),K8-SUM(AH8:AM8),IF((K8-SUM(AH8:AM8))>0,AN8,0)) -> 0 | AH8: =IF(AND((K8-SUM(AI8:AM8)>0),(AO8-(K8-SUM(AI8:AM8))>0)),K8-SUM(AI8:AM8),IF((K8-SUM(AI8:AM8))>0,AO8,0)) -> 0 | AI8: =IF(AND((K8-SUM(AJ8:AM8)>0),(AP8-(K8-SUM(AJ8:AM8))>0)),K8-SUM(AJ8:AM8),IF((K8-SUM(AJ8:AM8))>0,AP8,0)) -> 0 | AJ8: =IF(AND((K8-SUM(AK8:AM8)>0),(AQ8-(K8-SUM(AK8:AM8))>0)),K8-SUM(AK8:AM8),IF((K8-SUM(AK8:AM8))>0,AQ8,0)) -> 0 | AK8: =IF(AND((K8-SUM(AL8:AM8)>0),(AR8-(K8-SUM(AL8:AM8))>0)),K8-SUM(AL8:AM8),IF((K8-SUM(AL8:AM8))>0,AR8,0)) -> 0 | AL8: =IF(AND((K8-AM8)>0,(AS8-(K8-AM8))>0),(K8-AM8),IF((K8-AM8)>0,AS8,0)) -> 0 | AM8: =IF(AND(I8>0,(I8-K8)>0),K8,I8) -> 0 | AN8: =B$8 -> 0 | AO8: =IF(OR(BL8=10,BL8=11,BL8=12,BL8=1,BL8=2,BL8=3,BL8=4),B$9,$B$12) -> 0 | AP8: =IF(OR(BL8=11,BL8=12,BL8=1,BL8=2,BL8=3),B$10,) -> 0 | AQ8: =IF(OR(BL8=12,BL8=1,BL8=2),B$11,) -> 0 | AR8: =SUMIFS($B$13:$B$16,$C$13:$C$16,BM8) -> 0 | AS8: =SUMIFS($B$18:$B$29,$C$18:$C$29,BL8) -> 0 | AT8: =L8+I8 -> 0 | AX8: =MAX(AN8-AG8,0) -> 0 | AY8: =MAX(AO8-AH8,0) -> 0 | AZ8: =MAX(AP8-AI8,0) -> 0 | BA8: =MAX(AQ8-AJ8,0) -> 0 | BB8: =MAX(AR8-AK8,0) -> 0 | BC8: =MAX(AS8-AL8,0) -> 0 | BD8: =MAX(AT8-AM8,0) -> 0 | BE8: =SUM(AX8:BD8) -> 0 | BI8: =IF(Förbrukning!F7="",Förbrukning!E7,0)/IF(Förbrukning!$B$3=Listor!$B$5,F8,1) -> 0 | BJ8: =Förbrukning!F7/IF(Förbrukning!$B$3=Listor!$B$5,F8,1) -> 0 | BL8: =MONTH(D8) -> 10 | BM8: =ROUNDUP(BL8/3,0) -> 4 | BN8: =Indata!$B$6 -> 0
A9: Kap.ab Vinter 1 | B9: =Indata!B11 -> 0 | D9: =D8+1 -> 46300 | E9: =F9*G9 -> 0 | F9: =24+SUMIFS(Listor!$C$22:$C$23,Listor!$B$22:$B$23,Uttag!D9) -> 24 | G9: =SUM(BI9:BJ9) -> 0 | I9: =Förbrukning!H8 -> 0 | N9: =BE9 -> 0 | P9: =I9*SUMIFS(Priser!$L$3:$L$14,Priser!$A$3:$A$14,BL9) -> 0 | Q9: =Z9+AC9 -> 0 | U9: =MAX(G9-BE9,0) -> 0 | V9: =U9-W9 -> 0 | W9: =MAX(G9-BN9,0) -> 0 | X9: =COUNTIFS(V9,">0")+IF(BL9=BL8,X8,0) -> 0 | Y9: =IF(X9>=Priser!$N$6,Priser!$O$6,IF(X9>=Priser!$N$5,Priser!$O$5,IF(X9>=Priser!$N$4,Priser!$O$4,Priser!$O$3))) -> 0 | Z9: =Y9*SUMIFS(Priser!$L$3:$L$14,Priser!$A$3:$A$14,$BL9)*V9 -> 0 | AA9: =COUNTIFS(W9,">0")+IF(BL9=BL8,AA8,0) -> 0 | AB9: =IF(AA9>=Priser!$P$6,Priser!$Q$6,IF(AA9>=Priser!$P$5,Priser!$Q$5,IF(AA9>=Priser!$P$4,Priser!$Q$4,Priser!$Q$3))) -> 0 | AC9: =AB9*SUMIFS(Priser!$L$3:$L$14,Priser!$A$3:$A$14,$BL9)*W9 -> 0 | AG9: =IF(AND((K9-SUM(AH9:AM9)>0),(AN9-(K9-SUM(AH9:AM9))>0)),K9-SUM(AH9:AM9),IF((K9-SUM(AH9:AM9))>0,AN9,0)) -> 0 | AH9: =IF(AND((K9-SUM(AI9:AM9)>0),(AO9-(K9-SUM(AI9:AM9))>0)),K9-SUM(AI9:AM9),IF((K9-SUM(AI9:AM9))>0,AO9,0)) -> 0 | AI9: =IF(AND((K9-SUM(AJ9:AM9)>0),(AP9-(K9-SUM(AJ9:AM9))>0)),K9-SUM(AJ9:AM9),IF((K9-SUM(AJ9:AM9))>0,AP9,0)) -> 0 | AJ9: =IF(AND((K9-SUM(AK9:AM9)>0),(AQ9-(K9-SUM(AK9:AM9))>0)),K9-SUM(AK9:AM9),IF((K9-SUM(AK9:AM9))>0,AQ9,0)) -> 0 | AK9: =IF(AND((K9-SUM(AL9:AM9)>0),(AR9-(K9-SUM(AL9:AM9))>0)),K9-SUM(AL9:AM9),IF((K9-SUM(AL9:AM9))>0,AR9,0)) -> 0 | AL9: =IF(AND((K9-AM9)>0,(AS9-(K9-AM9))>0),(K9-AM9),IF((K9-AM9)>0,AS9,0)) -> 0 | AM9: =IF(AND(I9>0,(I9-K9)>0),K9,I9) -> 0 | AN9: =B$8 -> 0 | AO9: =IF(OR(BL9=10,BL9=11,BL9=12,BL9=1,BL9=2,BL9=3,BL9=4),B$9,$B$12) -> 0 | AP9: =IF(OR(BL9=11,BL9=12,BL9=1,BL9=2,BL9=3),B$10,) -> 0 | AQ9: =IF(OR(BL9=12,BL9=1,BL9=2),B$11,) -> 0 | AR9: =SUMIFS($B$13:$B$16,$C$13:$C$16,BM9) -> 0 | AS9: =SUMIFS($B$18:$B$29,$C$18:$C$29,BL9) -> 0 | AT9: =L9+I9 -> 0 | AX9: =MAX(AN9-AG9,0) -> 0 | AY9: =MAX(AO9-AH9,0) -> 0 | AZ9: =MAX(AP9-AI9,0) -> 0 | BA9: =MAX(AQ9-AJ9,0) -> 0 | BB9: =MAX(AR9-AK9,0) -> 0 | BC9: =MAX(AS9-AL9,0) -> 0 | BD9: =MAX(AT9-AM9,0) -> 0 | BE9: =SUM(AX9:BD9) -> 0 | BI9: =IF(Förbrukning!F8="",Förbrukning!E8,0)/IF(Förbrukning!$B$3=Listor!$B$5,F9,1) -> 0 | BJ9: =Förbrukning!F8/IF(Förbrukning!$B$3=Listor!$B$5,F9,1) -> 0 | BL9: =MONTH(D9) -> 10 | BM9: =ROUNDUP(BL9/3,0) -> 4 | BN9: =Indata!$B$6 -> 0
A10: Kap.ab Vinter 2 | B10: =Indata!B12 -> 0 | D10: =D9+1 -> 46301 | E10: =F10*G10 -> 0 | F10: =24+SUMIFS(Listor!$C$22:$C$23,Listor!$B$22:$B$23,Uttag!D10) -> 24 | G10: =SUM(BI10:BJ10) -> 0 | I10: =Förbrukning!H9 -> 0 | N10: =BE10 -> 0 | P10: =I10*SUMIFS(Priser!$L$3:$L$14,Priser!$A$3:$A$14,BL10) -> 0 | Q10: =Z10+AC10 -> 0 | U10: =MAX(G10-BE10,0) -> 0 | V10: =U10-W10 -> 0 | W10: =MAX(G10-BN10,0) -> 0 | X10: =COUNTIFS(V10,">0")+IF(BL10=BL9,X9,0) -> 0 | Y10: =IF(X10>=Priser!$N$6,Priser!$O$6,IF(X10>=Priser!$N$5,Priser!$O$5,IF(X10>=Priser!$N$4,Priser!$O$4,Priser!$O$3))) -> 0 | Z10: =Y10*SUMIFS(Priser!$L$3:$L$14,Priser!$A$3:$A$14,$BL10)*V10 -> 0 | AA10: =COUNTIFS(W10,">0")+IF(BL10=BL9,AA9,0) -> 0 | AB10: =IF(AA10>=Priser!$P$6,Priser!$Q$6,IF(AA10>=Priser!$P$5,Priser!$Q$5,IF(AA10>=Priser!$P$4,Priser!$Q$4,Priser!$Q$3))) -> 0 | AC10: =AB10*SUMIFS(Priser!$L$3:$L$14,Priser!$A$3:$A$14,$BL10)*W10 -> 0 | AG10: =IF(AND((K10-SUM(AH10:AM10)>0),(AN10-(K10-SUM(AH10:AM10))>0)),K10-SUM(AH10:AM10),IF((K10-SUM(AH10:AM10))>0,AN10,0)) -> 0 | AH10: =IF(AND((K10-SUM(AI10:AM10)>0),(AO10-(K10-SUM(AI10:AM10))>0)),K10-SUM(AI10:AM10),IF((K10-SUM(AI10:AM10))>0,AO10,0)) -> 0 | AI10: =IF(AND((K10-SUM(AJ10:AM10)>0),(AP10-(K10-SUM(AJ10:AM10))>0)),K10-SUM(AJ10:AM10),IF((K10-SUM(AJ10:AM10))>0,AP10,0)) -> 0 | AJ10: =IF(AND((K10-SUM(AK10:AM10)>0),(AQ10-(K10-SUM(AK10:AM10))>0)),K10-SUM(AK10:AM10),IF((K10-SUM(AK10:AM10))>0,AQ10,0)) -> 0 | AK10: =IF(AND((K10-SUM(AL10:AM10)>0),(AR10-(K10-SUM(AL10:AM10))>0)),K10-SUM(AL10:AM10),IF((K10-SUM(AL10:AM10))>0,AR10,0)) -> 0 | AL10: =IF(AND((K10-AM10)>0,(AS10-(K10-AM10))>0),(K10-AM10),IF((K10-AM10)>0,AS10,0)) -> 0 | AM10: =IF(AND(I10>0,(I10-K10)>0),K10,I10) -> 0 | AN10: =B$8 -> 0 | AO10: =IF(OR(BL10=10,BL10=11,BL10=12,BL10=1,BL10=2,BL10=3,BL10=4),B$9,$B$12) -> 0 | AP10: =IF(OR(BL10=11,BL10=12,BL10=1,BL10=2,BL10=3),B$10,) -> 0 | AQ10: =IF(OR(BL10=12,BL10=1,BL10=2),B$11,) -> 0 | AR10: =SUMIFS($B$13:$B$16,$C$13:$C$16,BM10) -> 0 | AS10: =SUMIFS($B$18:$B$29,$C$18:$C$29,BL10) -> 0 | AT10: =L10+I10 -> 0 | AX10: =MAX(AN10-AG10,0) -> 0 | AY10: =MAX(AO10-AH10,0) -> 0 | AZ10: =MAX(AP10-AI10,0) -> 0 | BA10: =MAX(AQ10-AJ10,0) -> 0 | BB10: =MAX(AR10-AK10,0) -> 0 | BC10: =MAX(AS10-AL10,0) -> 0 | BD10: =MAX(AT10-AM10,0) -> 0 | BE10: =SUM(AX10:BD10) -> 0 | BI10: =IF(Förbrukning!F9="",Förbrukning!E9,0)/IF(Förbrukning!$B$3=Listor!$B$5,F10,1) -> 0 | BJ10: =Förbrukning!F9/IF(Förbrukning!$B$3=Listor!$B$5,F10,1) -> 0 | BL10: =MONTH(D10) -> 10 | BM10: =ROUNDUP(BL10/3,0) -> 4 | BN10: =Indata!$B$6 -> 0
A11: Kap.ab Vinter 3 | B11: =Indata!B13 -> 0 | D11: =D10+1 -> 46302 | E11: =F11*G11 -> 0 | F11: =24+SUMIFS(Listor!$C$22:$C$23,Listor!$B$22:$B$23,Uttag!D11) -> 24 | G11: =SUM(BI11:BJ11) -> 0 | I11: =Förbrukning!H10 -> 0 | N11: =BE11 -> 0 | P11: =I11*SUMIFS(Priser!$L$3:$L$14,Priser!$A$3:$A$14,BL11) -> 0 | Q11: =Z11+AC11 -> 0 | U11: =MAX(G11-BE11,0) -> 0 | V11: =U11-W11 -> 0 | W11: =MAX(G11-BN11,0) -> 0 | X11: =COUNTIFS(V11,">0")+IF(BL11=BL10,X10,0) -> 0 | Y11: =IF(X11>=Priser!$N$6,Priser!$O$6,IF(X11>=Priser!$N$5,Priser!$O$5,IF(X11>=Priser!$N$4,Priser!$O$4,Priser!$O$3))) -> 0 | Z11: =Y11*SUMIFS(Priser!$L$3:$L$14,Priser!$A$3:$A$14,$BL11)*V11 -> 0 | AA11: =COUNTIFS(W11,">0")+IF(BL11=BL10,AA10,0) -> 0 | AB11: =IF(AA11>=Priser!$P$6,Priser!$Q$6,IF(AA11>=Priser!$P$5,Priser!$Q$5,IF(AA11>=Priser!$P$4,Priser!$Q$4,Priser!$Q$3))) -> 0 | AC11: =AB11*SUMIFS(Priser!$L$3:$L$14,Priser!$A$3:$A$14,$BL11)*W11 -> 0 | AG11: =IF(AND((K11-SUM(AH11:AM11)>0),(AN11-(K11-SUM(AH11:AM11))>0)),K11-SUM(AH11:AM11),IF((K11-SUM(AH11:AM11))>0,AN11,0)) -> 0 | AH11: =IF(AND((K11-SUM(AI11:AM11)>0),(AO11-(K11-SUM(AI11:AM11))>0)),K11-SUM(AI11:AM11),IF((K11-SUM(AI11:AM11))>0,AO11,0)) -> 0 | AI11: =IF(AND((K11-SUM(AJ11:AM11)>0),(AP11-(K11-SUM(AJ11:AM11))>0)),K11-SUM(AJ11:AM11),IF((K11-SUM(AJ11:AM11))>0,AP11,0)) -> 0 | AJ11: =IF(AND((K11-SUM(AK11:AM11)>0),(AQ11-(K11-SUM(AK11:AM11))>0)),K11-SUM(AK11:AM11),IF((K11-SUM(AK11:AM11))>0,AQ11,0)) -> 0 | AK11: =IF(AND((K11-SUM(AL11:AM11)>0),(AR11-(K11-SUM(AL11:AM11))>0)),K11-SUM(AL11:AM11),IF((K11-SUM(AL11:AM11))>0,AR11,0)) -> 0 | AL11: =IF(AND((K11-AM11)>0,(AS11-(K11-AM11))>0),(K11-AM11),IF((K11-AM11)>0,AS11,0)) -> 0 | AM11: =IF(AND(I11>0,(I11-K11)>0),K11,I11) -> 0 | AN11: =B$8 -> 0 | AO11: =IF(OR(BL11=10,BL11=11,BL11=12,BL11=1,BL11=2,BL11=3,BL11=4),B$9,$B$12) -> 0 | AP11: =IF(OR(BL11=11,BL11=12,BL11=1,BL11=2,BL11=3),B$10,) -> 0 | AQ11: =IF(OR(BL11=12,BL11=1,BL11=2),B$11,) -> 0 | AR11: =SUMIFS($B$13:$B$16,$C$13:$C$16,BM11) -> 0 | AS11: =SUMIFS($B$18:$B$29,$C$18:$C$29,BL11) -> 0 | AT11: =L11+I11 -> 0 | AX11: =MAX(AN11-AG11,0) -> 0 | AY11: =MAX(AO11-AH11,0) -> 0 | AZ11: =MAX(AP11-AI11,0) -> 0 | BA11: =MAX(AQ11-AJ11,0) -> 0 | BB11: =MAX(AR11-AK11,0) -> 0 | BC11: =MAX(AS11-AL11,0) -> 0 | BD11: =MAX(AT11-AM11,0) -> 0 | BE11: =SUM(AX11:BD11) -> 0 | BI11: =IF(Förbrukning!F10="",Förbrukning!E10,0)/IF(Förbrukning!$B$3=Listor!$B$5,F11,1) -> 0 | BJ11: =Förbrukning!F10/IF(Förbrukning!$B$3=Listor!$B$5,F11,1) -> 0 | BL11: =MONTH(D11) -> 10 | BM11: =ROUNDUP(BL11/3,0) -> 4 | BN11: =Indata!$B$6 -> 0
A12: Kap.ab Sommar | B12: =Indata!B14 -> 0 | D12: =D11+1 -> 46303 | E12: =F12*G12 -> 0 | F12: =24+SUMIFS(Listor!$C$22:$C$23,Listor!$B$22:$B$23,Uttag!D12) -> 24 | G12: =SUM(BI12:BJ12) -> 0 | I12: =Förbrukning!H11 -> 0 | N12: =BE12 -> 0 | P12: =I12*SUMIFS(Priser!$L$3:$L$14,Priser!$A$3:$A$14,BL12) -> 0 | Q12: =Z12+AC12 -> 0 | U12: =MAX(G12-BE12,0) -> 0 | V12: =U12-W12 -> 0 | W12: =MAX(G12-BN12,0) -> 0 | X12: =COUNTIFS(V12,">0")+IF(BL12=BL11,X11,0) -> 0 | Y12: =IF(X12>=Priser!$N$6,Priser!$O$6,IF(X12>=Priser!$N$5,Priser!$O$5,IF(X12>=Priser!$N$4,Priser!$O$4,Priser!$O$3))) -> 0 | Z12: =Y12*SUMIFS(Priser!$L$3:$L$14,Priser!$A$3:$A$14,$BL12)*V12 -> 0 | AA12: =COUNTIFS(W12,">0")+IF(BL12=BL11,AA11,0) -> 0 | AB12: =IF(AA12>=Priser!$P$6,Priser!$Q$6,IF(AA12>=Priser!$P$5,Priser!$Q$5,IF(AA12>=Priser!$P$4,Priser!$Q$4,Priser!$Q$3))) -> 0 | AC12: =AB12*SUMIFS(Priser!$L$3:$L$14,Priser!$A$3:$A$14,$BL12)*W12 -> 0 | AG12: =IF(AND((K12-SUM(AH12:AM12)>0),(AN12-(K12-SUM(AH12:AM12))>0)),K12-SUM(AH12:AM12),IF((K12-SUM(AH12:AM12))>0,AN12,0)) -> 0 | AH12: =IF(AND((K12-SUM(AI12:AM12)>0),(AO12-(K12-SUM(AI12:AM12))>0)),K12-SUM(AI12:AM12),IF((K12-SUM(AI12:AM12))>0,AO12,0)) -> 0 | AI12: =IF(AND((K12-SUM(AJ12:AM12)>0),(AP12-(K12-SUM(AJ12:AM12))>0)),K12-SUM(AJ12:AM12),IF((K12-SUM(AJ12:AM12))>0,AP12,0)) -> 0 | AJ12: =IF(AND((K12-SUM(AK12:AM12)>0),(AQ12-(K12-SUM(AK12:AM12))>0)),K12-SUM(AK12:AM12),IF((K12-SUM(AK12:AM12))>0,AQ12,0)) -> 0 | AK12: =IF(AND((K12-SUM(AL12:AM12)>0),(AR12-(K12-SUM(AL12:AM12))>0)),K12-SUM(AL12:AM12),IF((K12-SUM(AL12:AM12))>0,AR12,0)) -> 0 | AL12: =IF(AND((K12-AM12)>0,(AS12-(K12-AM12))>0),(K12-AM12),IF((K12-AM12)>0,AS12,0)) -> 0 | AM12: =IF(AND(I12>0,(I12-K12)>0),K12,I12) -> 0 | AN12: =B$8 -> 0 | AO12: =IF(OR(BL12=10,BL12=11,BL12=12,BL12=1,BL12=2,BL12=3,BL12=4),B$9,$B$12) -> 0 | AP12: =IF(OR(BL12=11,BL12=12,BL12=1,BL12=2,BL12=3),B$10,) -> 0 | AQ12: =IF(OR(BL12=12,BL12=1,BL12=2),B$11,) -> 0 | AR12: =SUMIFS($B$13:$B$16,$C$13:$C$16,BM12) -> 0 | AS12: =SUMIFS($B$18:$B$29,$C$18:$C$29,BL12) -> 0 | AT12: =L12+I12 -> 0 | AX12: =MAX(AN12-AG12,0) -> 0 | AY12: =MAX(AO12-AH12,0) -> 0 | AZ12: =MAX(AP12-AI12,0) -> 0 | BA12: =MAX(AQ12-AJ12,0) -> 0 | BB12: =MAX(AR12-AK12,0) -> 0 | BC12: =MAX(AS12-AL12,0) -> 0 | BD12: =MAX(AT12-AM12,0) -> 0 | BE12: =SUM(AX12:BD12) -> 0 | BI12: =IF(Förbrukning!F11="",Förbrukning!E11,0)/IF(Förbrukning!$B$3=Listor!$B$5,F12,1) -> 0 | BJ12: =Förbrukning!F11/IF(Förbrukning!$B$3=Listor!$B$5,F12,1) -> 0 | BL12: =MONTH(D12) -> 10 | BM12: =ROUNDUP(BL12/3,0) -> 4 | BN12: =Indata!$B$6 -> 0
A13: Kap.ab Kvartal 4 | B13: =Indata!B15 -> 0 | C13: 4 | D13: =D12+1 -> 46304 | E13: =F13*G13 -> 0 | F13: =24+SUMIFS(Listor!$C$22:$C$23,Listor!$B$22:$B$23,Uttag!D13) -> 24 | G13: =SUM(BI13:BJ13) -> 0 | I13: =Förbrukning!H12 -> 0 | N13: =BE13 -> 0 | P13: =I13*SUMIFS(Priser!$L$3:$L$14,Priser!$A$3:$A$14,BL13) -> 0 | Q13: =Z13+AC13 -> 0 | U13: =MAX(G13-BE13,0) -> 0 | V13: =U13-W13 -> 0 | W13: =MAX(G13-BN13,0) -> 0 | X13: =COUNTIFS(V13,">0")+IF(BL13=BL12,X12,0) -> 0 | Y13: =IF(X13>=Priser!$N$6,Priser!$O$6,IF(X13>=Priser!$N$5,Priser!$O$5,IF(X13>=Priser!$N$4,Priser!$O$4,Priser!$O$3))) -> 0 | Z13: =Y13*SUMIFS(Priser!$L$3:$L$14,Priser!$A$3:$A$14,$BL13)*V13 -> 0 | AA13: =COUNTIFS(W13,">0")+IF(BL13=BL12,AA12,0) -> 0 | AB13: =IF(AA13>=Priser!$P$6,Priser!$Q$6,IF(AA13>=Priser!$P$5,Priser!$Q$5,IF(AA13>=Priser!$P$4,Priser!$Q$4,Priser!$Q$3))) -> 0 | AC13: =AB13*SUMIFS(Priser!$L$3:$L$14,Priser!$A$3:$A$14,$BL13)*W13 -> 0 | AG13: =IF(AND((K13-SUM(AH13:AM13)>0),(AN13-(K13-SUM(AH13:AM13))>0)),K13-SUM(AH13:AM13),IF((K13-SUM(AH13:AM13))>0,AN13,0)) -> 0 | AH13: =IF(AND((K13-SUM(AI13:AM13)>0),(AO13-(K13-SUM(AI13:AM13))>0)),K13-SUM(AI13:AM13),IF((K13-SUM(AI13:AM13))>0,AO13,0)) -> 0 | AI13: =IF(AND((K13-SUM(AJ13:AM13)>0),(AP13-(K13-SUM(AJ13:AM13))>0)),K13-SUM(AJ13:AM13),IF((K13-SUM(AJ13:AM13))>0,AP13,0)) -> 0 | AJ13: =IF(AND((K13-SUM(AK13:AM13)>0),(AQ13-(K13-SUM(AK13:AM13))>0)),K13-SUM(AK13:AM13),IF((K13-SUM(AK13:AM13))>0,AQ13,0)) -> 0 | AK13: =IF(AND((K13-SUM(AL13:AM13)>0),(AR13-(K13-SUM(AL13:AM13))>0)),K13-SUM(AL13:AM13),IF((K13-SUM(AL13:AM13))>0,AR13,0)) -> 0 | AL13: =IF(AND((K13-AM13)>0,(AS13-(K13-AM13))>0),(K13-AM13),IF((K13-AM13)>0,AS13,0)) -> 0 | AM13: =IF(AND(I13>0,(I13-K13)>0),K13,I13) -> 0 | AN13: =B$8 -> 0 | AO13: =IF(OR(BL13=10,BL13=11,BL13=12,BL13=1,BL13=2,BL13=3,BL13=4),B$9,$B$12) -> 0 | AP13: =IF(OR(BL13=11,BL13=12,BL13=1,BL13=2,BL13=3),B$10,) -> 0 | AQ13: =IF(OR(BL13=12,BL13=1,BL13=2),B$11,) -> 0 | AR13: =SUMIFS($B$13:$B$16,$C$13:$C$16,BM13) -> 0 | AS13: =SUMIFS($B$18:$B$29,$C$18:$C$29,BL13) -> 0 | AT13: =L13+I13 -> 0 | AX13: =MAX(AN13-AG13,0) -> 0 | AY13: =MAX(AO13-AH13,0) -> 0 | AZ13: =MAX(AP13-AI13,0) -> 0 | BA13: =MAX(AQ13-AJ13,0) -> 0 | BB13: =MAX(AR13-AK13,0) -> 0 | BC13: =MAX(AS13-AL13,0) -> 0 | BD13: =MAX(AT13-AM13,0) -> 0 | BE13: =SUM(AX13:BD13) -> 0 | BI13: =IF(Förbrukning!F12="",Förbrukning!E12,0)/IF(Förbrukning!$B$3=Listor!$B$5,F13,1) -> 0 | BJ13: =Förbrukning!F12/IF(Förbrukning!$B$3=Listor!$B$5,F13,1) -> 0 | BL13: =MONTH(D13) -> 10 | BM13: =ROUNDUP(BL13/3,0) -> 4 | BN13: =Indata!$B$6 -> 0
A14: Kap.ab Kvartal 1 | B14: =Indata!B16 -> 0 | C14: 1 | D14: =D13+1 -> 46305 | E14: =F14*G14 -> 0 | F14: =24+SUMIFS(Listor!$C$22:$C$23,Listor!$B$22:$B$23,Uttag!D14) -> 24 | G14: =SUM(BI14:BJ14) -> 0 | I14: =Förbrukning!H13 -> 0 | N14: =BE14 -> 0 | P14: =I14*SUMIFS(Priser!$L$3:$L$14,Priser!$A$3:$A$14,BL14) -> 0 | Q14: =Z14+AC14 -> 0 | U14: =MAX(G14-BE14,0) -> 0 | V14: =U14-W14 -> 0 | W14: =MAX(G14-BN14,0) -> 0 | X14: =COUNTIFS(V14,">0")+IF(BL14=BL13,X13,0) -> 0 | Y14: =IF(X14>=Priser!$N$6,Priser!$O$6,IF(X14>=Priser!$N$5,Priser!$O$5,IF(X14>=Priser!$N$4,Priser!$O$4,Priser!$O$3))) -> 0 | Z14: =Y14*SUMIFS(Priser!$L$3:$L$14,Priser!$A$3:$A$14,$BL14)*V14 -> 0 | AA14: =COUNTIFS(W14,">0")+IF(BL14=BL13,AA13,0) -> 0 | AB14: =IF(AA14>=Priser!$P$6,Priser!$Q$6,IF(AA14>=Priser!$P$5,Priser!$Q$5,IF(AA14>=Priser!$P$4,Priser!$Q$4,Priser!$Q$3))) -> 0 | AC14: =AB14*SUMIFS(Priser!$L$3:$L$14,Priser!$A$3:$A$14,$BL14)*W14 -> 0 | AG14: =IF(AND((K14-SUM(AH14:AM14)>0),(AN14-(K14-SUM(AH14:AM14))>0)),K14-SUM(AH14:AM14),IF((K14-SUM(AH14:AM14))>0,AN14,0)) -> 0 | AH14: =IF(AND((K14-SUM(AI14:AM14)>0),(AO14-(K14-SUM(AI14:AM14))>0)),K14-SUM(AI14:AM14),IF((K14-SUM(AI14:AM14))>0,AO14,0)) -> 0 | AI14: =IF(AND((K14-SUM(AJ14:AM14)>0),(AP14-(K14-SUM(AJ14:AM14))>0)),K14-SUM(AJ14:AM14),IF((K14-SUM(AJ14:AM14))>0,AP14,0)) -> 0 | AJ14: =IF(AND((K14-SUM(AK14:AM14)>0),(AQ14-(K14-SUM(AK14:AM14))>0)),K14-SUM(AK14:AM14),IF((K14-SUM(AK14:AM14))>0,AQ14,0)) -> 0 | AK14: =IF(AND((K14-SUM(AL14:AM14)>0),(AR14-(K14-SUM(AL14:AM14))>0)),K14-SUM(AL14:AM14),IF((K14-SUM(AL14:AM14))>0,AR14,0)) -> 0 | AL14: =IF(AND((K14-AM14)>0,(AS14-(K14-AM14))>0),(K14-AM14),IF((K14-AM14)>0,AS14,0)) -> 0 | AM14: =IF(AND(I14>0,(I14-K14)>0),K14,I14) -> 0 | AN14: =B$8 -> 0 | AO14: =IF(OR(BL14=10,BL14=11,BL14=12,BL14=1,BL14=2,BL14=3,BL14=4),B$9,$B$12) -> 0 | AP14: =IF(OR(BL14=11,BL14=12,BL14=1,BL14=2,BL14=3),B$10,) -> 0 | AQ14: =IF(OR(BL14=12,BL14=1,BL14=2),B$11,) -> 0 | AR14: =SUMIFS($B$13:$B$16,$C$13:$C$16,BM14) -> 0 | AS14: =SUMIFS($B$18:$B$29,$C$18:$C$29,BL14) -> 0 | AT14: =L14+I14 -> 0 | AX14: =MAX(AN14-AG14,0) -> 0 | AY14: =MAX(AO14-AH14,0) -> 0 | AZ14: =MAX(AP14-AI14,0) -> 0 | BA14: =MAX(AQ14-AJ14,0) -> 0 | BB14: =MAX(AR14-AK14,0) -> 0 | BC14: =MAX(AS14-AL14,0) -> 0 | BD14: =MAX(AT14-AM14,0) -> 0 | BE14: =SUM(AX14:BD14) -> 0 | BI14: =IF(Förbrukning!F13="",Förbrukning!E13,0)/IF(Förbrukning!$B$3=Listor!$B$5,F14,1) -> 0 | BJ14: =Förbrukning!F13/IF(Förbrukning!$B$3=Listor!$B$5,F14,1) -> 0 | BL14: =MONTH(D14) -> 10 | BM14: =ROUNDUP(BL14/3,0) -> 4 | BN14: =Indata!$B$6 -> 0
A15: Kap.ab Kvartal 2 | B15: =Indata!B17 -> 0 | C15: 2 | D15: =D14+1 -> 46306 | E15: =F15*G15 -> 0 | F15: =24+SUMIFS(Listor!$C$22:$C$23,Listor!$B$22:$B$23,Uttag!D15) -> 24 | G15: =SUM(BI15:BJ15) -> 0 | I15: =Förbrukning!H14 -> 0 | N15: =BE15 -> 0 | P15: =I15*SUMIFS(Priser!$L$3:$L$14,Priser!$A$3:$A$14,BL15) -> 0 | Q15: =Z15+AC15 -> 0 | U15: =MAX(G15-BE15,0) -> 0 | V15: =U15-W15 -> 0 | W15: =MAX(G15-BN15,0) -> 0 | X15: =COUNTIFS(V15,">0")+IF(BL15=BL14,X14,0) -> 0 | Y15: =IF(X15>=Priser!$N$6,Priser!$O$6,IF(X15>=Priser!$N$5,Priser!$O$5,IF(X15>=Priser!$N$4,Priser!$O$4,Priser!$O$3))) -> 0 | Z15: =Y15*SUMIFS(Priser!$L$3:$L$14,Priser!$A$3:$A$14,$BL15)*V15 -> 0 | AA15: =COUNTIFS(W15,">0")+IF(BL15=BL14,AA14,0) -> 0 | AB15: =IF(AA15>=Priser!$P$6,Priser!$Q$6,IF(AA15>=Priser!$P$5,Priser!$Q$5,IF(AA15>=Priser!$P$4,Priser!$Q$4,Priser!$Q$3))) -> 0 | AC15: =AB15*SUMIFS(Priser!$L$3:$L$14,Priser!$A$3:$A$14,$BL15)*W15 -> 0 | AG15: =IF(AND((K15-SUM(AH15:AM15)>0),(AN15-(K15-SUM(AH15:AM15))>0)),K15-SUM(AH15:AM15),IF((K15-SUM(AH15:AM15))>0,AN15,0)) -> 0 | AH15: =IF(AND((K15-SUM(AI15:AM15)>0),(AO15-(K15-SUM(AI15:AM15))>0)),K15-SUM(AI15:AM15),IF((K15-SUM(AI15:AM15))>0,AO15,0)) -> 0 | AI15: =IF(AND((K15-SUM(AJ15:AM15)>0),(AP15-(K15-SUM(AJ15:AM15))>0)),K15-SUM(AJ15:AM15),IF((K15-SUM(AJ15:AM15))>0,AP15,0)) -> 0 | AJ15: =IF(AND((K15-SUM(AK15:AM15)>0),(AQ15-(K15-SUM(AK15:AM15))>0)),K15-SUM(AK15:AM15),IF((K15-SUM(AK15:AM15))>0,AQ15,0)) -> 0 | AK15: =IF(AND((K15-SUM(AL15:AM15)>0),(AR15-(K15-SUM(AL15:AM15))>0)),K15-SUM(AL15:AM15),IF((K15-SUM(AL15:AM15))>0,AR15,0)) -> 0 | AL15: =IF(AND((K15-AM15)>0,(AS15-(K15-AM15))>0),(K15-AM15),IF((K15-AM15)>0,AS15,0)) -> 0 | AM15: =IF(AND(I15>0,(I15-K15)>0),K15,I15) -> 0 | AN15: =B$8 -> 0 | AO15: =IF(OR(BL15=10,BL15=11,BL15=12,BL15=1,BL15=2,BL15=3,BL15=4),B$9,$B$12) -> 0 | AP15: =IF(OR(BL15=11,BL15=12,BL15=1,BL15=2,BL15=3),B$10,) -> 0 | AQ15: =IF(OR(BL15=12,BL15=1,BL15=2),B$11,) -> 0 | AR15: =SUMIFS($B$13:$B$16,$C$13:$C$16,BM15) -> 0 | AS15: =SUMIFS($B$18:$B$29,$C$18:$C$29,BL15) -> 0 | AT15: =L15+I15 -> 0 | AX15: =MAX(AN15-AG15,0) -> 0 | AY15: =MAX(AO15-AH15,0) -> 0 | AZ15: =MAX(AP15-AI15,0) -> 0 | BA15: =MAX(AQ15-AJ15,0) -> 0 | BB15: =MAX(AR15-AK15,0) -> 0 | BC15: =MAX(AS15-AL15,0) -> 0 | BD15: =MAX(AT15-AM15,0) -> 0 | BE15: =SUM(AX15:BD15) -> 0 | BI15: =IF(Förbrukning!F14="",Förbrukning!E14,0)/IF(Förbrukning!$B$3=Listor!$B$5,F15,1) -> 0 | BJ15: =Förbrukning!F14/IF(Förbrukning!$B$3=Listor!$B$5,F15,1) -> 0 | BL15: =MONTH(D15) -> 10 | BM15: =ROUNDUP(BL15/3,0) -> 4 | BN15: =Indata!$B$6 -> 0
A16: Kap.ab Kvartal 3 | B16: =Indata!B18 -> 0 | C16: 3 | D16: =D15+1 -> 46307 | E16: =F16*G16 -> 0 | F16: =24+SUMIFS(Listor!$C$22:$C$23,Listor!$B$22:$B$23,Uttag!D16) -> 24 | G16: =SUM(BI16:BJ16) -> 0 | I16: =Förbrukning!H15 -> 0 | N16: =BE16 -> 0 | P16: =I16*SUMIFS(Priser!$L$3:$L$14,Priser!$A$3:$A$14,BL16) -> 0 | Q16: =Z16+AC16 -> 0 | U16: =MAX(G16-BE16,0) -> 0 | V16: =U16-W16 -> 0 | W16: =MAX(G16-BN16,0) -> 0 | X16: =COUNTIFS(V16,">0")+IF(BL16=BL15,X15,0) -> 0 | Y16: =IF(X16>=Priser!$N$6,Priser!$O$6,IF(X16>=Priser!$N$5,Priser!$O$5,IF(X16>=Priser!$N$4,Priser!$O$4,Priser!$O$3))) -> 0 | Z16: =Y16*SUMIFS(Priser!$L$3:$L$14,Priser!$A$3:$A$14,$BL16)*V16 -> 0 | AA16: =COUNTIFS(W16,">0")+IF(BL16=BL15,AA15,0) -> 0 | AB16: =IF(AA16>=Priser!$P$6,Priser!$Q$6,IF(AA16>=Priser!$P$5,Priser!$Q$5,IF(AA16>=Priser!$P$4,Priser!$Q$4,Priser!$Q$3))) -> 0 | AC16: =AB16*SUMIFS(Priser!$L$3:$L$14,Priser!$A$3:$A$14,$BL16)*W16 -> 0 | AG16: =IF(AND((K16-SUM(AH16:AM16)>0),(AN16-(K16-SUM(AH16:AM16))>0)),K16-SUM(AH16:AM16),IF((K16-SUM(AH16:AM16))>0,AN16,0)) -> 0 | AH16: =IF(AND((K16-SUM(AI16:AM16)>0),(AO16-(K16-SUM(AI16:AM16))>0)),K16-SUM(AI16:AM16),IF((K16-SUM(AI16:AM16))>0,AO16,0)) -> 0 | AI16: =IF(AND((K16-SUM(AJ16:AM16)>0),(AP16-(K16-SUM(AJ16:AM16))>0)),K16-SUM(AJ16:AM16),IF((K16-SUM(AJ16:AM16))>0,AP16,0)) -> 0 | AJ16: =IF(AND((K16-SUM(AK16:AM16)>0),(AQ16-(K16-SUM(AK16:AM16))>0)),K16-SUM(AK16:AM16),IF((K16-SUM(AK16:AM16))>0,AQ16,0)) -> 0 | AK16: =IF(AND((K16-SUM(AL16:AM16)>0),(AR16-(K16-SUM(AL16:AM16))>0)),K16-SUM(AL16:AM16),IF((K16-SUM(AL16:AM16))>0,AR16,0)) -> 0 | AL16: =IF(AND((K16-AM16)>0,(AS16-(K16-AM16))>0),(K16-AM16),IF((K16-AM16)>0,AS16,0)) -> 0 | AM16: =IF(AND(I16>0,(I16-K16)>0),K16,I16) -> 0 | AN16: =B$8 -> 0 | AO16: =IF(OR(BL16=10,BL16=11,BL16=12,BL16=1,BL16=2,BL16=3,BL16=4),B$9,$B$12) -> 0 | AP16: =IF(OR(BL16=11,BL16=12,BL16=1,BL16=2,BL16=3),B$10,) -> 0 | AQ16: =IF(OR(BL16=12,BL16=1,BL16=2),B$11,) -> 0 | AR16: =SUMIFS($B$13:$B$16,$C$13:$C$16,BM16) -> 0 | AS16: =SUMIFS($B$18:$B$29,$C$18:$C$29,BL16) -> 0 | AT16: =L16+I16 -> 0 | AX16: =MAX(AN16-AG16,0) -> 0 | AY16: =MAX(AO16-AH16,0) -> 0 | AZ16: =MAX(AP16-AI16,0) -> 0 | BA16: =MAX(AQ16-AJ16,0) -> 0 | BB16: =MAX(AR16-AK16,0) -> 0 | BC16: =MAX(AS16-AL16,0) -> 0 | BD16: =MAX(AT16-AM16,0) -> 0 | BE16: =SUM(AX16:BD16) -> 0 | BI16: =IF(Förbrukning!F15="",Förbrukning!E15,0)/IF(Förbrukning!$B$3=Listor!$B$5,F16,1) -> 0 | BJ16: =Förbrukning!F15/IF(Förbrukning!$B$3=Listor!$B$5,F16,1) -> 0 | BL16: =MONTH(D16) -> 10 | BM16: =ROUNDUP(BL16/3,0) -> 4 | BN16: =Indata!$B$6 -> 0
D17: =D16+1 -> 46308 | E17: =F17*G17 -> 0 | F17: =24+SUMIFS(Listor!$C$22:$C$23,Listor!$B$22:$B$23,Uttag!D17) -> 24 | G17: =SUM(BI17:BJ17) -> 0 | I17: =Förbrukning!H16 -> 0 | N17: =BE17 -> 0 | P17: =I17*SUMIFS(Priser!$L$3:$L$14,Priser!$A$3:$A$14,BL17) -> 0 | Q17: =Z17+AC17 -> 0 | U17: =MAX(G17-BE17,0) -> 0 | V17: =U17-W17 -> 0 | W17: =MAX(G17-BN17,0) -> 0 | X17: =COUNTIFS(V17,">0")+IF(BL17=BL16,X16,0) -> 0 | Y17: =IF(X17>=Priser!$N$6,Priser!$O$6,IF(X17>=Priser!$N$5,Priser!$O$5,IF(X17>=Priser!$N$4,Priser!$O$4,Priser!$O$3))) -> 0 | Z17: =Y17*SUMIFS(Priser!$L$3:$L$14,Priser!$A$3:$A$14,$BL17)*V17 -> 0 | AA17: =COUNTIFS(W17,">0")+IF(BL17=BL16,AA16,0) -> 0 | AB17: =IF(AA17>=Priser!$P$6,Priser!$Q$6,IF(AA17>=Priser!$P$5,Priser!$Q$5,IF(AA17>=Priser!$P$4,Priser!$Q$4,Priser!$Q$3))) -> 0 | AC17: =AB17*SUMIFS(Priser!$L$3:$L$14,Priser!$A$3:$A$14,$BL17)*W17 -> 0 | AG17: =IF(AND((K17-SUM(AH17:AM17)>0),(AN17-(K17-SUM(AH17:AM17))>0)),K17-SUM(AH17:AM17),IF((K17-SUM(AH17:AM17))>0,AN17,0)) -> 0 | AH17: =IF(AND((K17-SUM(AI17:AM17)>0),(AO17-(K17-SUM(AI17:AM17))>0)),K17-SUM(AI17:AM17),IF((K17-SUM(AI17:AM17))>0,AO17,0)) -> 0 | AI17: =IF(AND((K17-SUM(AJ17:AM17)>0),(AP17-(K17-SUM(AJ17:AM17))>0)),K17-SUM(AJ17:AM17),IF((K17-SUM(AJ17:AM17))>0,AP17,0)) -> 0 | AJ17: =IF(AND((K17-SUM(AK17:AM17)>0),(AQ17-(K17-SUM(AK17:AM17))>0)),K17-SUM(AK17:AM17),IF((K17-SUM(AK17:AM17))>0,AQ17,0)) -> 0 | AK17: =IF(AND((K17-SUM(AL17:AM17)>0),(AR17-(K17-SUM(AL17:AM17))>0)),K17-SUM(AL17:AM17),IF((K17-SUM(AL17:AM17))>0,AR17,0)) -> 0 | AL17: =IF(AND((K17-AM17)>0,(AS17-(K17-AM17))>0),(K17-AM17),IF((K17-AM17)>0,AS17,0)) -> 0 | AM17: =IF(AND(I17>0,(I17-K17)>0),K17,I17) -> 0 | AN17: =B$8 -> 0 | AO17: =IF(OR(BL17=10,BL17=11,BL17=12,BL17=1,BL17=2,BL17=3,BL17=4),B$9,$B$12) -> 0 | AP17: =IF(OR(BL17=11,BL17=12,BL17=1,BL17=2,BL17=3),B$10,) -> 0 | AQ17: =IF(OR(BL17=12,BL17=1,BL17=2),B$11,) -> 0 | AR17: =SUMIFS($B$13:$B$16,$C$13:$C$16,BM17) -> 0 | AS17: =SUMIFS($B$18:$B$29,$C$18:$C$29,BL17) -> 0 | AT17: =L17+I17 -> 0 | AX17: =MAX(AN17-AG17,0) -> 0 | AY17: =MAX(AO17-AH17,0) -> 0 | AZ17: =MAX(AP17-AI17,0) -> 0 | BA17: =MAX(AQ17-AJ17,0) -> 0 | BB17: =MAX(AR17-AK17,0) -> 0 | BC17: =MAX(AS17-AL17,0) -> 0 | BD17: =MAX(AT17-AM17,0) -> 0 | BE17: =SUM(AX17:BD17) -> 0 | BI17: =IF(Förbrukning!F16="",Förbrukning!E16,0)/IF(Förbrukning!$B$3=Listor!$B$5,F17,1) -> 0 | BJ17: =Förbrukning!F16/IF(Förbrukning!$B$3=Listor!$B$5,F17,1) -> 0 | BL17: =MONTH(D17) -> 10 | BM17: =ROUNDUP(BL17/3,0) -> 4 | BN17: =Indata!$B$6 -> 0
A18: Kap.ab Oktober | B18: =Indata!B20 -> 0 | C18: 10 | D18: =D17+1 -> 46309 | E18: =F18*G18 -> 0 | F18: =24+SUMIFS(Listor!$C$22:$C$23,Listor!$B$22:$B$23,Uttag!D18) -> 24 | G18: =SUM(BI18:BJ18) -> 0 | I18: =Förbrukning!H17 -> 0 | N18: =BE18 -> 0 | P18: =I18*SUMIFS(Priser!$L$3:$L$14,Priser!$A$3:$A$14,BL18) -> 0 | Q18: =Z18+AC18 -> 0 | U18: =MAX(G18-BE18,0) -> 0 | V18: =U18-W18 -> 0 | W18: =MAX(G18-BN18,0) -> 0 | X18: =COUNTIFS(V18,">0")+IF(BL18=BL17,X17,0) -> 0 | Y18: =IF(X18>=Priser!$N$6,Priser!$O$6,IF(X18>=Priser!$N$5,Priser!$O$5,IF(X18>=Priser!$N$4,Priser!$O$4,Priser!$O$3))) -> 0 | Z18: =Y18*SUMIFS(Priser!$L$3:$L$14,Priser!$A$3:$A$14,$BL18)*V18 -> 0 | AA18: =COUNTIFS(W18,">0")+IF(BL18=BL17,AA17,0) -> 0 | AB18: =IF(AA18>=Priser!$P$6,Priser!$Q$6,IF(AA18>=Priser!$P$5,Priser!$Q$5,IF(AA18>=Priser!$P$4,Priser!$Q$4,Priser!$Q$3))) -> 0 | AC18: =AB18*SUMIFS(Priser!$L$3:$L$14,Priser!$A$3:$A$14,$BL18)*W18 -> 0 | AG18: =IF(AND((K18-SUM(AH18:AM18)>0),(AN18-(K18-SUM(AH18:AM18))>0)),K18-SUM(AH18:AM18),IF((K18-SUM(AH18:AM18))>0,AN18,0)) -> 0 | AH18: =IF(AND((K18-SUM(AI18:AM18)>0),(AO18-(K18-SUM(AI18:AM18))>0)),K18-SUM(AI18:AM18),IF((K18-SUM(AI18:AM18))>0,AO18,0)) -> 0 | AI18: =IF(AND((K18-SUM(AJ18:AM18)>0),(AP18-(K18-SUM(AJ18:AM18))>0)),K18-SUM(AJ18:AM18),IF((K18-SUM(AJ18:AM18))>0,AP18,0)) -> 0 | AJ18: =IF(AND((K18-SUM(AK18:AM18)>0),(AQ18-(K18-SUM(AK18:AM18))>0)),K18-SUM(AK18:AM18),IF((K18-SUM(AK18:AM18))>0,AQ18,0)) -> 0 | AK18: =IF(AND((K18-SUM(AL18:AM18)>0),(AR18-(K18-SUM(AL18:AM18))>0)),K18-SUM(AL18:AM18),IF((K18-SUM(AL18:AM18))>0,AR18,0)) -> 0 | AL18: =IF(AND((K18-AM18)>0,(AS18-(K18-AM18))>0),(K18-AM18),IF((K18-AM18)>0,AS18,0)) -> 0 | AM18: =IF(AND(I18>0,(I18-K18)>0),K18,I18) -> 0 | AN18: =B$8 -> 0 | AO18: =IF(OR(BL18=10,BL18=11,BL18=12,BL18=1,BL18=2,BL18=3,BL18=4),B$9,$B$12) -> 0 | AP18: =IF(OR(BL18=11,BL18=12,BL18=1,BL18=2,BL18=3),B$10,) -> 0 | AQ18: =IF(OR(BL18=12,BL18=1,BL18=2),B$11,) -> 0 | AR18: =SUMIFS($B$13:$B$16,$C$13:$C$16,BM18) -> 0 | AS18: =SUMIFS($B$18:$B$29,$C$18:$C$29,BL18) -> 0 | AT18: =L18+I18 -> 0 | AX18: =MAX(AN18-AG18,0) -> 0 | AY18: =MAX(AO18-AH18,0) -> 0 | AZ18: =MAX(AP18-AI18,0) -> 0 | BA18: =MAX(AQ18-AJ18,0) -> 0 | BB18: =MAX(AR18-AK18,0) -> 0 | BC18: =MAX(AS18-AL18,0) -> 0 | BD18: =MAX(AT18-AM18,0) -> 0 | BE18: =SUM(AX18:BD18) -> 0 | BI18: =IF(Förbrukning!F17="",Förbrukning!E17,0)/IF(Förbrukning!$B$3=Listor!$B$5,F18,1) -> 0 | BJ18: =Förbrukning!F17/IF(Förbrukning!$B$3=Listor!$B$5,F18,1) -> 0 | BL18: =MONTH(D18) -> 10 | BM18: =ROUNDUP(BL18/3,0) -> 4 | BN18: =Indata!$B$6 -> 0
A19: Kap.ab November | B19: =Indata!B21 -> 0 | C19: 11 | D19: =D18+1 -> 46310 | E19: =F19*G19 -> 0 | F19: =24+SUMIFS(Listor!$C$22:$C$23,Listor!$B$22:$B$23,Uttag!D19) -> 24 | G19: =SUM(BI19:BJ19) -> 0 | I19: =Förbrukning!H18 -> 0 | N19: =BE19 -> 0 | P19: =I19*SUMIFS(Priser!$L$3:$L$14,Priser!$A$3:$A$14,BL19) -> 0 | Q19: =Z19+AC19 -> 0 | U19: =MAX(G19-BE19,0) -> 0 | V19: =U19-W19 -> 0 | W19: =MAX(G19-BN19,0) -> 0 | X19: =COUNTIFS(V19,">0")+IF(BL19=BL18,X18,0) -> 0 | Y19: =IF(X19>=Priser!$N$6,Priser!$O$6,IF(X19>=Priser!$N$5,Priser!$O$5,IF(X19>=Priser!$N$4,Priser!$O$4,Priser!$O$3))) -> 0 | Z19: =Y19*SUMIFS(Priser!$L$3:$L$14,Priser!$A$3:$A$14,$BL19)*V19 -> 0 | AA19: =COUNTIFS(W19,">0")+IF(BL19=BL18,AA18,0) -> 0 | AB19: =IF(AA19>=Priser!$P$6,Priser!$Q$6,IF(AA19>=Priser!$P$5,Priser!$Q$5,IF(AA19>=Priser!$P$4,Priser!$Q$4,Priser!$Q$3))) -> 0 | AC19: =AB19*SUMIFS(Priser!$L$3:$L$14,Priser!$A$3:$A$14,$BL19)*W19 -> 0 | AG19: =IF(AND((K19-SUM(AH19:AM19)>0),(AN19-(K19-SUM(AH19:AM19))>0)),K19-SUM(AH19:AM19),IF((K19-SUM(AH19:AM19))>0,AN19,0)) -> 0 | AH19: =IF(AND((K19-SUM(AI19:AM19)>0),(AO19-(K19-SUM(AI19:AM19))>0)),K19-SUM(AI19:AM19),IF((K19-SUM(AI19:AM19))>0,AO19,0)) -> 0 | AI19: =IF(AND((K19-SUM(AJ19:AM19)>0),(AP19-(K19-SUM(AJ19:AM19))>0)),K19-SUM(AJ19:AM19),IF((K19-SUM(AJ19:AM19))>0,AP19,0)) -> 0 | AJ19: =IF(AND((K19-SUM(AK19:AM19)>0),(AQ19-(K19-SUM(AK19:AM19))>0)),K19-SUM(AK19:AM19),IF((K19-SUM(AK19:AM19))>0,AQ19,0)) -> 0 | AK19: =IF(AND((K19-SUM(AL19:AM19)>0),(AR19-(K19-SUM(AL19:AM19))>0)),K19-SUM(AL19:AM19),IF((K19-SUM(AL19:AM19))>0,AR19,0)) -> 0 | AL19: =IF(AND((K19-AM19)>0,(AS19-(K19-AM19))>0),(K19-AM19),IF((K19-AM19)>0,AS19,0)) -> 0 | AM19: =IF(AND(I19>0,(I19-K19)>0),K19,I19) -> 0 | AN19: =B$8 -> 0 | AO19: =IF(OR(BL19=10,BL19=11,BL19=12,BL19=1,BL19=2,BL19=3,BL19=4),B$9,$B$12) -> 0 | AP19: =IF(OR(BL19=11,BL19=12,BL19=1,BL19=2,BL19=3),B$10,) -> 0 | AQ19: =IF(OR(BL19=12,BL19=1,BL19=2),B$11,) -> 0 | AR19: =SUMIFS($B$13:$B$16,$C$13:$C$16,BM19) -> 0 | AS19: =SUMIFS($B$18:$B$29,$C$18:$C$29,BL19) -> 0 | AT19: =L19+I19 -> 0 | AX19: =MAX(AN19-AG19,0) -> 0 | AY19: =MAX(AO19-AH19,0) -> 0 | AZ19: =MAX(AP19-AI19,0) -> 0 | BA19: =MAX(AQ19-AJ19,0) -> 0 | BB19: =MAX(AR19-AK19,0) -> 0 | BC19: =MAX(AS19-AL19,0) -> 0 | BD19: =MAX(AT19-AM19,0) -> 0 | BE19: =SUM(AX19:BD19) -> 0 | BI19: =IF(Förbrukning!F18="",Förbrukning!E18,0)/IF(Förbrukning!$B$3=Listor!$B$5,F19,1) -> 0 | BJ19: =Förbrukning!F18/IF(Förbrukning!$B$3=Listor!$B$5,F19,1) -> 0 | BL19: =MONTH(D19) -> 10 | BM19: =ROUNDUP(BL19/3,0) -> 4 | BN19: =Indata!$B$6 -> 0
A20: Kap.ab December | B20: =Indata!B22 -> 0 | C20: 12 | D20: =D19+1 -> 46311 | E20: =F20*G20 -> 0 | F20: =24+SUMIFS(Listor!$C$22:$C$23,Listor!$B$22:$B$23,Uttag!D20) -> 24 | G20: =SUM(BI20:BJ20) -> 0 | I20: =Förbrukning!H19 -> 0 | N20: =BE20 -> 0 | P20: =I20*SUMIFS(Priser!$L$3:$L$14,Priser!$A$3:$A$14,BL20) -> 0 | Q20: =Z20+AC20 -> 0 | U20: =MAX(G20-BE20,0) -> 0 | V20: =U20-W20 -> 0 | W20: =MAX(G20-BN20,0) -> 0 | X20: =COUNTIFS(V20,">0")+IF(BL20=BL19,X19,0) -> 0 | Y20: =IF(X20>=Priser!$N$6,Priser!$O$6,IF(X20>=Priser!$N$5,Priser!$O$5,IF(X20>=Priser!$N$4,Priser!$O$4,Priser!$O$3))) -> 0 | Z20: =Y20*SUMIFS(Priser!$L$3:$L$14,Priser!$A$3:$A$14,$BL20)*V20 -> 0 | AA20: =COUNTIFS(W20,">0")+IF(BL20=BL19,AA19,0) -> 0 | AB20: =IF(AA20>=Priser!$P$6,Priser!$Q$6,IF(AA20>=Priser!$P$5,Priser!$Q$5,IF(AA20>=Priser!$P$4,Priser!$Q$4,Priser!$Q$3))) -> 0 | AC20: =AB20*SUMIFS(Priser!$L$3:$L$14,Priser!$A$3:$A$14,$BL20)*W20 -> 0 | AG20: =IF(AND((K20-SUM(AH20:AM20)>0),(AN20-(K20-SUM(AH20:AM20))>0)),K20-SUM(AH20:AM20),IF((K20-SUM(AH20:AM20))>0,AN20,0)) -> 0 | AH20: =IF(AND((K20-SUM(AI20:AM20)>0),(AO20-(K20-SUM(AI20:AM20))>0)),K20-SUM(AI20:AM20),IF((K20-SUM(AI20:AM20))>0,AO20,0)) -> 0 | AI20: =IF(AND((K20-SUM(AJ20:AM20)>0),(AP20-(K20-SUM(AJ20:AM20))>0)),K20-SUM(AJ20:AM20),IF((K20-SUM(AJ20:AM20))>0,AP20,0)) -> 0 | AJ20: =IF(AND((K20-SUM(AK20:AM20)>0),(AQ20-(K20-SUM(AK20:AM20))>0)),K20-SUM(AK20:AM20),IF((K20-SUM(AK20:AM20))>0,AQ20,0)) -> 0 | AK20: =IF(AND((K20-SUM(AL20:AM20)>0),(AR20-(K20-SUM(AL20:AM20))>0)),K20-SUM(AL20:AM20),IF((K20-SUM(AL20:AM20))>0,AR20,0)) -> 0 | AL20: =IF(AND((K20-AM20)>0,(AS20-(K20-AM20))>0),(K20-AM20),IF((K20-AM20)>0,AS20,0)) -> 0 | AM20: =IF(AND(I20>0,(I20-K20)>0),K20,I20) -> 0 | AN20: =B$8 -> 0 | AO20: =IF(OR(BL20=10,BL20=11,BL20=12,BL20=1,BL20=2,BL20=3,BL20=4),B$9,$B$12) -> 0 | AP20: =IF(OR(BL20=11,BL20=12,BL20=1,BL20=2,BL20=3),B$10,) -> 0 | AQ20: =IF(OR(BL20=12,BL20=1,BL20=2),B$11,) -> 0 | AR20: =SUMIFS($B$13:$B$16,$C$13:$C$16,BM20) -> 0 | AS20: =SUMIFS($B$18:$B$29,$C$18:$C$29,BL20) -> 0 | AT20: =L20+I20 -> 0 | AX20: =MAX(AN20-AG20,0) -> 0 | AY20: =MAX(AO20-AH20,0) -> 0 | AZ20: =MAX(AP20-AI20,0) -> 0 | BA20: =MAX(AQ20-AJ20,0) -> 0 | BB20: =MAX(AR20-AK20,0) -> 0 | BC20: =MAX(AS20-AL20,0) -> 0 | BD20: =MAX(AT20-AM20,0) -> 0 | BE20: =SUM(AX20:BD20) -> 0 | BI20: =IF(Förbrukning!F19="",Förbrukning!E19,0)/IF(Förbrukning!$B$3=Listor!$B$5,F20,1) -> 0 | BJ20: =Förbrukning!F19/IF(Förbrukning!$B$3=Listor!$B$5,F20,1) -> 0 | BL20: =MONTH(D20) -> 10 | BM20: =ROUNDUP(BL20/3,0) -> 4 | BN20: =Indata!$B$6 -> 0
A21: Kap.ab Januari | B21: =Indata!B23 -> 0 | C21: 1 | D21: =D20+1 -> 46312 | E21: =F21*G21 -> 0 | F21: =24+SUMIFS(Listor!$C$22:$C$23,Listor!$B$22:$B$23,Uttag!D21) -> 24 | G21: =SUM(BI21:BJ21) -> 0 | I21: =Förbrukning!H20 -> 0 | N21: =BE21 -> 0 | P21: =I21*SUMIFS(Priser!$L$3:$L$14,Priser!$A$3:$A$14,BL21) -> 0 | Q21: =Z21+AC21 -> 0 | U21: =MAX(G21-BE21,0) -> 0 | V21: =U21-W21 -> 0 | W21: =MAX(G21-BN21,0) -> 0 | X21: =COUNTIFS(V21,">0")+IF(BL21=BL20,X20,0) -> 0 | Y21: =IF(X21>=Priser!$N$6,Priser!$O$6,IF(X21>=Priser!$N$5,Priser!$O$5,IF(X21>=Priser!$N$4,Priser!$O$4,Priser!$O$3))) -> 0 | Z21: =Y21*SUMIFS(Priser!$L$3:$L$14,Priser!$A$3:$A$14,$BL21)*V21 -> 0 | AA21: =COUNTIFS(W21,">0")+IF(BL21=BL20,AA20,0) -> 0 | AB21: =IF(AA21>=Priser!$P$6,Priser!$Q$6,IF(AA21>=Priser!$P$5,Priser!$Q$5,IF(AA21>=Priser!$P$4,Priser!$Q$4,Priser!$Q$3))) -> 0 | AC21: =AB21*SUMIFS(Priser!$L$3:$L$14,Priser!$A$3:$A$14,$BL21)*W21 -> 0 | AG21: =IF(AND((K21-SUM(AH21:AM21)>0),(AN21-(K21-SUM(AH21:AM21))>0)),K21-SUM(AH21:AM21),IF((K21-SUM(AH21:AM21))>0,AN21,0)) -> 0 | AH21: =IF(AND((K21-SUM(AI21:AM21)>0),(AO21-(K21-SUM(AI21:AM21))>0)),K21-SUM(AI21:AM21),IF((K21-SUM(AI21:AM21))>0,AO21,0)) -> 0 | AI21: =IF(AND((K21-SUM(AJ21:AM21)>0),(AP21-(K21-SUM(AJ21:AM21))>0)),K21-SUM(AJ21:AM21),IF((K21-SUM(AJ21:AM21))>0,AP21,0)) -> 0 | AJ21: =IF(AND((K21-SUM(AK21:AM21)>0),(AQ21-(K21-SUM(AK21:AM21))>0)),K21-SUM(AK21:AM21),IF((K21-SUM(AK21:AM21))>0,AQ21,0)) -> 0 | AK21: =IF(AND((K21-SUM(AL21:AM21)>0),(AR21-(K21-SUM(AL21:AM21))>0)),K21-SUM(AL21:AM21),IF((K21-SUM(AL21:AM21))>0,AR21,0)) -> 0 | AL21: =IF(AND((K21-AM21)>0,(AS21-(K21-AM21))>0),(K21-AM21),IF((K21-AM21)>0,AS21,0)) -> 0 | AM21: =IF(AND(I21>0,(I21-K21)>0),K21,I21) -> 0 | AN21: =B$8 -> 0 | AO21: =IF(OR(BL21=10,BL21=11,BL21=12,BL21=1,BL21=2,BL21=3,BL21=4),B$9,$B$12) -> 0 | AP21: =IF(OR(BL21=11,BL21=12,BL21=1,BL21=2,BL21=3),B$10,) -> 0 | AQ21: =IF(OR(BL21=12,BL21=1,BL21=2),B$11,) -> 0 | AR21: =SUMIFS($B$13:$B$16,$C$13:$C$16,BM21) -> 0 | AS21: =SUMIFS($B$18:$B$29,$C$18:$C$29,BL21) -> 0 | AT21: =L21+I21 -> 0 | AX21: =MAX(AN21-AG21,0) -> 0 | AY21: =MAX(AO21-AH21,0) -> 0 | AZ21: =MAX(AP21-AI21,0) -> 0 | BA21: =MAX(AQ21-AJ21,0) -> 0 | BB21: =MAX(AR21-AK21,0) -> 0 | BC21: =MAX(AS21-AL21,0) -> 0 | BD21: =MAX(AT21-AM21,0) -> 0 | BE21: =SUM(AX21:BD21) -> 0 | BI21: =IF(Förbrukning!F20="",Förbrukning!E20,0)/IF(Förbrukning!$B$3=Listor!$B$5,F21,1) -> 0 | BJ21: =Förbrukning!F20/IF(Förbrukning!$B$3=Listor!$B$5,F21,1) -> 0 | BL21: =MONTH(D21) -> 10 | BM21: =ROUNDUP(BL21/3,0) -> 4 | BN21: =Indata!$B$6 -> 0
A22: Kap.ab Februari | B22: =Indata!B24 -> 0 | C22: 2 | D22: =D21+1 -> 46313 | E22: =F22*G22 -> 0 | F22: =24+SUMIFS(Listor!$C$22:$C$23,Listor!$B$22:$B$23,Uttag!D22) -> 24 | G22: =SUM(BI22:BJ22) -> 0 | I22: =Förbrukning!H21 -> 0 | N22: =BE22 -> 0 | P22: =I22*SUMIFS(Priser!$L$3:$L$14,Priser!$A$3:$A$14,BL22) -> 0 | Q22: =Z22+AC22 -> 0 | U22: =MAX(G22-BE22,0) -> 0 | V22: =U22-W22 -> 0 | W22: =MAX(G22-BN22,0) -> 0 | X22: =COUNTIFS(V22,">0")+IF(BL22=BL21,X21,0) -> 0 | Y22: =IF(X22>=Priser!$N$6,Priser!$O$6,IF(X22>=Priser!$N$5,Priser!$O$5,IF(X22>=Priser!$N$4,Priser!$O$4,Priser!$O$3))) -> 0 | Z22: =Y22*SUMIFS(Priser!$L$3:$L$14,Priser!$A$3:$A$14,$BL22)*V22 -> 0 | AA22: =COUNTIFS(W22,">0")+IF(BL22=BL21,AA21,0) -> 0 | AB22: =IF(AA22>=Priser!$P$6,Priser!$Q$6,IF(AA22>=Priser!$P$5,Priser!$Q$5,IF(AA22>=Priser!$P$4,Priser!$Q$4,Priser!$Q$3))) -> 0 | AC22: =AB22*SUMIFS(Priser!$L$3:$L$14,Priser!$A$3:$A$14,$BL22)*W22 -> 0 | AG22: =IF(AND((K22-SUM(AH22:AM22)>0),(AN22-(K22-SUM(AH22:AM22))>0)),K22-SUM(AH22:AM22),IF((K22-SUM(AH22:AM22))>0,AN22,0)) -> 0 | AH22: =IF(AND((K22-SUM(AI22:AM22)>0),(AO22-(K22-SUM(AI22:AM22))>0)),K22-SUM(AI22:AM22),IF((K22-SUM(AI22:AM22))>0,AO22,0)) -> 0 | AI22: =IF(AND((K22-SUM(AJ22:AM22)>0),(AP22-(K22-SUM(AJ22:AM22))>0)),K22-SUM(AJ22:AM22),IF((K22-SUM(AJ22:AM22))>0,AP22,0)) -> 0 | AJ22: =IF(AND((K22-SUM(AK22:AM22)>0),(AQ22-(K22-SUM(AK22:AM22))>0)),K22-SUM(AK22:AM22),IF((K22-SUM(AK22:AM22))>0,AQ22,0)) -> 0 | AK22: =IF(AND((K22-SUM(AL22:AM22)>0),(AR22-(K22-SUM(AL22:AM22))>0)),K22-SUM(AL22:AM22),IF((K22-SUM(AL22:AM22))>0,AR22,0)) -> 0 | AL22: =IF(AND((K22-AM22)>0,(AS22-(K22-AM22))>0),(K22-AM22),IF((K22-AM22)>0,AS22,0)) -> 0 | AM22: =IF(AND(I22>0,(I22-K22)>0),K22,I22) -> 0 | AN22: =B$8 -> 0 | AO22: =IF(OR(BL22=10,BL22=11,BL22=12,BL22=1,BL22=2,BL22=3,BL22=4),B$9,$B$12) -> 0 | AP22: =IF(OR(BL22=11,BL22=12,BL22=1,BL22=2,BL22=3),B$10,) -> 0 | AQ22: =IF(OR(BL22=12,BL22=1,BL22=2),B$11,) -> 0 | AR22: =SUMIFS($B$13:$B$16,$C$13:$C$16,BM22) -> 0 | AS22: =SUMIFS($B$18:$B$29,$C$18:$C$29,BL22) -> 0 | AT22: =L22+I22 -> 0 | AX22: =MAX(AN22-AG22,0) -> 0 | AY22: =MAX(AO22-AH22,0) -> 0 | AZ22: =MAX(AP22-AI22,0) -> 0 | BA22: =MAX(AQ22-AJ22,0) -> 0 | BB22: =MAX(AR22-AK22,0) -> 0 | BC22: =MAX(AS22-AL22,0) -> 0 | BD22: =MAX(AT22-AM22,0) -> 0 | BE22: =SUM(AX22:BD22) -> 0 | BI22: =IF(Förbrukning!F21="",Förbrukning!E21,0)/IF(Förbrukning!$B$3=Listor!$B$5,F22,1) -> 0 | BJ22: =Förbrukning!F21/IF(Förbrukning!$B$3=Listor!$B$5,F22,1) -> 0 | BL22: =MONTH(D22) -> 10 | BM22: =ROUNDUP(BL22/3,0) -> 4 | BN22: =Indata!$B$6 -> 0
A23: Kap.ab Mars | B23: =Indata!B25 -> 0 | C23: 3 | D23: =D22+1 -> 46314 | E23: =F23*G23 -> 0 | F23: =24+SUMIFS(Listor!$C$22:$C$23,Listor!$B$22:$B$23,Uttag!D23) -> 24 | G23: =SUM(BI23:BJ23) -> 0 | I23: =Förbrukning!H22 -> 0 | N23: =BE23 -> 0 | P23: =I23*SUMIFS(Priser!$L$3:$L$14,Priser!$A$3:$A$14,BL23) -> 0 | Q23: =Z23+AC23 -> 0 | U23: =MAX(G23-BE23,0) -> 0 | V23: =U23-W23 -> 0 | W23: =MAX(G23-BN23,0) -> 0 | X23: =COUNTIFS(V23,">0")+IF(BL23=BL22,X22,0) -> 0 | Y23: =IF(X23>=Priser!$N$6,Priser!$O$6,IF(X23>=Priser!$N$5,Priser!$O$5,IF(X23>=Priser!$N$4,Priser!$O$4,Priser!$O$3))) -> 0 | Z23: =Y23*SUMIFS(Priser!$L$3:$L$14,Priser!$A$3:$A$14,$BL23)*V23 -> 0 | AA23: =COUNTIFS(W23,">0")+IF(BL23=BL22,AA22,0) -> 0 | AB23: =IF(AA23>=Priser!$P$6,Priser!$Q$6,IF(AA23>=Priser!$P$5,Priser!$Q$5,IF(AA23>=Priser!$P$4,Priser!$Q$4,Priser!$Q$3))) -> 0 | AC23: =AB23*SUMIFS(Priser!$L$3:$L$14,Priser!$A$3:$A$14,$BL23)*W23 -> 0 | AG23: =IF(AND((K23-SUM(AH23:AM23)>0),(AN23-(K23-SUM(AH23:AM23))>0)),K23-SUM(AH23:AM23),IF((K23-SUM(AH23:AM23))>0,AN23,0)) -> 0 | AH23: =IF(AND((K23-SUM(AI23:AM23)>0),(AO23-(K23-SUM(AI23:AM23))>0)),K23-SUM(AI23:AM23),IF((K23-SUM(AI23:AM23))>0,AO23,0)) -> 0 | AI23: =IF(AND((K23-SUM(AJ23:AM23)>0),(AP23-(K23-SUM(AJ23:AM23))>0)),K23-SUM(AJ23:AM23),IF((K23-SUM(AJ23:AM23))>0,AP23,0)) -> 0 | AJ23: =IF(AND((K23-SUM(AK23:AM23)>0),(AQ23-(K23-SUM(AK23:AM23))>0)),K23-SUM(AK23:AM23),IF((K23-SUM(AK23:AM23))>0,AQ23,0)) -> 0 | AK23: =IF(AND((K23-SUM(AL23:AM23)>0),(AR23-(K23-SUM(AL23:AM23))>0)),K23-SUM(AL23:AM23),IF((K23-SUM(AL23:AM23))>0,AR23,0)) -> 0 | AL23: =IF(AND((K23-AM23)>0,(AS23-(K23-AM23))>0),(K23-AM23),IF((K23-AM23)>0,AS23,0)) -> 0 | AM23: =IF(AND(I23>0,(I23-K23)>0),K23,I23) -> 0 | AN23: =B$8 -> 0 | AO23: =IF(OR(BL23=10,BL23=11,BL23=12,BL23=1,BL23=2,BL23=3,BL23=4),B$9,$B$12) -> 0 | AP23: =IF(OR(BL23=11,BL23=12,BL23=1,BL23=2,BL23=3),B$10,) -> 0 | AQ23: =IF(OR(BL23=12,BL23=1,BL23=2),B$11,) -> 0 | AR23: =SUMIFS($B$13:$B$16,$C$13:$C$16,BM23) -> 0 | AS23: =SUMIFS($B$18:$B$29,$C$18:$C$29,BL23) -> 0 | AT23: =L23+I23 -> 0 | AX23: =MAX(AN23-AG23,0) -> 0 | AY23: =MAX(AO23-AH23,0) -> 0 | AZ23: =MAX(AP23-AI23,0) -> 0 | BA23: =MAX(AQ23-AJ23,0) -> 0 | BB23: =MAX(AR23-AK23,0) -> 0 | BC23: =MAX(AS23-AL23,0) -> 0 | BD23: =MAX(AT23-AM23,0) -> 0 | BE23: =SUM(AX23:BD23) -> 0 | BI23: =IF(Förbrukning!F22="",Förbrukning!E22,0)/IF(Förbrukning!$B$3=Listor!$B$5,F23,1) -> 0 | BJ23: =Förbrukning!F22/IF(Förbrukning!$B$3=Listor!$B$5,F23,1) -> 0 | BL23: =MONTH(D23) -> 10 | BM23: =ROUNDUP(BL23/3,0) -> 4 | BN23: =Indata!$B$6 -> 0
A24: Kap.ab April | B24: =Indata!B26 -> 0 | C24: 4 | D24: =D23+1 -> 46315 | E24: =F24*G24 -> 0 | F24: =24+SUMIFS(Listor!$C$22:$C$23,Listor!$B$22:$B$23,Uttag!D24) -> 24 | G24: =SUM(BI24:BJ24) -> 0 | I24: =Förbrukning!H23 -> 0 | N24: =BE24 -> 0 | P24: =I24*SUMIFS(Priser!$L$3:$L$14,Priser!$A$3:$A$14,BL24) -> 0 | Q24: =Z24+AC24 -> 0 | U24: =MAX(G24-BE24,0) -> 0 | V24: =U24-W24 -> 0 | W24: =MAX(G24-BN24,0) -> 0 | X24: =COUNTIFS(V24,">0")+IF(BL24=BL23,X23,0) -> 0 | Y24: =IF(X24>=Priser!$N$6,Priser!$O$6,IF(X24>=Priser!$N$5,Priser!$O$5,IF(X24>=Priser!$N$4,Priser!$O$4,Priser!$O$3))) -> 0 | Z24: =Y24*SUMIFS(Priser!$L$3:$L$14,Priser!$A$3:$A$14,$BL24)*V24 -> 0 | AA24: =COUNTIFS(W24,">0")+IF(BL24=BL23,AA23,0) -> 0 | AB24: =IF(AA24>=Priser!$P$6,Priser!$Q$6,IF(AA24>=Priser!$P$5,Priser!$Q$5,IF(AA24>=Priser!$P$4,Priser!$Q$4,Priser!$Q$3))) -> 0 | AC24: =AB24*SUMIFS(Priser!$L$3:$L$14,Priser!$A$3:$A$14,$BL24)*W24 -> 0 | AG24: =IF(AND((K24-SUM(AH24:AM24)>0),(AN24-(K24-SUM(AH24:AM24))>0)),K24-SUM(AH24:AM24),IF((K24-SUM(AH24:AM24))>0,AN24,0)) -> 0 | AH24: =IF(AND((K24-SUM(AI24:AM24)>0),(AO24-(K24-SUM(AI24:AM24))>0)),K24-SUM(AI24:AM24),IF((K24-SUM(AI24:AM24))>0,AO24,0)) -> 0 | AI24: =IF(AND((K24-SUM(AJ24:AM24)>0),(AP24-(K24-SUM(AJ24:AM24))>0)),K24-SUM(AJ24:AM24),IF((K24-SUM(AJ24:AM24))>0,AP24,0)) -> 0 | AJ24: =IF(AND((K24-SUM(AK24:AM24)>0),(AQ24-(K24-SUM(AK24:AM24))>0)),K24-SUM(AK24:AM24),IF((K24-SUM(AK24:AM24))>0,AQ24,0)) -> 0 | AK24: =IF(AND((K24-SUM(AL24:AM24)>0),(AR24-(K24-SUM(AL24:AM24))>0)),K24-SUM(AL24:AM24),IF((K24-SUM(AL24:AM24))>0,AR24,0)) -> 0 | AL24: =IF(AND((K24-AM24)>0,(AS24-(K24-AM24))>0),(K24-AM24),IF((K24-AM24)>0,AS24,0)) -> 0 | AM24: =IF(AND(I24>0,(I24-K24)>0),K24,I24) -> 0 | AN24: =B$8 -> 0 | AO24: =IF(OR(BL24=10,BL24=11,BL24=12,BL24=1,BL24=2,BL24=3,BL24=4),B$9,$B$12) -> 0 | AP24: =IF(OR(BL24=11,BL24=12,BL24=1,BL24=2,BL24=3),B$10,) -> 0 | AQ24: =IF(OR(BL24=12,BL24=1,BL24=2),B$11,) -> 0 | AR24: =SUMIFS($B$13:$B$16,$C$13:$C$16,BM24) -> 0 | AS24: =SUMIFS($B$18:$B$29,$C$18:$C$29,BL24) -> 0 | AT24: =L24+I24 -> 0 | AX24: =MAX(AN24-AG24,0) -> 0 | AY24: =MAX(AO24-AH24,0) -> 0 | AZ24: =MAX(AP24-AI24,0) -> 0 | BA24: =MAX(AQ24-AJ24,0) -> 0 | BB24: =MAX(AR24-AK24,0) -> 0 | BC24: =MAX(AS24-AL24,0) -> 0 | BD24: =MAX(AT24-AM24,0) -> 0 | BE24: =SUM(AX24:BD24) -> 0 | BI24: =IF(Förbrukning!F23="",Förbrukning!E23,0)/IF(Förbrukning!$B$3=Listor!$B$5,F24,1) -> 0 | BJ24: =Förbrukning!F23/IF(Förbrukning!$B$3=Listor!$B$5,F24,1) -> 0 | BL24: =MONTH(D24) -> 10 | BM24: =ROUNDUP(BL24/3,0) -> 4 | BN24: =Indata!$B$6 -> 0
A25: Kap.ab Maj | B25: =Indata!B27 -> 0 | C25: 5 | D25: =D24+1 -> 46316 | E25: =F25*G25 -> 0 | F25: =24+SUMIFS(Listor!$C$22:$C$23,Listor!$B$22:$B$23,Uttag!D25) -> 24 | G25: =SUM(BI25:BJ25) -> 0 | I25: =Förbrukning!H24 -> 0 | N25: =BE25 -> 0 | P25: =I25*SUMIFS(Priser!$L$3:$L$14,Priser!$A$3:$A$14,BL25) -> 0 | Q25: =Z25+AC25 -> 0 | U25: =MAX(G25-BE25,0) -> 0 | V25: =U25-W25 -> 0 | W25: =MAX(G25-BN25,0) -> 0 | X25: =COUNTIFS(V25,">0")+IF(BL25=BL24,X24,0) -> 0 | Y25: =IF(X25>=Priser!$N$6,Priser!$O$6,IF(X25>=Priser!$N$5,Priser!$O$5,IF(X25>=Priser!$N$4,Priser!$O$4,Priser!$O$3))) -> 0 | Z25: =Y25*SUMIFS(Priser!$L$3:$L$14,Priser!$A$3:$A$14,$BL25)*V25 -> 0 | AA25: =COUNTIFS(W25,">0")+IF(BL25=BL24,AA24,0) -> 0 | AB25: =IF(AA25>=Priser!$P$6,Priser!$Q$6,IF(AA25>=Priser!$P$5,Priser!$Q$5,IF(AA25>=Priser!$P$4,Priser!$Q$4,Priser!$Q$3))) -> 0 | AC25: =AB25*SUMIFS(Priser!$L$3:$L$14,Priser!$A$3:$A$14,$BL25)*W25 -> 0 | AG25: =IF(AND((K25-SUM(AH25:AM25)>0),(AN25-(K25-SUM(AH25:AM25))>0)),K25-SUM(AH25:AM25),IF((K25-SUM(AH25:AM25))>0,AN25,0)) -> 0 | AH25: =IF(AND((K25-SUM(AI25:AM25)>0),(AO25-(K25-SUM(AI25:AM25))>0)),K25-SUM(AI25:AM25),IF((K25-SUM(AI25:AM25))>0,AO25,0)) -> 0 | AI25: =IF(AND((K25-SUM(AJ25:AM25)>0),(AP25-(K25-SUM(AJ25:AM25))>0)),K25-SUM(AJ25:AM25),IF((K25-SUM(AJ25:AM25))>0,AP25,0)) -> 0 | AJ25: =IF(AND((K25-SUM(AK25:AM25)>0),(AQ25-(K25-SUM(AK25:AM25))>0)),K25-SUM(AK25:AM25),IF((K25-SUM(AK25:AM25))>0,AQ25,0)) -> 0 | AK25: =IF(AND((K25-SUM(AL25:AM25)>0),(AR25-(K25-SUM(AL25:AM25))>0)),K25-SUM(AL25:AM25),IF((K25-SUM(AL25:AM25))>0,AR25,0)) -> 0 | AL25: =IF(AND((K25-AM25)>0,(AS25-(K25-AM25))>0),(K25-AM25),IF((K25-AM25)>0,AS25,0)) -> 0 | AM25: =IF(AND(I25>0,(I25-K25)>0),K25,I25) -> 0 | AN25: =B$8 -> 0 | AO25: =IF(OR(BL25=10,BL25=11,BL25=12,BL25=1,BL25=2,BL25=3,BL25=4),B$9,$B$12) -> 0 | AP25: =IF(OR(BL25=11,BL25=12,BL25=1,BL25=2,BL25=3),B$10,) -> 0 | AQ25: =IF(OR(BL25=12,BL25=1,BL25=2),B$11,) -> 0 | AR25: =SUMIFS($B$13:$B$16,$C$13:$C$16,BM25) -> 0 | AS25: =SUMIFS($B$18:$B$29,$C$18:$C$29,BL25) -> 0 | AT25: =L25+I25 -> 0 | AX25: =MAX(AN25-AG25,0) -> 0 | AY25: =MAX(AO25-AH25,0) -> 0 | AZ25: =MAX(AP25-AI25,0) -> 0 | BA25: =MAX(AQ25-AJ25,0) -> 0 | BB25: =MAX(AR25-AK25,0) -> 0 | BC25: =MAX(AS25-AL25,0) -> 0 | BD25: =MAX(AT25-AM25,0) -> 0 | BE25: =SUM(AX25:BD25) -> 0 | BI25: =IF(Förbrukning!F24="",Förbrukning!E24,0)/IF(Förbrukning!$B$3=Listor!$B$5,F25,1) -> 0 | BJ25: =Förbrukning!F24/IF(Förbrukning!$B$3=Listor!$B$5,F25,1) -> 0 | BL25: =MONTH(D25) -> 10 | BM25: =ROUNDUP(BL25/3,0) -> 4 | BN25: =Indata!$B$6 -> 0
A26: Kap.ab Juni | B26: =Indata!B28 -> 0 | C26: 6 | D26: =D25+1 -> 46317 | E26: =F26*G26 -> 0 | F26: =24+SUMIFS(Listor!$C$22:$C$23,Listor!$B$22:$B$23,Uttag!D26) -> 24 | G26: =SUM(BI26:BJ26) -> 0 | I26: =Förbrukning!H25 -> 0 | N26: =BE26 -> 0 | P26: =I26*SUMIFS(Priser!$L$3:$L$14,Priser!$A$3:$A$14,BL26) -> 0 | Q26: =Z26+AC26 -> 0 | U26: =MAX(G26-BE26,0) -> 0 | V26: =U26-W26 -> 0 | W26: =MAX(G26-BN26,0) -> 0 | X26: =COUNTIFS(V26,">0")+IF(BL26=BL25,X25,0) -> 0 | Y26: =IF(X26>=Priser!$N$6,Priser!$O$6,IF(X26>=Priser!$N$5,Priser!$O$5,IF(X26>=Priser!$N$4,Priser!$O$4,Priser!$O$3))) -> 0 | Z26: =Y26*SUMIFS(Priser!$L$3:$L$14,Priser!$A$3:$A$14,$BL26)*V26 -> 0 | AA26: =COUNTIFS(W26,">0")+IF(BL26=BL25,AA25,0) -> 0 | AB26: =IF(AA26>=Priser!$P$6,Priser!$Q$6,IF(AA26>=Priser!$P$5,Priser!$Q$5,IF(AA26>=Priser!$P$4,Priser!$Q$4,Priser!$Q$3))) -> 0 | AC26: =AB26*SUMIFS(Priser!$L$3:$L$14,Priser!$A$3:$A$14,$BL26)*W26 -> 0 | AG26: =IF(AND((K26-SUM(AH26:AM26)>0),(AN26-(K26-SUM(AH26:AM26))>0)),K26-SUM(AH26:AM26),IF((K26-SUM(AH26:AM26))>0,AN26,0)) -> 0 | AH26: =IF(AND((K26-SUM(AI26:AM26)>0),(AO26-(K26-SUM(AI26:AM26))>0)),K26-SUM(AI26:AM26),IF((K26-SUM(AI26:AM26))>0,AO26,0)) -> 0 | AI26: =IF(AND((K26-SUM(AJ26:AM26)>0),(AP26-(K26-SUM(AJ26:AM26))>0)),K26-SUM(AJ26:AM26),IF((K26-SUM(AJ26:AM26))>0,AP26,0)) -> 0 | AJ26: =IF(AND((K26-SUM(AK26:AM26)>0),(AQ26-(K26-SUM(AK26:AM26))>0)),K26-SUM(AK26:AM26),IF((K26-SUM(AK26:AM26))>0,AQ26,0)) -> 0 | AK26: =IF(AND((K26-SUM(AL26:AM26)>0),(AR26-(K26-SUM(AL26:AM26))>0)),K26-SUM(AL26:AM26),IF((K26-SUM(AL26:AM26))>0,AR26,0)) -> 0 | AL26: =IF(AND((K26-AM26)>0,(AS26-(K26-AM26))>0),(K26-AM26),IF((K26-AM26)>0,AS26,0)) -> 0 | AM26: =IF(AND(I26>0,(I26-K26)>0),K26,I26) -> 0 | AN26: =B$8 -> 0 | AO26: =IF(OR(BL26=10,BL26=11,BL26=12,BL26=1,BL26=2,BL26=3,BL26=4),B$9,$B$12) -> 0 | AP26: =IF(OR(BL26=11,BL26=12,BL26=1,BL26=2,BL26=3),B$10,) -> 0 | AQ26: =IF(OR(BL26=12,BL26=1,BL26=2),B$11,) -> 0 | AR26: =SUMIFS($B$13:$B$16,$C$13:$C$16,BM26) -> 0 | AS26: =SUMIFS($B$18:$B$29,$C$18:$C$29,BL26) -> 0 | AT26: =L26+I26 -> 0 | AX26: =MAX(AN26-AG26,0) -> 0 | AY26: =MAX(AO26-AH26,0) -> 0 | AZ26: =MAX(AP26-AI26,0) -> 0 | BA26: =MAX(AQ26-AJ26,0) -> 0 | BB26: =MAX(AR26-AK26,0) -> 0 | BC26: =MAX(AS26-AL26,0) -> 0 | BD26: =MAX(AT26-AM26,0) -> 0 | BE26: =SUM(AX26:BD26) -> 0 | BI26: =IF(Förbrukning!F25="",Förbrukning!E25,0)/IF(Förbrukning!$B$3=Listor!$B$5,F26,1) -> 0 | BJ26: =Förbrukning!F25/IF(Förbrukning!$B$3=Listor!$B$5,F26,1) -> 0 | BL26: =MONTH(D26) -> 10 | BM26: =ROUNDUP(BL26/3,0) -> 4 | BN26: =Indata!$B$6 -> 0
A27: Kap.ab Juli | B27: =Indata!B29 -> 0 | C27: 7 | D27: =D26+1 -> 46318 | E27: =F27*G27 -> 0 | F27: =24+SUMIFS(Listor!$C$22:$C$23,Listor!$B$22:$B$23,Uttag!D27) -> 24 | G27: =SUM(BI27:BJ27) -> 0 | I27: =Förbrukning!H26 -> 0 | N27: =BE27 -> 0 | P27: =I27*SUMIFS(Priser!$L$3:$L$14,Priser!$A$3:$A$14,BL27) -> 0 | Q27: =Z27+AC27 -> 0 | U27: =MAX(G27-BE27,0) -> 0 | V27: =U27-W27 -> 0 | W27: =MAX(G27-BN27,0) -> 0 | X27: =COUNTIFS(V27,">0")+IF(BL27=BL26,X26,0) -> 0 | Y27: =IF(X27>=Priser!$N$6,Priser!$O$6,IF(X27>=Priser!$N$5,Priser!$O$5,IF(X27>=Priser!$N$4,Priser!$O$4,Priser!$O$3))) -> 0 | Z27: =Y27*SUMIFS(Priser!$L$3:$L$14,Priser!$A$3:$A$14,$BL27)*V27 -> 0 | AA27: =COUNTIFS(W27,">0")+IF(BL27=BL26,AA26,0) -> 0 | AB27: =IF(AA27>=Priser!$P$6,Priser!$Q$6,IF(AA27>=Priser!$P$5,Priser!$Q$5,IF(AA27>=Priser!$P$4,Priser!$Q$4,Priser!$Q$3))) -> 0 | AC27: =AB27*SUMIFS(Priser!$L$3:$L$14,Priser!$A$3:$A$14,$BL27)*W27 -> 0 | AG27: =IF(AND((K27-SUM(AH27:AM27)>0),(AN27-(K27-SUM(AH27:AM27))>0)),K27-SUM(AH27:AM27),IF((K27-SUM(AH27:AM27))>0,AN27,0)) -> 0 | AH27: =IF(AND((K27-SUM(AI27:AM27)>0),(AO27-(K27-SUM(AI27:AM27))>0)),K27-SUM(AI27:AM27),IF((K27-SUM(AI27:AM27))>0,AO27,0)) -> 0 | AI27: =IF(AND((K27-SUM(AJ27:AM27)>0),(AP27-(K27-SUM(AJ27:AM27))>0)),K27-SUM(AJ27:AM27),IF((K27-SUM(AJ27:AM27))>0,AP27,0)) -> 0 | AJ27: =IF(AND((K27-SUM(AK27:AM27)>0),(AQ27-(K27-SUM(AK27:AM27))>0)),K27-SUM(AK27:AM27),IF((K27-SUM(AK27:AM27))>0,AQ27,0)) -> 0 | AK27: =IF(AND((K27-SUM(AL27:AM27)>0),(AR27-(K27-SUM(AL27:AM27))>0)),K27-SUM(AL27:AM27),IF((K27-SUM(AL27:AM27))>0,AR27,0)) -> 0 | AL27: =IF(AND((K27-AM27)>0,(AS27-(K27-AM27))>0),(K27-AM27),IF((K27-AM27)>0,AS27,0)) -> 0 | AM27: =IF(AND(I27>0,(I27-K27)>0),K27,I27) -> 0 | AN27: =B$8 -> 0 | AO27: =IF(OR(BL27=10,BL27=11,BL27=12,BL27=1,BL27=2,BL27=3,BL27=4),B$9,$B$12) -> 0 | AP27: =IF(OR(BL27=11,BL27=12,BL27=1,BL27=2,BL27=3),B$10,) -> 0 | AQ27: =IF(OR(BL27=12,BL27=1,BL27=2),B$11,) -> 0 | AR27: =SUMIFS($B$13:$B$16,$C$13:$C$16,BM27) -> 0 | AS27: =SUMIFS($B$18:$B$29,$C$18:$C$29,BL27) -> 0 | AT27: =L27+I27 -> 0 | AX27: =MAX(AN27-AG27,0) -> 0 | AY27: =MAX(AO27-AH27,0) -> 0 | AZ27: =MAX(AP27-AI27,0) -> 0 | BA27: =MAX(AQ27-AJ27,0) -> 0 | BB27: =MAX(AR27-AK27,0) -> 0 | BC27: =MAX(AS27-AL27,0) -> 0 | BD27: =MAX(AT27-AM27,0) -> 0 | BE27: =SUM(AX27:BD27) -> 0 | BI27: =IF(Förbrukning!F26="",Förbrukning!E26,0)/IF(Förbrukning!$B$3=Listor!$B$5,F27,1) -> 0 | BJ27: =Förbrukning!F26/IF(Förbrukning!$B$3=Listor!$B$5,F27,1) -> 0 | BL27: =MONTH(D27) -> 10 | BM27: =ROUNDUP(BL27/3,0) -> 4 | BN27: =Indata!$B$6 -> 0
A28: Kap.ab Augusti | B28: =Indata!B30 -> 0 | C28: 8 | D28: =D27+1 -> 46319 | E28: =F28*G28 -> 0 | F28: =24+SUMIFS(Listor!$C$22:$C$23,Listor!$B$22:$B$23,Uttag!D28) -> 25 | G28: =SUM(BI28:BJ28) -> 0 | I28: =Förbrukning!H27 -> 0 | N28: =BE28 -> 0 | P28: =I28*SUMIFS(Priser!$L$3:$L$14,Priser!$A$3:$A$14,BL28) -> 0 | Q28: =Z28+AC28 -> 0 | U28: =MAX(G28-BE28,0) -> 0 | V28: =U28-W28 -> 0 | W28: =MAX(G28-BN28,0) -> 0 | X28: =COUNTIFS(V28,">0")+IF(BL28=BL27,X27,0) -> 0 | Y28: =IF(X28>=Priser!$N$6,Priser!$O$6,IF(X28>=Priser!$N$5,Priser!$O$5,IF(X28>=Priser!$N$4,Priser!$O$4,Priser!$O$3))) -> 0 | Z28: =Y28*SUMIFS(Priser!$L$3:$L$14,Priser!$A$3:$A$14,$BL28)*V28 -> 0 | AA28: =COUNTIFS(W28,">0")+IF(BL28=BL27,AA27,0) -> 0 | AB28: =IF(AA28>=Priser!$P$6,Priser!$Q$6,IF(AA28>=Priser!$P$5,Priser!$Q$5,IF(AA28>=Priser!$P$4,Priser!$Q$4,Priser!$Q$3))) -> 0 | AC28: =AB28*SUMIFS(Priser!$L$3:$L$14,Priser!$A$3:$A$14,$BL28)*W28 -> 0 | AG28: =IF(AND((K28-SUM(AH28:AM28)>0),(AN28-(K28-SUM(AH28:AM28))>0)),K28-SUM(AH28:AM28),IF((K28-SUM(AH28:AM28))>0,AN28,0)) -> 0 | AH28: =IF(AND((K28-SUM(AI28:AM28)>0),(AO28-(K28-SUM(AI28:AM28))>0)),K28-SUM(AI28:AM28),IF((K28-SUM(AI28:AM28))>0,AO28,0)) -> 0 | AI28: =IF(AND((K28-SUM(AJ28:AM28)>0),(AP28-(K28-SUM(AJ28:AM28))>0)),K28-SUM(AJ28:AM28),IF((K28-SUM(AJ28:AM28))>0,AP28,0)) -> 0 | AJ28: =IF(AND((K28-SUM(AK28:AM28)>0),(AQ28-(K28-SUM(AK28:AM28))>0)),K28-SUM(AK28:AM28),IF((K28-SUM(AK28:AM28))>0,AQ28,0)) -> 0 | AK28: =IF(AND((K28-SUM(AL28:AM28)>0),(AR28-(K28-SUM(AL28:AM28))>0)),K28-SUM(AL28:AM28),IF((K28-SUM(AL28:AM28))>0,AR28,0)) -> 0 | AL28: =IF(AND((K28-AM28)>0,(AS28-(K28-AM28))>0),(K28-AM28),IF((K28-AM28)>0,AS28,0)) -> 0 | AM28: =IF(AND(I28>0,(I28-K28)>0),K28,I28) -> 0 | AN28: =B$8 -> 0 | AO28: =IF(OR(BL28=10,BL28=11,BL28=12,BL28=1,BL28=2,BL28=3,BL28=4),B$9,$B$12) -> 0 | AP28: =IF(OR(BL28=11,BL28=12,BL28=1,BL28=2,BL28=3),B$10,) -> 0 | AQ28: =IF(OR(BL28=12,BL28=1,BL28=2),B$11,) -> 0 | AR28: =SUMIFS($B$13:$B$16,$C$13:$C$16,BM28) -> 0 | AS28: =SUMIFS($B$18:$B$29,$C$18:$C$29,BL28) -> 0 | AT28: =L28+I28 -> 0 | AX28: =MAX(AN28-AG28,0) -> 0 | AY28: =MAX(AO28-AH28,0) -> 0 | AZ28: =MAX(AP28-AI28,0) -> 0 | BA28: =MAX(AQ28-AJ28,0) -> 0 | BB28: =MAX(AR28-AK28,0) -> 0 | BC28: =MAX(AS28-AL28,0) -> 0 | BD28: =MAX(AT28-AM28,0) -> 0 | BE28: =SUM(AX28:BD28) -> 0 | BI28: =IF(Förbrukning!F27="",Förbrukning!E27,0)/IF(Förbrukning!$B$3=Listor!$B$5,F28,1) -> 0 | BJ28: =Förbrukning!F27/IF(Förbrukning!$B$3=Listor!$B$5,F28,1) -> 0 | BL28: =MONTH(D28) -> 10 | BM28: =ROUNDUP(BL28/3,0) -> 4 | BN28: =Indata!$B$6 -> 0
A29: Kap.ab September | B29: =Indata!B31 -> 0 | C29: 9 | D29: =D28+1 -> 46320 | E29: =F29*G29 -> 0 | F29: =24+SUMIFS(Listor!$C$22:$C$23,Listor!$B$22:$B$23,Uttag!D29) -> 24 | G29: =SUM(BI29:BJ29) -> 0 | I29: =Förbrukning!H28 -> 0 | N29: =BE29 -> 0 | P29: =I29*SUMIFS(Priser!$L$3:$L$14,Priser!$A$3:$A$14,BL29) -> 0 | Q29: =Z29+AC29 -> 0 | U29: =MAX(G29-BE29,0) -> 0 | V29: =U29-W29 -> 0 | W29: =MAX(G29-BN29,0) -> 0 | X29: =COUNTIFS(V29,">0")+IF(BL29=BL28,X28,0) -> 0 | Y29: =IF(X29>=Priser!$N$6,Priser!$O$6,IF(X29>=Priser!$N$5,Priser!$O$5,IF(X29>=Priser!$N$4,Priser!$O$4,Priser!$O$3))) -> 0 | Z29: =Y29*SUMIFS(Priser!$L$3:$L$14,Priser!$A$3:$A$14,$BL29)*V29 -> 0 | AA29: =COUNTIFS(W29,">0")+IF(BL29=BL28,AA28,0) -> 0 | AB29: =IF(AA29>=Priser!$P$6,Priser!$Q$6,IF(AA29>=Priser!$P$5,Priser!$Q$5,IF(AA29>=Priser!$P$4,Priser!$Q$4,Priser!$Q$3))) -> 0 | AC29: =AB29*SUMIFS(Priser!$L$3:$L$14,Priser!$A$3:$A$14,$BL29)*W29 -> 0 | AG29: =IF(AND((K29-SUM(AH29:AM29)>0),(AN29-(K29-SUM(AH29:AM29))>0)),K29-SUM(AH29:AM29),IF((K29-SUM(AH29:AM29))>0,AN29,0)) -> 0 | AH29: =IF(AND((K29-SUM(AI29:AM29)>0),(AO29-(K29-SUM(AI29:AM29))>0)),K29-SUM(AI29:AM29),IF((K29-SUM(AI29:AM29))>0,AO29,0)) -> 0 | AI29: =IF(AND((K29-SUM(AJ29:AM29)>0),(AP29-(K29-SUM(AJ29:AM29))>0)),K29-SUM(AJ29:AM29),IF((K29-SUM(AJ29:AM29))>0,AP29,0)) -> 0 | AJ29: =IF(AND((K29-SUM(AK29:AM29)>0),(AQ29-(K29-SUM(AK29:AM29))>0)),K29-SUM(AK29:AM29),IF((K29-SUM(AK29:AM29))>0,AQ29,0)) -> 0 | AK29: =IF(AND((K29-SUM(AL29:AM29)>0),(AR29-(K29-SUM(AL29:AM29))>0)),K29-SUM(AL29:AM29),IF((K29-SUM(AL29:AM29))>0,AR29,0)) -> 0 | AL29: =IF(AND((K29-AM29)>0,(AS29-(K29-AM29))>0),(K29-AM29),IF((K29-AM29)>0,AS29,0)) -> 0 | AM29: =IF(AND(I29>0,(I29-K29)>0),K29,I29) -> 0 | AN29: =B$8 -> 0 | AO29: =IF(OR(BL29=10,BL29=11,BL29=12,BL29=1,BL29=2,BL29=3,BL29=4),B$9,$B$12) -> 0 | AP29: =IF(OR(BL29=11,BL29=12,BL29=1,BL29=2,BL29=3),B$10,) -> 0 | AQ29: =IF(OR(BL29=12,BL29=1,BL29=2),B$11,) -> 0 | AR29: =SUMIFS($B$13:$B$16,$C$13:$C$16,BM29) -> 0 | AS29: =SUMIFS($B$18:$B$29,$C$18:$C$29,BL29) -> 0 | AT29: =L29+I29 -> 0 | AX29: =MAX(AN29-AG29,0) -> 0 | AY29: =MAX(AO29-AH29,0) -> 0 | AZ29: =MAX(AP29-AI29,0) -> 0 | BA29: =MAX(AQ29-AJ29,0) -> 0 | BB29: =MAX(AR29-AK29,0) -> 0 | BC29: =MAX(AS29-AL29,0) -> 0 | BD29: =MAX(AT29-AM29,0) -> 0 | BE29: =SUM(AX29:BD29) -> 0 | BI29: =IF(Förbrukning!F28="",Förbrukning!E28,0)/IF(Förbrukning!$B$3=Listor!$B$5,F29,1) -> 0 | BJ29: =Förbrukning!F28/IF(Förbrukning!$B$3=Listor!$B$5,F29,1) -> 0 | BL29: =MONTH(D29) -> 10 | BM29: =ROUNDUP(BL29/3,0) -> 4 | BN29: =Indata!$B$6 -> 0
D30: =D29+1 -> 46321 | E30: =F30*G30 -> 0 | F30: =24+SUMIFS(Listor!$C$22:$C$23,Listor!$B$22:$B$23,Uttag!D30) -> 24 | G30: =SUM(BI30:BJ30) -> 0 | I30: =Förbrukning!H29 -> 0 | N30: =BE30 -> 0 | P30: =I30*SUMIFS(Priser!$L$3:$L$14,Priser!$A$3:$A$14,BL30) -> 0 | Q30: =Z30+AC30 -> 0 | U30: =MAX(G30-BE30,0) -> 0 | V30: =U30-W30 -> 0 | W30: =MAX(G30-BN30,0) -> 0 | X30: =COUNTIFS(V30,">0")+IF(BL30=BL29,X29,0) -> 0 | Y30: =IF(X30>=Priser!$N$6,Priser!$O$6,IF(X30>=Priser!$N$5,Priser!$O$5,IF(X30>=Priser!$N$4,Priser!$O$4,Priser!$O$3))) -> 0 | Z30: =Y30*SUMIFS(Priser!$L$3:$L$14,Priser!$A$3:$A$14,$BL30)*V30 -> 0 | AA30: =COUNTIFS(W30,">0")+IF(BL30=BL29,AA29,0) -> 0 | AB30: =IF(AA30>=Priser!$P$6,Priser!$Q$6,IF(AA30>=Priser!$P$5,Priser!$Q$5,IF(AA30>=Priser!$P$4,Priser!$Q$4,Priser!$Q$3))) -> 0 | AC30: =AB30*SUMIFS(Priser!$L$3:$L$14,Priser!$A$3:$A$14,$BL30)*W30 -> 0 | AG30: =IF(AND((K30-SUM(AH30:AM30)>0),(AN30-(K30-SUM(AH30:AM30))>0)),K30-SUM(AH30:AM30),IF((K30-SUM(AH30:AM30))>0,AN30,0)) -> 0 | AH30: =IF(AND((K30-SUM(AI30:AM30)>0),(AO30-(K30-SUM(AI30:AM30))>0)),K30-SUM(AI30:AM30),IF((K30-SUM(AI30:AM30))>0,AO30,0)) -> 0 | AI30: =IF(AND((K30-SUM(AJ30:AM30)>0),(AP30-(K30-SUM(AJ30:AM30))>0)),K30-SUM(AJ30:AM30),IF((K30-SUM(AJ30:AM30))>0,AP30,0)) -> 0 | AJ30: =IF(AND((K30-SUM(AK30:AM30)>0),(AQ30-(K30-SUM(AK30:AM30))>0)),K30-SUM(AK30:AM30),IF((K30-SUM(AK30:AM30))>0,AQ30,0)) -> 0 | AK30: =IF(AND((K30-SUM(AL30:AM30)>0),(AR30-(K30-SUM(AL30:AM30))>0)),K30-SUM(AL30:AM30),IF((K30-SUM(AL30:AM30))>0,AR30,0)) -> 0 | AL30: =IF(AND((K30-AM30)>0,(AS30-(K30-AM30))>0),(K30-AM30),IF((K30-AM30)>0,AS30,0)) -> 0 | AM30: =IF(AND(I30>0,(I30-K30)>0),K30,I30) -> 0 | AN30: =B$8 -> 0 | AO30: =IF(OR(BL30=10,BL30=11,BL30=12,BL30=1,BL30=2,BL30=3,BL30=4),B$9,$B$12) -> 0 | AP30: =IF(OR(BL30=11,BL30=12,BL30=1,BL30=2,BL30=3),B$10,) -> 0 | AQ30: =IF(OR(BL30=12,BL30=1,BL30=2),B$11,) -> 0 | AR30: =SUMIFS($B$13:$B$16,$C$13:$C$16,BM30) -> 0 | AS30: =SUMIFS($B$18:$B$29,$C$18:$C$29,BL30) -> 0 | AT30: =L30+I30 -> 0 | AX30: =MAX(AN30-AG30,0) -> 0 | AY30: =MAX(AO30-AH30,0) -> 0 | AZ30: =MAX(AP30-AI30,0) -> 0 | BA30: =MAX(AQ30-AJ30,0) -> 0 | BB30: =MAX(AR30-AK30,0) -> 0 | BC30: =MAX(AS30-AL30,0) -> 0 | BD30: =MAX(AT30-AM30,0) -> 0 | BE30: =SUM(AX30:BD30) -> 0 | BI30: =IF(Förbrukning!F29="",Förbrukning!E29,0)/IF(Förbrukning!$B$3=Listor!$B$5,F30,1) -> 0 | BJ30: =Förbrukning!F29/IF(Förbrukning!$B$3=Listor!$B$5,F30,1) -> 0 | BL30: =MONTH(D30) -> 10 | BM30: =ROUNDUP(BL30/3,0) -> 4 | BN30: =Indata!$B$6 -> 0
D31: =D30+1 -> 46322 | E31: =F31*G31 -> 0 | F31: =24+SUMIFS(Listor!$C$22:$C$23,Listor!$B$22:$B$23,Uttag!D31) -> 24 | G31: =SUM(BI31:BJ31) -> 0 | I31: =Förbrukning!H30 -> 0 | N31: =BE31 -> 0 | P31: =I31*SUMIFS(Priser!$L$3:$L$14,Priser!$A$3:$A$14,BL31) -> 0 | Q31: =Z31+AC31 -> 0 | U31: =MAX(G31-BE31,0) -> 0 | V31: =U31-W31 -> 0 | W31: =MAX(G31-BN31,0) -> 0 | X31: =COUNTIFS(V31,">0")+IF(BL31=BL30,X30,0) -> 0 | Y31: =IF(X31>=Priser!$N$6,Priser!$O$6,IF(X31>=Priser!$N$5,Priser!$O$5,IF(X31>=Priser!$N$4,Priser!$O$4,Priser!$O$3))) -> 0 | Z31: =Y31*SUMIFS(Priser!$L$3:$L$14,Priser!$A$3:$A$14,$BL31)*V31 -> 0 | AA31: =COUNTIFS(W31,">0")+IF(BL31=BL30,AA30,0) -> 0 | AB31: =IF(AA31>=Priser!$P$6,Priser!$Q$6,IF(AA31>=Priser!$P$5,Priser!$Q$5,IF(AA31>=Priser!$P$4,Priser!$Q$4,Priser!$Q$3))) -> 0 | AC31: =AB31*SUMIFS(Priser!$L$3:$L$14,Priser!$A$3:$A$14,$BL31)*W31 -> 0 | AG31: =IF(AND((K31-SUM(AH31:AM31)>0),(AN31-(K31-SUM(AH31:AM31))>0)),K31-SUM(AH31:AM31),IF((K31-SUM(AH31:AM31))>0,AN31,0)) -> 0 | AH31: =IF(AND((K31-SUM(AI31:AM31)>0),(AO31-(K31-SUM(AI31:AM31))>0)),K31-SUM(AI31:AM31),IF((K31-SUM(AI31:AM31))>0,AO31,0)) -> 0 | AI31: =IF(AND((K31-SUM(AJ31:AM31)>0),(AP31-(K31-SUM(AJ31:AM31))>0)),K31-SUM(AJ31:AM31),IF((K31-SUM(AJ31:AM31))>0,AP31,0)) -> 0 | AJ31: =IF(AND((K31-SUM(AK31:AM31)>0),(AQ31-(K31-SUM(AK31:AM31))>0)),K31-SUM(AK31:AM31),IF((K31-SUM(AK31:AM31))>0,AQ31,0)) -> 0 | AK31: =IF(AND((K31-SUM(AL31:AM31)>0),(AR31-(K31-SUM(AL31:AM31))>0)),K31-SUM(AL31:AM31),IF((K31-SUM(AL31:AM31))>0,AR31,0)) -> 0 | AL31: =IF(AND((K31-AM31)>0,(AS31-(K31-AM31))>0),(K31-AM31),IF((K31-AM31)>0,AS31,0)) -> 0 | AM31: =IF(AND(I31>0,(I31-K31)>0),K31,I31) -> 0 | AN31: =B$8 -> 0 | AO31: =IF(OR(BL31=10,BL31=11,BL31=12,BL31=1,BL31=2,BL31=3,BL31=4),B$9,$B$12) -> 0 | AP31: =IF(OR(BL31=11,BL31=12,BL31=1,BL31=2,BL31=3),B$10,) -> 0 | AQ31: =IF(OR(BL31=12,BL31=1,BL31=2),B$11,) -> 0 | AR31: =SUMIFS($B$13:$B$16,$C$13:$C$16,BM31) -> 0 | AS31: =SUMIFS($B$18:$B$29,$C$18:$C$29,BL31) -> 0 | AT31: =L31+I31 -> 0 | AX31: =MAX(AN31-AG31,0) -> 0 | AY31: =MAX(AO31-AH31,0) -> 0 | AZ31: =MAX(AP31-AI31,0) -> 0 | BA31: =MAX(AQ31-AJ31,0) -> 0 | BB31: =MAX(AR31-AK31,0) -> 0 | BC31: =MAX(AS31-AL31,0) -> 0 | BD31: =MAX(AT31-AM31,0) -> 0 | BE31: =SUM(AX31:BD31) -> 0 | BI31: =IF(Förbrukning!F30="",Förbrukning!E30,0)/IF(Förbrukning!$B$3=Listor!$B$5,F31,1) -> 0 | BJ31: =Förbrukning!F30/IF(Förbrukning!$B$3=Listor!$B$5,F31,1) -> 0 | BL31: =MONTH(D31) -> 10 | BM31: =ROUNDUP(BL31/3,0) -> 4 | BN31: =Indata!$B$6 -> 0
D32: =D31+1 -> 46323 | E32: =F32*G32 -> 0 | F32: =24+SUMIFS(Listor!$C$22:$C$23,Listor!$B$22:$B$23,Uttag!D32) -> 24 | G32: =SUM(BI32:BJ32) -> 0 | I32: =Förbrukning!H31 -> 0 | N32: =BE32 -> 0 | P32: =I32*SUMIFS(Priser!$L$3:$L$14,Priser!$A$3:$A$14,BL32) -> 0 | Q32: =Z32+AC32 -> 0 | U32: =MAX(G32-BE32,0) -> 0 | V32: =U32-W32 -> 0 | W32: =MAX(G32-BN32,0) -> 0 | X32: =COUNTIFS(V32,">0")+IF(BL32=BL31,X31,0) -> 0 | Y32: =IF(X32>=Priser!$N$6,Priser!$O$6,IF(X32>=Priser!$N$5,Priser!$O$5,IF(X32>=Priser!$N$4,Priser!$O$4,Priser!$O$3))) -> 0 | Z32: =Y32*SUMIFS(Priser!$L$3:$L$14,Priser!$A$3:$A$14,$BL32)*V32 -> 0 | AA32: =COUNTIFS(W32,">0")+IF(BL32=BL31,AA31,0) -> 0 | AB32: =IF(AA32>=Priser!$P$6,Priser!$Q$6,IF(AA32>=Priser!$P$5,Priser!$Q$5,IF(AA32>=Priser!$P$4,Priser!$Q$4,Priser!$Q$3))) -> 0 | AC32: =AB32*SUMIFS(Priser!$L$3:$L$14,Priser!$A$3:$A$14,$BL32)*W32 -> 0 | AG32: =IF(AND((K32-SUM(AH32:AM32)>0),(AN32-(K32-SUM(AH32:AM32))>0)),K32-SUM(AH32:AM32),IF((K32-SUM(AH32:AM32))>0,AN32,0)) -> 0 | AH32: =IF(AND((K32-SUM(AI32:AM32)>0),(AO32-(K32-SUM(AI32:AM32))>0)),K32-SUM(AI32:AM32),IF((K32-SUM(AI32:AM32))>0,AO32,0)) -> 0 | AI32: =IF(AND((K32-SUM(AJ32:AM32)>0),(AP32-(K32-SUM(AJ32:AM32))>0)),K32-SUM(AJ32:AM32),IF((K32-SUM(AJ32:AM32))>0,AP32,0)) -> 0 | AJ32: =IF(AND((K32-SUM(AK32:AM32)>0),(AQ32-(K32-SUM(AK32:AM32))>0)),K32-SUM(AK32:AM32),IF((K32-SUM(AK32:AM32))>0,AQ32,0)) -> 0 | AK32: =IF(AND((K32-SUM(AL32:AM32)>0),(AR32-(K32-SUM(AL32:AM32))>0)),K32-SUM(AL32:AM32),IF((K32-SUM(AL32:AM32))>0,AR32,0)) -> 0 | AL32: =IF(AND((K32-AM32)>0,(AS32-(K32-AM32))>0),(K32-AM32),IF((K32-AM32)>0,AS32,0)) -> 0 | AM32: =IF(AND(I32>0,(I32-K32)>0),K32,I32) -> 0 | AN32: =B$8 -> 0 | AO32: =IF(OR(BL32=10,BL32=11,BL32=12,BL32=1,BL32=2,BL32=3,BL32=4),B$9,$B$12) -> 0 | AP32: =IF(OR(BL32=11,BL32=12,BL32=1,BL32=2,BL32=3),B$10,) -> 0 | AQ32: =IF(OR(BL32=12,BL32=1,BL32=2),B$11,) -> 0 | AR32: =SUMIFS($B$13:$B$16,$C$13:$C$16,BM32) -> 0 | AS32: =SUMIFS($B$18:$B$29,$C$18:$C$29,BL32) -> 0 | AT32: =L32+I32 -> 0 | AX32: =MAX(AN32-AG32,0) -> 0 | AY32: =MAX(AO32-AH32,0) -> 0 | AZ32: =MAX(AP32-AI32,0) -> 0 | BA32: =MAX(AQ32-AJ32,0) -> 0 | BB32: =MAX(AR32-AK32,0) -> 0 | BC32: =MAX(AS32-AL32,0) -> 0 | BD32: =MAX(AT32-AM32,0) -> 0 | BE32: =SUM(AX32:BD32) -> 0 | BI32: =IF(Förbrukning!F31="",Förbrukning!E31,0)/IF(Förbrukning!$B$3=Listor!$B$5,F32,1) -> 0 | BJ32: =Förbrukning!F31/IF(Förbrukning!$B$3=Listor!$B$5,F32,1) -> 0 | BL32: =MONTH(D32) -> 10 | BM32: =ROUNDUP(BL32/3,0) -> 4 | BN32: =Indata!$B$6 -> 0
D33: =D32+1 -> 46324 | E33: =F33*G33 -> 0 | F33: =24+SUMIFS(Listor!$C$22:$C$23,Listor!$B$22:$B$23,Uttag!D33) -> 24 | G33: =SUM(BI33:BJ33) -> 0 | I33: =Förbrukning!H32 -> 0 | N33: =BE33 -> 0 | P33: =I33*SUMIFS(Priser!$L$3:$L$14,Priser!$A$3:$A$14,BL33) -> 0 | Q33: =Z33+AC33 -> 0 | U33: =MAX(G33-BE33,0) -> 0 | V33: =U33-W33 -> 0 | W33: =MAX(G33-BN33,0) -> 0 | X33: =COUNTIFS(V33,">0")+IF(BL33=BL32,X32,0) -> 0 | Y33: =IF(X33>=Priser!$N$6,Priser!$O$6,IF(X33>=Priser!$N$5,Priser!$O$5,IF(X33>=Priser!$N$4,Priser!$O$4,Priser!$O$3))) -> 0 | Z33: =Y33*SUMIFS(Priser!$L$3:$L$14,Priser!$A$3:$A$14,$BL33)*V33 -> 0 | AA33: =COUNTIFS(W33,">0")+IF(BL33=BL32,AA32,0) -> 0 | AB33: =IF(AA33>=Priser!$P$6,Priser!$Q$6,IF(AA33>=Priser!$P$5,Priser!$Q$5,IF(AA33>=Priser!$P$4,Priser!$Q$4,Priser!$Q$3))) -> 0 | AC33: =AB33*SUMIFS(Priser!$L$3:$L$14,Priser!$A$3:$A$14,$BL33)*W33 -> 0 | AG33: =IF(AND((K33-SUM(AH33:AM33)>0),(AN33-(K33-SUM(AH33:AM33))>0)),K33-SUM(AH33:AM33),IF((K33-SUM(AH33:AM33))>0,AN33,0)) -> 0 | AH33: =IF(AND((K33-SUM(AI33:AM33)>0),(AO33-(K33-SUM(AI33:AM33))>0)),K33-SUM(AI33:AM33),IF((K33-SUM(AI33:AM33))>0,AO33,0)) -> 0 | AI33: =IF(AND((K33-SUM(AJ33:AM33)>0),(AP33-(K33-SUM(AJ33:AM33))>0)),K33-SUM(AJ33:AM33),IF((K33-SUM(AJ33:AM33))>0,AP33,0)) -> 0 | AJ33: =IF(AND((K33-SUM(AK33:AM33)>0),(AQ33-(K33-SUM(AK33:AM33))>0)),K33-SUM(AK33:AM33),IF((K33-SUM(AK33:AM33))>0,AQ33,0)) -> 0 | AK33: =IF(AND((K33-SUM(AL33:AM33)>0),(AR33-(K33-SUM(AL33:AM33))>0)),K33-SUM(AL33:AM33),IF((K33-SUM(AL33:AM33))>0,AR33,0)) -> 0 | AL33: =IF(AND((K33-AM33)>0,(AS33-(K33-AM33))>0),(K33-AM33),IF((K33-AM33)>0,AS33,0)) -> 0 | AM33: =IF(AND(I33>0,(I33-K33)>0),K33,I33) -> 0 | AN33: =B$8 -> 0 | AO33: =IF(OR(BL33=10,BL33=11,BL33=12,BL33=1,BL33=2,BL33=3,BL33=4),B$9,$B$12) -> 0 | AP33: =IF(OR(BL33=11,BL33=12,BL33=1,BL33=2,BL33=3),B$10,) -> 0 | AQ33: =IF(OR(BL33=12,BL33=1,BL33=2),B$11,) -> 0 | AR33: =SUMIFS($B$13:$B$16,$C$13:$C$16,BM33) -> 0 | AS33: =SUMIFS($B$18:$B$29,$C$18:$C$29,BL33) -> 0 | AT33: =L33+I33 -> 0 | AX33: =MAX(AN33-AG33,0) -> 0 | AY33: =MAX(AO33-AH33,0) -> 0 | AZ33: =MAX(AP33-AI33,0) -> 0 | BA33: =MAX(AQ33-AJ33,0) -> 0 | BB33: =MAX(AR33-AK33,0) -> 0 | BC33: =MAX(AS33-AL33,0) -> 0 | BD33: =MAX(AT33-AM33,0) -> 0 | BE33: =SUM(AX33:BD33) -> 0 | BI33: =IF(Förbrukning!F32="",Förbrukning!E32,0)/IF(Förbrukning!$B$3=Listor!$B$5,F33,1) -> 0 | BJ33: =Förbrukning!F32/IF(Förbrukning!$B$3=Listor!$B$5,F33,1) -> 0 | BL33: =MONTH(D33) -> 10 | BM33: =ROUNDUP(BL33/3,0) -> 4 | BN33: =Indata!$B$6 -> 0
D34: =D33+1 -> 46325 | E34: =F34*G34 -> 0 | F34: =24+SUMIFS(Listor!$C$22:$C$23,Listor!$B$22:$B$23,Uttag!D34) -> 24 | G34: =SUM(BI34:BJ34) -> 0 | I34: =Förbrukning!H33 -> 0 | N34: =BE34 -> 0 | P34: =I34*SUMIFS(Priser!$L$3:$L$14,Priser!$A$3:$A$14,BL34) -> 0 | Q34: =Z34+AC34 -> 0 | U34: =MAX(G34-BE34,0) -> 0 | V34: =U34-W34 -> 0 | W34: =MAX(G34-BN34,0) -> 0 | X34: =COUNTIFS(V34,">0")+IF(BL34=BL33,X33,0) -> 0 | Y34: =IF(X34>=Priser!$N$6,Priser!$O$6,IF(X34>=Priser!$N$5,Priser!$O$5,IF(X34>=Priser!$N$4,Priser!$O$4,Priser!$O$3))) -> 0 | Z34: =Y34*SUMIFS(Priser!$L$3:$L$14,Priser!$A$3:$A$14,$BL34)*V34 -> 0 | AA34: =COUNTIFS(W34,">0")+IF(BL34=BL33,AA33,0) -> 0 | AB34: =IF(AA34>=Priser!$P$6,Priser!$Q$6,IF(AA34>=Priser!$P$5,Priser!$Q$5,IF(AA34>=Priser!$P$4,Priser!$Q$4,Priser!$Q$3))) -> 0 | AC34: =AB34*SUMIFS(Priser!$L$3:$L$14,Priser!$A$3:$A$14,$BL34)*W34 -> 0 | AG34: =IF(AND((K34-SUM(AH34:AM34)>0),(AN34-(K34-SUM(AH34:AM34))>0)),K34-SUM(AH34:AM34),IF((K34-SUM(AH34:AM34))>0,AN34,0)) -> 0 | AH34: =IF(AND((K34-SUM(AI34:AM34)>0),(AO34-(K34-SUM(AI34:AM34))>0)),K34-SUM(AI34:AM34),IF((K34-SUM(AI34:AM34))>0,AO34,0)) -> 0 | AI34: =IF(AND((K34-SUM(AJ34:AM34)>0),(AP34-(K34-SUM(AJ34:AM34))>0)),K34-SUM(AJ34:AM34),IF((K34-SUM(AJ34:AM34))>0,AP34,0)) -> 0 | AJ34: =IF(AND((K34-SUM(AK34:AM34)>0),(AQ34-(K34-SUM(AK34:AM34))>0)),K34-SUM(AK34:AM34),IF((K34-SUM(AK34:AM34))>0,AQ34,0)) -> 0 | AK34: =IF(AND((K34-SUM(AL34:AM34)>0),(AR34-(K34-SUM(AL34:AM34))>0)),K34-SUM(AL34:AM34),IF((K34-SUM(AL34:AM34))>0,AR34,0)) -> 0 | AL34: =IF(AND((K34-AM34)>0,(AS34-(K34-AM34))>0),(K34-AM34),IF((K34-AM34)>0,AS34,0)) -> 0 | AM34: =IF(AND(I34>0,(I34-K34)>0),K34,I34) -> 0 | AN34: =B$8 -> 0 | AO34: =IF(OR(BL34=10,BL34=11,BL34=12,BL34=1,BL34=2,BL34=3,BL34=4),B$9,$B$12) -> 0 | AP34: =IF(OR(BL34=11,BL34=12,BL34=1,BL34=2,BL34=3),B$10,) -> 0 | AQ34: =IF(OR(BL34=12,BL34=1,BL34=2),B$11,) -> 0 | AR34: =SUMIFS($B$13:$B$16,$C$13:$C$16,BM34) -> 0 | AS34: =SUMIFS($B$18:$B$29,$C$18:$C$29,BL34) -> 0 | AT34: =L34+I34 -> 0 | AX34: =MAX(AN34-AG34,0) -> 0 | AY34: =MAX(AO34-AH34,0) -> 0 | AZ34: =MAX(AP34-AI34,0) -> 0 | BA34: =MAX(AQ34-AJ34,0) -> 0 | BB34: =MAX(AR34-AK34,0) -> 0 | BC34: =MAX(AS34-AL34,0) -> 0 | BD34: =MAX(AT34-AM34,0) -> 0 | BE34: =SUM(AX34:BD34) -> 0 | BI34: =IF(Förbrukning!F33="",Förbrukning!E33,0)/IF(Förbrukning!$B$3=Listor!$B$5,F34,1) -> 0 | BJ34: =Förbrukning!F33/IF(Förbrukning!$B$3=Listor!$B$5,F34,1) -> 0 | BL34: =MONTH(D34) -> 10 | BM34: =ROUNDUP(BL34/3,0) -> 4 | BN34: =Indata!$B$6 -> 0
D35: =D34+1 -> 46326 | E35: =F35*G35 -> 0 | F35: =24+SUMIFS(Listor!$C$22:$C$23,Listor!$B$22:$B$23,Uttag!D35) -> 24 | G35: =SUM(BI35:BJ35) -> 0 | I35: =Förbrukning!H34 -> 0 | N35: =BE35 -> 0 | P35: =I35*SUMIFS(Priser!$L$3:$L$14,Priser!$A$3:$A$14,BL35) -> 0 | Q35: =Z35+AC35 -> 0 | U35: =MAX(G35-BE35,0) -> 0 | V35: =U35-W35 -> 0 | W35: =MAX(G35-BN35,0) -> 0 | X35: =COUNTIFS(V35,">0")+IF(BL35=BL34,X34,0) -> 0 | Y35: =IF(X35>=Priser!$N$6,Priser!$O$6,IF(X35>=Priser!$N$5,Priser!$O$5,IF(X35>=Priser!$N$4,Priser!$O$4,Priser!$O$3))) -> 0 | Z35: =Y35*SUMIFS(Priser!$L$3:$L$14,Priser!$A$3:$A$14,$BL35)*V35 -> 0 | AA35: =COUNTIFS(W35,">0")+IF(BL35=BL34,AA34,0) -> 0 | AB35: =IF(AA35>=Priser!$P$6,Priser!$Q$6,IF(AA35>=Priser!$P$5,Priser!$Q$5,IF(AA35>=Priser!$P$4,Priser!$Q$4,Priser!$Q$3))) -> 0 | AC35: =AB35*SUMIFS(Priser!$L$3:$L$14,Priser!$A$3:$A$14,$BL35)*W35 -> 0 | AG35: =IF(AND((K35-SUM(AH35:AM35)>0),(AN35-(K35-SUM(AH35:AM35))>0)),K35-SUM(AH35:AM35),IF((K35-SUM(AH35:AM35))>0,AN35,0)) -> 0 | AH35: =IF(AND((K35-SUM(AI35:AM35)>0),(AO35-(K35-SUM(AI35:AM35))>0)),K35-SUM(AI35:AM35),IF((K35-SUM(AI35:AM35))>0,AO35,0)) -> 0 | AI35: =IF(AND((K35-SUM(AJ35:AM35)>0),(AP35-(K35-SUM(AJ35:AM35))>0)),K35-SUM(AJ35:AM35),IF((K35-SUM(AJ35:AM35))>0,AP35,0)) -> 0 | AJ35: =IF(AND((K35-SUM(AK35:AM35)>0),(AQ35-(K35-SUM(AK35:AM35))>0)),K35-SUM(AK35:AM35),IF((K35-SUM(AK35:AM35))>0,AQ35,0)) -> 0 | AK35: =IF(AND((K35-SUM(AL35:AM35)>0),(AR35-(K35-SUM(AL35:AM35))>0)),K35-SUM(AL35:AM35),IF((K35-SUM(AL35:AM35))>0,AR35,0)) -> 0 | AL35: =IF(AND((K35-AM35)>0,(AS35-(K35-AM35))>0),(K35-AM35),IF((K35-AM35)>0,AS35,0)) -> 0 | AM35: =IF(AND(I35>0,(I35-K35)>0),K35,I35) -> 0 | AN35: =B$8 -> 0 | AO35: =IF(OR(BL35=10,BL35=11,BL35=12,BL35=1,BL35=2,BL35=3,BL35=4),B$9,$B$12) -> 0 | AP35: =IF(OR(BL35=11,BL35=12,BL35=1,BL35=2,BL35=3),B$10,) -> 0 | AQ35: =IF(OR(BL35=12,BL35=1,BL35=2),B$11,) -> 0 | AR35: =SUMIFS($B$13:$B$16,$C$13:$C$16,BM35) -> 0 | AS35: =SUMIFS($B$18:$B$29,$C$18:$C$29,BL35) -> 0 | AT35: =L35+I35 -> 0 | AX35: =MAX(AN35-AG35,0) -> 0 | AY35: =MAX(AO35-AH35,0) -> 0 | AZ35: =MAX(AP35-AI35,0) -> 0 | BA35: =MAX(AQ35-AJ35,0) -> 0 | BB35: =MAX(AR35-AK35,0) -> 0 | BC35: =MAX(AS35-AL35,0) -> 0 | BD35: =MAX(AT35-AM35,0) -> 0 | BE35: =SUM(AX35:BD35) -> 0 | BI35: =IF(Förbrukning!F34="",Förbrukning!E34,0)/IF(Förbrukning!$B$3=Listor!$B$5,F35,1) -> 0 | BJ35: =Förbrukning!F34/IF(Förbrukning!$B$3=Listor!$B$5,F35,1) -> 0 | BL35: =MONTH(D35) -> 10 | BM35: =ROUNDUP(BL35/3,0) -> 4 | BN35: =Indata!$B$6 -> 0
D36: =D35+1 -> 46327 | E36: =F36*G36 -> 0 | F36: =24+SUMIFS(Listor!$C$22:$C$23,Listor!$B$22:$B$23,Uttag!D36) -> 24 | G36: =SUM(BI36:BJ36) -> 0 | I36: =Förbrukning!H35 -> 0 | N36: =BE36 -> 0 | P36: =I36*SUMIFS(Priser!$L$3:$L$14,Priser!$A$3:$A$14,BL36) -> 0 | Q36: =Z36+AC36 -> 0 | U36: =MAX(G36-BE36,0) -> 0 | V36: =U36-W36 -> 0 | W36: =MAX(G36-BN36,0) -> 0 | X36: =COUNTIFS(V36,">0")+IF(BL36=BL35,X35,0) -> 0 | Y36: =IF(X36>=Priser!$N$6,Priser!$O$6,IF(X36>=Priser!$N$5,Priser!$O$5,IF(X36>=Priser!$N$4,Priser!$O$4,Priser!$O$3))) -> 0 | Z36: =Y36*SUMIFS(Priser!$L$3:$L$14,Priser!$A$3:$A$14,$BL36)*V36 -> 0 | AA36: =COUNTIFS(W36,">0")+IF(BL36=BL35,AA35,0) -> 0 | AB36: =IF(AA36>=Priser!$P$6,Priser!$Q$6,IF(AA36>=Priser!$P$5,Priser!$Q$5,IF(AA36>=Priser!$P$4,Priser!$Q$4,Priser!$Q$3))) -> 0 | AC36: =AB36*SUMIFS(Priser!$L$3:$L$14,Priser!$A$3:$A$14,$BL36)*W36 -> 0 | AG36: =IF(AND((K36-SUM(AH36:AM36)>0),(AN36-(K36-SUM(AH36:AM36))>0)),K36-SUM(AH36:AM36),IF((K36-SUM(AH36:AM36))>0,AN36,0)) -> 0 | AH36: =IF(AND((K36-SUM(AI36:AM36)>0),(AO36-(K36-SUM(AI36:AM36))>0)),K36-SUM(AI36:AM36),IF((K36-SUM(AI36:AM36))>0,AO36,0)) -> 0 | AI36: =IF(AND((K36-SUM(AJ36:AM36)>0),(AP36-(K36-SUM(AJ36:AM36))>0)),K36-SUM(AJ36:AM36),IF((K36-SUM(AJ36:AM36))>0,AP36,0)) -> 0 | AJ36: =IF(AND((K36-SUM(AK36:AM36)>0),(AQ36-(K36-SUM(AK36:AM36))>0)),K36-SUM(AK36:AM36),IF((K36-SUM(AK36:AM36))>0,AQ36,0)) -> 0 | AK36: =IF(AND((K36-SUM(AL36:AM36)>0),(AR36-(K36-SUM(AL36:AM36))>0)),K36-SUM(AL36:AM36),IF((K36-SUM(AL36:AM36))>0,AR36,0)) -> 0 | AL36: =IF(AND((K36-AM36)>0,(AS36-(K36-AM36))>0),(K36-AM36),IF((K36-AM36)>0,AS36,0)) -> 0 | AM36: =IF(AND(I36>0,(I36-K36)>0),K36,I36) -> 0 | AN36: =B$8 -> 0 | AO36: =IF(OR(BL36=10,BL36=11,BL36=12,BL36=1,BL36=2,BL36=3,BL36=4),B$9,$B$12) -> 0 | AP36: =IF(OR(BL36=11,BL36=12,BL36=1,BL36=2,BL36=3),B$10,) -> 0 | AQ36: =IF(OR(BL36=12,BL36=1,BL36=2),B$11,) -> 0 | AR36: =SUMIFS($B$13:$B$16,$C$13:$C$16,BM36) -> 0 | AS36: =SUMIFS($B$18:$B$29,$C$18:$C$29,BL36) -> 0 | AT36: =L36+I36 -> 0 | AX36: =MAX(AN36-AG36,0) -> 0 | AY36: =MAX(AO36-AH36,0) -> 0 | AZ36: =MAX(AP36-AI36,0) -> 0 | BA36: =MAX(AQ36-AJ36,0) -> 0 | BB36: =MAX(AR36-AK36,0) -> 0 | BC36: =MAX(AS36-AL36,0) -> 0 | BD36: =MAX(AT36-AM36,0) -> 0 | BE36: =SUM(AX36:BD36) -> 0 | BI36: =IF(Förbrukning!F35="",Förbrukning!E35,0)/IF(Förbrukning!$B$3=Listor!$B$5,F36,1) -> 0 | BJ36: =Förbrukning!F35/IF(Förbrukning!$B$3=Listor!$B$5,F36,1) -> 0 | BL36: =MONTH(D36) -> 11 | BM36: =ROUNDUP(BL36/3,0) -> 4 | BN36: =Indata!$B$6 -> 0
D37: =D36+1 -> 46328 | E37: =F37*G37 -> 0 | F37: =24+SUMIFS(Listor!$C$22:$C$23,Listor!$B$22:$B$23,Uttag!D37) -> 24 | G37: =SUM(BI37:BJ37) -> 0 | I37: =Förbrukning!H36 -> 0 | N37: =BE37 -> 0 | P37: =I37*SUMIFS(Priser!$L$3:$L$14,Priser!$A$3:$A$14,BL37) -> 0 | Q37: =Z37+AC37 -> 0 | U37: =MAX(G37-BE37,0) -> 0 | V37: =U37-W37 -> 0 | W37: =MAX(G37-BN37,0) -> 0 | X37: =COUNTIFS(V37,">0")+IF(BL37=BL36,X36,0) -> 0 | Y37: =IF(X37>=Priser!$N$6,Priser!$O$6,IF(X37>=Priser!$N$5,Priser!$O$5,IF(X37>=Priser!$N$4,Priser!$O$4,Priser!$O$3))) -> 0 | Z37: =Y37*SUMIFS(Priser!$L$3:$L$14,Priser!$A$3:$A$14,$BL37)*V37 -> 0 | AA37: =COUNTIFS(W37,">0")+IF(BL37=BL36,AA36,0) -> 0 | AB37: =IF(AA37>=Priser!$P$6,Priser!$Q$6,IF(AA37>=Priser!$P$5,Priser!$Q$5,IF(AA37>=Priser!$P$4,Priser!$Q$4,Priser!$Q$3))) -> 0 | AC37: =AB37*SUMIFS(Priser!$L$3:$L$14,Priser!$A$3:$A$14,$BL37)*W37 -> 0 | AG37: =IF(AND((K37-SUM(AH37:AM37)>0),(AN37-(K37-SUM(AH37:AM37))>0)),K37-SUM(AH37:AM37),IF((K37-SUM(AH37:AM37))>0,AN37,0)) -> 0 | AH37: =IF(AND((K37-SUM(AI37:AM37)>0),(AO37-(K37-SUM(AI37:AM37))>0)),K37-SUM(AI37:AM37),IF((K37-SUM(AI37:AM37))>0,AO37,0)) -> 0 | AI37: =IF(AND((K37-SUM(AJ37:AM37)>0),(AP37-(K37-SUM(AJ37:AM37))>0)),K37-SUM(AJ37:AM37),IF((K37-SUM(AJ37:AM37))>0,AP37,0)) -> 0 | AJ37: =IF(AND((K37-SUM(AK37:AM37)>0),(AQ37-(K37-SUM(AK37:AM37))>0)),K37-SUM(AK37:AM37),IF((K37-SUM(AK37:AM37))>0,AQ37,0)) -> 0 | AK37: =IF(AND((K37-SUM(AL37:AM37)>0),(AR37-(K37-SUM(AL37:AM37))>0)),K37-SUM(AL37:AM37),IF((K37-SUM(AL37:AM37))>0,AR37,0)) -> 0 | AL37: =IF(AND((K37-AM37)>0,(AS37-(K37-AM37))>0),(K37-AM37),IF((K37-AM37)>0,AS37,0)) -> 0 | AM37: =IF(AND(I37>0,(I37-K37)>0),K37,I37) -> 0 | AN37: =B$8 -> 0 | AO37: =IF(OR(BL37=10,BL37=11,BL37=12,BL37=1,BL37=2,BL37=3,BL37=4),B$9,$B$12) -> 0 | AP37: =IF(OR(BL37=11,BL37=12,BL37=1,BL37=2,BL37=3),B$10,) -> 0 | AQ37: =IF(OR(BL37=12,BL37=1,BL37=2),B$11,) -> 0 | AR37: =SUMIFS($B$13:$B$16,$C$13:$C$16,BM37) -> 0 | AS37: =SUMIFS($B$18:$B$29,$C$18:$C$29,BL37) -> 0 | AT37: =L37+I37 -> 0 | AX37: =MAX(AN37-AG37,0) -> 0 | AY37: =MAX(AO37-AH37,0) -> 0 | AZ37: =MAX(AP37-AI37,0) -> 0 | BA37: =MAX(AQ37-AJ37,0) -> 0 | BB37: =MAX(AR37-AK37,0) -> 0 | BC37: =MAX(AS37-AL37,0) -> 0 | BD37: =MAX(AT37-AM37,0) -> 0 | BE37: =SUM(AX37:BD37) -> 0 | BI37: =IF(Förbrukning!F36="",Förbrukning!E36,0)/IF(Förbrukning!$B$3=Listor!$B$5,F37,1) -> 0 | BJ37: =Förbrukning!F36/IF(Förbrukning!$B$3=Listor!$B$5,F37,1) -> 0 | BL37: =MONTH(D37) -> 11 | BM37: =ROUNDUP(BL37/3,0) -> 4 | BN37: =Indata!$B$6 -> 0
D38: =D37+1 -> 46329 | E38: =F38*G38 -> 0 | F38: =24+SUMIFS(Listor!$C$22:$C$23,Listor!$B$22:$B$23,Uttag!D38) -> 24 | G38: =SUM(BI38:BJ38) -> 0 | I38: =Förbrukning!H37 -> 0 | N38: =BE38 -> 0 | P38: =I38*SUMIFS(Priser!$L$3:$L$14,Priser!$A$3:$A$14,BL38) -> 0 | Q38: =Z38+AC38 -> 0 | U38: =MAX(G38-BE38,0) -> 0 | V38: =U38-W38 -> 0 | W38: =MAX(G38-BN38,0) -> 0 | X38: =COUNTIFS(V38,">0")+IF(BL38=BL37,X37,0) -> 0 | Y38: =IF(X38>=Priser!$N$6,Priser!$O$6,IF(X38>=Priser!$N$5,Priser!$O$5,IF(X38>=Priser!$N$4,Priser!$O$4,Priser!$O$3))) -> 0 | Z38: =Y38*SUMIFS(Priser!$L$3:$L$14,Priser!$A$3:$A$14,$BL38)*V38 -> 0 | AA38: =COUNTIFS(W38,">0")+IF(BL38=BL37,AA37,0) -> 0 | AB38: =IF(AA38>=Priser!$P$6,Priser!$Q$6,IF(AA38>=Priser!$P$5,Priser!$Q$5,IF(AA38>=Priser!$P$4,Priser!$Q$4,Priser!$Q$3))) -> 0 | AC38: =AB38*SUMIFS(Priser!$L$3:$L$14,Priser!$A$3:$A$14,$BL38)*W38 -> 0 | AG38: =IF(AND((K38-SUM(AH38:AM38)>0),(AN38-(K38-SUM(AH38:AM38))>0)),K38-SUM(AH38:AM38),IF((K38-SUM(AH38:AM38))>0,AN38,0)) -> 0 | AH38: =IF(AND((K38-SUM(AI38:AM38)>0),(AO38-(K38-SUM(AI38:AM38))>0)),K38-SUM(AI38:AM38),IF((K38-SUM(AI38:AM38))>0,AO38,0)) -> 0 | AI38: =IF(AND((K38-SUM(AJ38:AM38)>0),(AP38-(K38-SUM(AJ38:AM38))>0)),K38-SUM(AJ38:AM38),IF((K38-SUM(AJ38:AM38))>0,AP38,0)) -> 0 | AJ38: =IF(AND((K38-SUM(AK38:AM38)>0),(AQ38-(K38-SUM(AK38:AM38))>0)),K38-SUM(AK38:AM38),IF((K38-SUM(AK38:AM38))>0,AQ38,0)) -> 0 | AK38: =IF(AND((K38-SUM(AL38:AM38)>0),(AR38-(K38-SUM(AL38:AM38))>0)),K38-SUM(AL38:AM38),IF((K38-SUM(AL38:AM38))>0,AR38,0)) -> 0 | AL38: =IF(AND((K38-AM38)>0,(AS38-(K38-AM38))>0),(K38-AM38),IF((K38-AM38)>0,AS38,0)) -> 0 | AM38: =IF(AND(I38>0,(I38-K38)>0),K38,I38) -> 0 | AN38: =B$8 -> 0 | AO38: =IF(OR(BL38=10,BL38=11,BL38=12,BL38=1,BL38=2,BL38=3,BL38=4),B$9,$B$12) -> 0 | AP38: =IF(OR(BL38=11,BL38=12,BL38=1,BL38=2,BL38=3),B$10,) -> 0 | AQ38: =IF(OR(BL38=12,BL38=1,BL38=2),B$11,) -> 0 | AR38: =SUMIFS($B$13:$B$16,$C$13:$C$16,BM38) -> 0 | AS38: =SUMIFS($B$18:$B$29,$C$18:$C$29,BL38) -> 0 | AT38: =L38+I38 -> 0 | AX38: =MAX(AN38-AG38,0) -> 0 | AY38: =MAX(AO38-AH38,0) -> 0 | AZ38: =MAX(AP38-AI38,0) -> 0 | BA38: =MAX(AQ38-AJ38,0) -> 0 | BB38: =MAX(AR38-AK38,0) -> 0 | BC38: =MAX(AS38-AL38,0) -> 0 | BD38: =MAX(AT38-AM38,0) -> 0 | BE38: =SUM(AX38:BD38) -> 0 | BI38: =IF(Förbrukning!F37="",Förbrukning!E37,0)/IF(Förbrukning!$B$3=Listor!$B$5,F38,1) -> 0 | BJ38: =Förbrukning!F37/IF(Förbrukning!$B$3=Listor!$B$5,F38,1) -> 0 | BL38: =MONTH(D38) -> 11 | BM38: =ROUNDUP(BL38/3,0) -> 4 | BN38: =Indata!$B$6 -> 0
D39: =D38+1 -> 46330 | E39: =F39*G39 -> 0 | F39: =24+SUMIFS(Listor!$C$22:$C$23,Listor!$B$22:$B$23,Uttag!D39) -> 24 | G39: =SUM(BI39:BJ39) -> 0 | I39: =Förbrukning!H38 -> 0 | N39: =BE39 -> 0 | P39: =I39*SUMIFS(Priser!$L$3:$L$14,Priser!$A$3:$A$14,BL39) -> 0 | Q39: =Z39+AC39 -> 0 | U39: =MAX(G39-BE39,0) -> 0 | V39: =U39-W39 -> 0 | W39: =MAX(G39-BN39,0) -> 0 | X39: =COUNTIFS(V39,">0")+IF(BL39=BL38,X38,0) -> 0 | Y39: =IF(X39>=Priser!$N$6,Priser!$O$6,IF(X39>=Priser!$N$5,Priser!$O$5,IF(X39>=Priser!$N$4,Priser!$O$4,Priser!$O$3))) -> 0 | Z39: =Y39*SUMIFS(Priser!$L$3:$L$14,Priser!$A$3:$A$14,$BL39)*V39 -> 0 | AA39: =COUNTIFS(W39,">0")+IF(BL39=BL38,AA38,0) -> 0 | AB39: =IF(AA39>=Priser!$P$6,Priser!$Q$6,IF(AA39>=Priser!$P$5,Priser!$Q$5,IF(AA39>=Priser!$P$4,Priser!$Q$4,Priser!$Q$3))) -> 0 | AC39: =AB39*SUMIFS(Priser!$L$3:$L$14,Priser!$A$3:$A$14,$BL39)*W39 -> 0 | AG39: =IF(AND((K39-SUM(AH39:AM39)>0),(AN39-(K39-SUM(AH39:AM39))>0)),K39-SUM(AH39:AM39),IF((K39-SUM(AH39:AM39))>0,AN39,0)) -> 0 | AH39: =IF(AND((K39-SUM(AI39:AM39)>0),(AO39-(K39-SUM(AI39:AM39))>0)),K39-SUM(AI39:AM39),IF((K39-SUM(AI39:AM39))>0,AO39,0)) -> 0 | AI39: =IF(AND((K39-SUM(AJ39:AM39)>0),(AP39-(K39-SUM(AJ39:AM39))>0)),K39-SUM(AJ39:AM39),IF((K39-SUM(AJ39:AM39))>0,AP39,0)) -> 0 | AJ39: =IF(AND((K39-SUM(AK39:AM39)>0),(AQ39-(K39-SUM(AK39:AM39))>0)),K39-SUM(AK39:AM39),IF((K39-SUM(AK39:AM39))>0,AQ39,0)) -> 0 | AK39: =IF(AND((K39-SUM(AL39:AM39)>0),(AR39-(K39-SUM(AL39:AM39))>0)),K39-SUM(AL39:AM39),IF((K39-SUM(AL39:AM39))>0,AR39,0)) -> 0 | AL39: =IF(AND((K39-AM39)>0,(AS39-(K39-AM39))>0),(K39-AM39),IF((K39-AM39)>0,AS39,0)) -> 0 | AM39: =IF(AND(I39>0,(I39-K39)>0),K39,I39) -> 0 | AN39: =B$8 -> 0 | AO39: =IF(OR(BL39=10,BL39=11,BL39=12,BL39=1,BL39=2,BL39=3,BL39=4),B$9,$B$12) -> 0 | AP39: =IF(OR(BL39=11,BL39=12,BL39=1,BL39=2,BL39=3),B$10,) -> 0 | AQ39: =IF(OR(BL39=12,BL39=1,BL39=2),B$11,) -> 0 | AR39: =SUMIFS($B$13:$B$16,$C$13:$C$16,BM39) -> 0 | AS39: =SUMIFS($B$18:$B$29,$C$18:$C$29,BL39) -> 0 | AT39: =L39+I39 -> 0 | AX39: =MAX(AN39-AG39,0) -> 0 | AY39: =MAX(AO39-AH39,0) -> 0 | AZ39: =MAX(AP39-AI39,0) -> 0 | BA39: =MAX(AQ39-AJ39,0) -> 0 | BB39: =MAX(AR39-AK39,0) -> 0 | BC39: =MAX(AS39-AL39,0) -> 0 | BD39: =MAX(AT39-AM39,0) -> 0 | BE39: =SUM(AX39:BD39) -> 0 | BI39: =IF(Förbrukning!F38="",Förbrukning!E38,0)/IF(Förbrukning!$B$3=Listor!$B$5,F39,1) -> 0 | BJ39: =Förbrukning!F38/IF(Förbrukning!$B$3=Listor!$B$5,F39,1) -> 0 | BL39: =MONTH(D39) -> 11 | BM39: =ROUNDUP(BL39/3,0) -> 4 | BN39: =Indata!$B$6 -> 0
D40: =D39+1 -> 46331 | E40: =F40*G40 -> 0 | F40: =24+SUMIFS(Listor!$C$22:$C$23,Listor!$B$22:$B$23,Uttag!D40) -> 24 | G40: =SUM(BI40:BJ40) -> 0 | I40: =Förbrukning!H39 -> 0 | N40: =BE40 -> 0 | P40: =I40*SUMIFS(Priser!$L$3:$L$14,Priser!$A$3:$A$14,BL40) -> 0 | Q40: =Z40+AC40 -> 0 | U40: =MAX(G40-BE40,0) -> 0 | V40: =U40-W40 -> 0 | W40: =MAX(G40-BN40,0) -> 0 | X40: =COUNTIFS(V40,">0")+IF(BL40=BL39,X39,0) -> 0 | Y40: =IF(X40>=Priser!$N$6,Priser!$O$6,IF(X40>=Priser!$N$5,Priser!$O$5,IF(X40>=Priser!$N$4,Priser!$O$4,Priser!$O$3))) -> 0 | Z40: =Y40*SUMIFS(Priser!$L$3:$L$14,Priser!$A$3:$A$14,$BL40)*V40 -> 0 | AA40: =COUNTIFS(W40,">0")+IF(BL40=BL39,AA39,0) -> 0 | AB40: =IF(AA40>=Priser!$P$6,Priser!$Q$6,IF(AA40>=Priser!$P$5,Priser!$Q$5,IF(AA40>=Priser!$P$4,Priser!$Q$4,Priser!$Q$3))) -> 0 | AC40: =AB40*SUMIFS(Priser!$L$3:$L$14,Priser!$A$3:$A$14,$BL40)*W40 -> 0 | AG40: =IF(AND((K40-SUM(AH40:AM40)>0),(AN40-(K40-SUM(AH40:AM40))>0)),K40-SUM(AH40:AM40),IF((K40-SUM(AH40:AM40))>0,AN40,0)) -> 0 | AH40: =IF(AND((K40-SUM(AI40:AM40)>0),(AO40-(K40-SUM(AI40:AM40))>0)),K40-SUM(AI40:AM40),IF((K40-SUM(AI40:AM40))>0,AO40,0)) -> 0 | AI40: =IF(AND((K40-SUM(AJ40:AM40)>0),(AP40-(K40-SUM(AJ40:AM40))>0)),K40-SUM(AJ40:AM40),IF((K40-SUM(AJ40:AM40))>0,AP40,0)) -> 0 | AJ40: =IF(AND((K40-SUM(AK40:AM40)>0),(AQ40-(K40-SUM(AK40:AM40))>0)),K40-SUM(AK40:AM40),IF((K40-SUM(AK40:AM40))>0,AQ40,0)) -> 0 | AK40: =IF(AND((K40-SUM(AL40:AM40)>0),(AR40-(K40-SUM(AL40:AM40))>0)),K40-SUM(AL40:AM40),IF((K40-SUM(AL40:AM40))>0,AR40,0)) -> 0 | AL40: =IF(AND((K40-AM40)>0,(AS40-(K40-AM40))>0),(K40-AM40),IF((K40-AM40)>0,AS40,0)) -> 0 | AM40: =IF(AND(I40>0,(I40-K40)>0),K40,I40) -> 0 | AN40: =B$8 -> 0 | AO40: =IF(OR(BL40=10,BL40=11,BL40=12,BL40=1,BL40=2,BL40=3,BL40=4),B$9,$B$12) -> 0 | AP40: =IF(OR(BL40=11,BL40=12,BL40=1,BL40=2,BL40=3),B$10,) -> 0 | AQ40: =IF(OR(BL40=12,BL40=1,BL40=2),B$11,) -> 0 | AR40: =SUMIFS($B$13:$B$16,$C$13:$C$16,BM40) -> 0 | AS40: =SUMIFS($B$18:$B$29,$C$18:$C$29,BL40) -> 0 | AT40: =L40+I40 -> 0 | AX40: =MAX(AN40-AG40,0) -> 0 | AY40: =MAX(AO40-AH40,0) -> 0 | AZ40: =MAX(AP40-AI40,0) -> 0 | BA40: =MAX(AQ40-AJ40,0) -> 0 | BB40: =MAX(AR40-AK40,0) -> 0 | BC40: =MAX(AS40-AL40,0) -> 0 | BD40: =MAX(AT40-AM40,0) -> 0 | BE40: =SUM(AX40:BD40) -> 0 | BI40: =IF(Förbrukning!F39="",Förbrukning!E39,0)/IF(Förbrukning!$B$3=Listor!$B$5,F40,1) -> 0 | BJ40: =Förbrukning!F39/IF(Förbrukning!$B$3=Listor!$B$5,F40,1) -> 0 | BL40: =MONTH(D40) -> 11 | BM40: =ROUNDUP(BL40/3,0) -> 4 | BN40: =Indata!$B$6 -> 0
D41: =D40+1 -> 46332 | E41: =F41*G41 -> 0 | F41: =24+SUMIFS(Listor!$C$22:$C$23,Listor!$B$22:$B$23,Uttag!D41) -> 24 | G41: =SUM(BI41:BJ41) -> 0 | I41: =Förbrukning!H40 -> 0 | N41: =BE41 -> 0 | P41: =I41*SUMIFS(Priser!$L$3:$L$14,Priser!$A$3:$A$14,BL41) -> 0 | Q41: =Z41+AC41 -> 0 | U41: =MAX(G41-BE41,0) -> 0 | V41: =U41-W41 -> 0 | W41: =MAX(G41-BN41,0) -> 0 | X41: =COUNTIFS(V41,">0")+IF(BL41=BL40,X40,0) -> 0 | Y41: =IF(X41>=Priser!$N$6,Priser!$O$6,IF(X41>=Priser!$N$5,Priser!$O$5,IF(X41>=Priser!$N$4,Priser!$O$4,Priser!$O$3))) -> 0 | Z41: =Y41*SUMIFS(Priser!$L$3:$L$14,Priser!$A$3:$A$14,$BL41)*V41 -> 0 | AA41: =COUNTIFS(W41,">0")+IF(BL41=BL40,AA40,0) -> 0 | AB41: =IF(AA41>=Priser!$P$6,Priser!$Q$6,IF(AA41>=Priser!$P$5,Priser!$Q$5,IF(AA41>=Priser!$P$4,Priser!$Q$4,Priser!$Q$3))) -> 0 | AC41: =AB41*SUMIFS(Priser!$L$3:$L$14,Priser!$A$3:$A$14,$BL41)*W41 -> 0 | AG41: =IF(AND((K41-SUM(AH41:AM41)>0),(AN41-(K41-SUM(AH41:AM41))>0)),K41-SUM(AH41:AM41),IF((K41-SUM(AH41:AM41))>0,AN41,0)) -> 0 | AH41: =IF(AND((K41-SUM(AI41:AM41)>0),(AO41-(K41-SUM(AI41:AM41))>0)),K41-SUM(AI41:AM41),IF((K41-SUM(AI41:AM41))>0,AO41,0)) -> 0 | AI41: =IF(AND((K41-SUM(AJ41:AM41)>0),(AP41-(K41-SUM(AJ41:AM41))>0)),K41-SUM(AJ41:AM41),IF((K41-SUM(AJ41:AM41))>0,AP41,0)) -> 0 | AJ41: =IF(AND((K41-SUM(AK41:AM41)>0),(AQ41-(K41-SUM(AK41:AM41))>0)),K41-SUM(AK41:AM41),IF((K41-SUM(AK41:AM41))>0,AQ41,0)) -> 0 | AK41: =IF(AND((K41-SUM(AL41:AM41)>0),(AR41-(K41-SUM(AL41:AM41))>0)),K41-SUM(AL41:AM41),IF((K41-SUM(AL41:AM41))>0,AR41,0)) -> 0 | AL41: =IF(AND((K41-AM41)>0,(AS41-(K41-AM41))>0),(K41-AM41),IF((K41-AM41)>0,AS41,0)) -> 0 | AM41: =IF(AND(I41>0,(I41-K41)>0),K41,I41) -> 0 | AN41: =B$8 -> 0 | AO41: =IF(OR(BL41=10,BL41=11,BL41=12,BL41=1,BL41=2,BL41=3,BL41=4),B$9,$B$12) -> 0 | AP41: =IF(OR(BL41=11,BL41=12,BL41=1,BL41=2,BL41=3),B$10,) -> 0 | AQ41: =IF(OR(BL41=12,BL41=1,BL41=2),B$11,) -> 0 | AR41: =SUMIFS($B$13:$B$16,$C$13:$C$16,BM41) -> 0 | AS41: =SUMIFS($B$18:$B$29,$C$18:$C$29,BL41) -> 0 | AT41: =L41+I41 -> 0 | AX41: =MAX(AN41-AG41,0) -> 0 | AY41: =MAX(AO41-AH41,0) -> 0 | AZ41: =MAX(AP41-AI41,0) -> 0 | BA41: =MAX(AQ41-AJ41,0) -> 0 | BB41: =MAX(AR41-AK41,0) -> 0 | BC41: =MAX(AS41-AL41,0) -> 0 | BD41: =MAX(AT41-AM41,0) -> 0 | BE41: =SUM(AX41:BD41) -> 0 | BI41: =IF(Förbrukning!F40="",Förbrukning!E40,0)/IF(Förbrukning!$B$3=Listor!$B$5,F41,1) -> 0 | BJ41: =Förbrukning!F40/IF(Förbrukning!$B$3=Listor!$B$5,F41,1) -> 0 | BL41: =MONTH(D41) -> 11 | BM41: =ROUNDUP(BL41/3,0) -> 4 | BN41: =Indata!$B$6 -> 0
... D216: =D215+1 -> 46507 | E216: =F216*G216 -> 0 | F216: =24+SUMIFS(Listor!$C$22:$C$23,Listor!$B$22:$B$23,Uttag!D216) -> 24 | G216: =SUM(BI216:BJ216) -> 0 | I216: =Förbrukning!H215 -> 0 | N216: =BE216 -> 0 | P216: =I216*SUMIFS(Priser!$L$3:$L$14,Priser!$A$3:$A$14,BL216) -> 0 | Q216: =Z216+AC216 -> 0 | U216: =MAX(G216-BE216,0) -> 0 | V216: =U216-W216 -> 0 | W216: =MAX(G216-BN216,0) -> 0 | X216: =COUNTIFS(V216,">0")+IF(BL216=BL215,X215,0) -> 0 | Y216: =IF(X216>=Priser!$N$6,Priser!$O$6,IF(X216>=Priser!$N$5,Priser!$O$5,IF(X216>=Priser!$N$4,Priser!$O$4,Priser!$O$3))) -> 0 | Z216: =Y216*SUMIFS(Priser!$L$3:$L$14,Priser!$A$3:$A$14,$BL216)*V216 -> 0 | AA216: =COUNTIFS(W216,">0")+IF(BL216=BL215,AA215,0) -> 0 | AB216: =IF(AA216>=Priser!$P$6,Priser!$Q$6,IF(AA216>=Priser!$P$5,Priser!$Q$5,IF(AA216>=Priser!$P$4,Priser!$Q$4,Priser!$Q$3))) -> 0 | AC216: =AB216*SUMIFS(Priser!$L$3:$L$14,Priser!$A$3:$A$14,$BL216)*W216 -> 0 | AG216: =IF(AND((K216-SUM(AH216:AM216)>0),(AN216-(K216-SUM(AH216:AM216))>0)),K216-SUM(AH216:AM216),IF((K216-SUM(AH216:AM216))>0,AN216,0)) -> 0 | AH216: =IF(AND((K216-SUM(AI216:AM216)>0),(AO216-(K216-SUM(AI216:AM216))>0)),K216-SUM(AI216:AM216),IF((K216-SUM(AI216:AM216))>0,AO216,0)) -> 0 | AI216: =IF(AND((K216-SUM(AJ216:AM216)>0),(AP216-(K216-SUM(AJ216:AM216))>0)),K216-SUM(AJ216:AM216),IF((K216-SUM(AJ216:AM216))>0,AP216,0)) -> 0 | AJ216: =IF(AND((K216-SUM(AK216:AM216)>0),(AQ216-(K216-SUM(AK216:AM216))>0)),K216-SUM(AK216:AM216),IF((K216-SUM(AK216:AM216))>0,AQ216,0)) -> 0 | AK216: =IF(AND((K216-SUM(AL216:AM216)>0),(AR216-(K216-SUM(AL216:AM216))>0)),K216-SUM(AL216:AM216),IF((K216-SUM(AL216:AM216))>0,AR216,0)) -> 0 | AL216: =IF(AND((K216-AM216)>0,(AS216-(K216-AM216))>0),(K216-AM216),IF((K216-AM216)>0,AS216,0)) -> 0 | AM216: =IF(AND(I216>0,(I216-K216)>0),K216,I216) -> 0 | AN216: =B$8 -> 0 | AO216: =IF(OR(BL216=10,BL216=11,BL216=12,BL216=1,BL216=2,BL216=3,BL216=4),B$9,$B$12) -> 0 | AP216: =IF(OR(BL216=11,BL216=12,BL216=1,BL216=2,BL216=3),B$10,) -> 0 | AQ216: =IF(OR(BL216=12,BL216=1,BL216=2),B$11,) -> 0 | AR216: =SUMIFS($B$13:$B$16,$C$13:$C$16,BM216) -> 0 | AS216: =SUMIFS($B$18:$B$29,$C$18:$C$29,BL216) -> 0 | AT216: =L216+I216 -> 0 | AX216: =MAX(AN216-AG216,0) -> 0 | AY216: =MAX(AO216-AH216,0) -> 0 | AZ216: =MAX(AP216-AI216,0) -> 0 | BA216: =MAX(AQ216-AJ216,0) -> 0 | BB216: =MAX(AR216-AK216,0) -> 0 | BC216: =MAX(AS216-AL216,0) -> 0 | BD216: =MAX(AT216-AM216,0) -> 0 | BE216: =SUM(AX216:BD216) -> 0 | BI216: =IF(Förbrukning!F215="",Förbrukning!E215,0)/IF(Förbrukning!$B$3=Listor!$B$5,F216,1) -> 0 | BJ216: =Förbrukning!F215/IF(Förbrukning!$B$3=Listor!$B$5,F216,1) -> 0 | BL216: =MONTH(D216) -> 4 | BM216: =ROUNDUP(BL216/3,0) -> 2 | BN216: =Indata!$B$6 -> 0
D217: =D216+1 -> 46508 | E217: =F217*G217 -> 0 | F217: =24+SUMIFS(Listor!$C$22:$C$23,Listor!$B$22:$B$23,Uttag!D217) -> 24 | G217: =SUM(BI217:BJ217) -> 0 | I217: =Förbrukning!H216 -> 0 | N217: =BE217 -> 0 | P217: =I217*SUMIFS(Priser!$L$3:$L$14,Priser!$A$3:$A$14,BL217) -> 0 | Q217: =Z217+AC217 -> 0 | U217: =MAX(G217-BE217,0) -> 0 | V217: =U217-W217 -> 0 | W217: =MAX(G217-BN217,0) -> 0 | X217: =COUNTIFS(V217,">0")+IF(BL217=BL216,X216,0) -> 0 | Y217: =IF(X217>=Priser!$N$6,Priser!$O$6,IF(X217>=Priser!$N$5,Priser!$O$5,IF(X217>=Priser!$N$4,Priser!$O$4,Priser!$O$3))) -> 0 | Z217: =Y217*SUMIFS(Priser!$L$3:$L$14,Priser!$A$3:$A$14,$BL217)*V217 -> 0 | AA217: =COUNTIFS(W217,">0")+IF(BL217=BL216,AA216,0) -> 0 | AB217: =IF(AA217>=Priser!$P$6,Priser!$Q$6,IF(AA217>=Priser!$P$5,Priser!$Q$5,IF(AA217>=Priser!$P$4,Priser!$Q$4,Priser!$Q$3))) -> 0 | AC217: =AB217*SUMIFS(Priser!$L$3:$L$14,Priser!$A$3:$A$14,$BL217)*W217 -> 0 | AG217: =IF(AND((K217-SUM(AH217:AM217)>0),(AN217-(K217-SUM(AH217:AM217))>0)),K217-SUM(AH217:AM217),IF((K217-SUM(AH217:AM217))>0,AN217,0)) -> 0 | AH217: =IF(AND((K217-SUM(AI217:AM217)>0),(AO217-(K217-SUM(AI217:AM217))>0)),K217-SUM(AI217:AM217),IF((K217-SUM(AI217:AM217))>0,AO217,0)) -> 0 | AI217: =IF(AND((K217-SUM(AJ217:AM217)>0),(AP217-(K217-SUM(AJ217:AM217))>0)),K217-SUM(AJ217:AM217),IF((K217-SUM(AJ217:AM217))>0,AP217,0)) -> 0 | AJ217: =IF(AND((K217-SUM(AK217:AM217)>0),(AQ217-(K217-SUM(AK217:AM217))>0)),K217-SUM(AK217:AM217),IF((K217-SUM(AK217:AM217))>0,AQ217,0)) -> 0 | AK217: =IF(AND((K217-SUM(AL217:AM217)>0),(AR217-(K217-SUM(AL217:AM217))>0)),K217-SUM(AL217:AM217),IF((K217-SUM(AL217:AM217))>0,AR217,0)) -> 0 | AL217: =IF(AND((K217-AM217)>0,(AS217-(K217-AM217))>0),(K217-AM217),IF((K217-AM217)>0,AS217,0)) -> 0 | AM217: =IF(AND(I217>0,(I217-K217)>0),K217,I217) -> 0 | AN217: =B$8 -> 0 | AO217: =IF(OR(BL217=10,BL217=11,BL217=12,BL217=1,BL217=2,BL217=3,BL217=4),B$9,$B$12) -> 0 | AP217: =IF(OR(BL217=11,BL217=12,BL217=1,BL217=2,BL217=3),B$10,) -> 0 | AQ217: =IF(OR(BL217=12,BL217=1,BL217=2),B$11,) -> 0 | AR217: =SUMIFS($B$13:$B$16,$C$13:$C$16,BM217) -> 0 | AS217: =SUMIFS($B$18:$B$29,$C$18:$C$29,BL217) -> 0 | AT217: =L217+I217 -> 0 | AX217: =MAX(AN217-AG217,0) -> 0 | AY217: =MAX(AO217-AH217,0) -> 0 | AZ217: =MAX(AP217-AI217,0) -> 0 | BA217: =MAX(AQ217-AJ217,0) -> 0 | BB217: =MAX(AR217-AK217,0) -> 0 | BC217: =MAX(AS217-AL217,0) -> 0 | BD217: =MAX(AT217-AM217,0) -> 0 | BE217: =SUM(AX217:BD217) -> 0 | BI217: =IF(Förbrukning!F216="",Förbrukning!E216,0)/IF(Förbrukning!$B$3=Listor!$B$5,F217,1) -> 0 | BJ217: =Förbrukning!F216/IF(Förbrukning!$B$3=Listor!$B$5,F217,1) -> 0 | BL217: =MONTH(D217) -> 5 | BM217: =ROUNDUP(BL217/3,0) -> 2 | BN217: =Indata!$B$7 -> 0
D218: =D217+1 -> 46509 | E218: =F218*G218 -> 0 | F218: =24+SUMIFS(Listor!$C$22:$C$23,Listor!$B$22:$B$23,Uttag!D218) -> 24 | G218: =SUM(BI218:BJ218) -> 0 | I218: =Förbrukning!H217 -> 0 | N218: =BE218 -> 0 | P218: =I218*SUMIFS(Priser!$L$3:$L$14,Priser!$A$3:$A$14,BL218) -> 0 | Q218: =Z218+AC218 -> 0 | U218: =MAX(G218-BE218,0) -> 0 | V218: =U218-W218 -> 0 | W218: =MAX(G218-BN218,0) -> 0 | X218: =COUNTIFS(V218,">0")+IF(BL218=BL217,X217,0) -> 0 | Y218: =IF(X218>=Priser!$N$6,Priser!$O$6,IF(X218>=Priser!$N$5,Priser!$O$5,IF(X218>=Priser!$N$4,Priser!$O$4,Priser!$O$3))) -> 0 | Z218: =Y218*SUMIFS(Priser!$L$3:$L$14,Priser!$A$3:$A$14,$BL218)*V218 -> 0 | AA218: =COUNTIFS(W218,">0")+IF(BL218=BL217,AA217,0) -> 0 | AB218: =IF(AA218>=Priser!$P$6,Priser!$Q$6,IF(AA218>=Priser!$P$5,Priser!$Q$5,IF(AA218>=Priser!$P$4,Priser!$Q$4,Priser!$Q$3))) -> 0 | AC218: =AB218*SUMIFS(Priser!$L$3:$L$14,Priser!$A$3:$A$14,$BL218)*W218 -> 0 | AG218: =IF(AND((K218-SUM(AH218:AM218)>0),(AN218-(K218-SUM(AH218:AM218))>0)),K218-SUM(AH218:AM218),IF((K218-SUM(AH218:AM218))>0,AN218,0)) -> 0 | AH218: =IF(AND((K218-SUM(AI218:AM218)>0),(AO218-(K218-SUM(AI218:AM218))>0)),K218-SUM(AI218:AM218),IF((K218-SUM(AI218:AM218))>0,AO218,0)) -> 0 | AI218: =IF(AND((K218-SUM(AJ218:AM218)>0),(AP218-(K218-SUM(AJ218:AM218))>0)),K218-SUM(AJ218:AM218),IF((K218-SUM(AJ218:AM218))>0,AP218,0)) -> 0 | AJ218: =IF(AND((K218-SUM(AK218:AM218)>0),(AQ218-(K218-SUM(AK218:AM218))>0)),K218-SUM(AK218:AM218),IF((K218-SUM(AK218:AM218))>0,AQ218,0)) -> 0 | AK218: =IF(AND((K218-SUM(AL218:AM218)>0),(AR218-(K218-SUM(AL218:AM218))>0)),K218-SUM(AL218:AM218),IF((K218-SUM(AL218:AM218))>0,AR218,0)) -> 0 | AL218: =IF(AND((K218-AM218)>0,(AS218-(K218-AM218))>0),(K218-AM218),IF((K218-AM218)>0,AS218,0)) -> 0 | AM218: =IF(AND(I218>0,(I218-K218)>0),K218,I218) -> 0 | AN218: =B$8 -> 0 | AO218: =IF(OR(BL218=10,BL218=11,BL218=12,BL218=1,BL218=2,BL218=3,BL218=4),B$9,$B$12) -> 0 | AP218: =IF(OR(BL218=11,BL218=12,BL218=1,BL218=2,BL218=3),B$10,) -> 0 | AQ218: =IF(OR(BL218=12,BL218=1,BL218=2),B$11,) -> 0 | AR218: =SUMIFS($B$13:$B$16,$C$13:$C$16,BM218) -> 0 | AS218: =SUMIFS($B$18:$B$29,$C$18:$C$29,BL218) -> 0 | AT218: =L218+I218 -> 0 | AX218: =MAX(AN218-AG218,0) -> 0 | AY218: =MAX(AO218-AH218,0) -> 0 | AZ218: =MAX(AP218-AI218,0) -> 0 | BA218: =MAX(AQ218-AJ218,0) -> 0 | BB218: =MAX(AR218-AK218,0) -> 0 | BC218: =MAX(AS218-AL218,0) -> 0 | BD218: =MAX(AT218-AM218,0) -> 0 | BE218: =SUM(AX218:BD218) -> 0 | BI218: =IF(Förbrukning!F217="",Förbrukning!E217,0)/IF(Förbrukning!$B$3=Listor!$B$5,F218,1) -> 0 | BJ218: =Förbrukning!F217/IF(Förbrukning!$B$3=Listor!$B$5,F218,1) -> 0 | BL218: =MONTH(D218) -> 5 | BM218: =ROUNDUP(BL218/3,0) -> 2 | BN218: =Indata!$B$7 -> 0
D219: =D218+1 -> 46510 | E219: =F219*G219 -> 0 | F219: =24+SUMIFS(Listor!$C$22:$C$23,Listor!$B$22:$B$23,Uttag!D219) -> 24 | G219: =SUM(BI219:BJ219) -> 0 | I219: =Förbrukning!H218 -> 0 | N219: =BE219 -> 0 | P219: =I219*SUMIFS(Priser!$L$3:$L$14,Priser!$A$3:$A$14,BL219) -> 0 | Q219: =Z219+AC219 -> 0 | U219: =MAX(G219-BE219,0) -> 0 | V219: =U219-W219 -> 0 | W219: =MAX(G219-BN219,0) -> 0 | X219: =COUNTIFS(V219,">0")+IF(BL219=BL218,X218,0) -> 0 | Y219: =IF(X219>=Priser!$N$6,Priser!$O$6,IF(X219>=Priser!$N$5,Priser!$O$5,IF(X219>=Priser!$N$4,Priser!$O$4,Priser!$O$3))) -> 0 | Z219: =Y219*SUMIFS(Priser!$L$3:$L$14,Priser!$A$3:$A$14,$BL219)*V219 -> 0 | AA219: =COUNTIFS(W219,">0")+IF(BL219=BL218,AA218,0) -> 0 | AB219: =IF(AA219>=Priser!$P$6,Priser!$Q$6,IF(AA219>=Priser!$P$5,Priser!$Q$5,IF(AA219>=Priser!$P$4,Priser!$Q$4,Priser!$Q$3))) -> 0 | AC219: =AB219*SUMIFS(Priser!$L$3:$L$14,Priser!$A$3:$A$14,$BL219)*W219 -> 0 | AG219: =IF(AND((K219-SUM(AH219:AM219)>0),(AN219-(K219-SUM(AH219:AM219))>0)),K219-SUM(AH219:AM219),IF((K219-SUM(AH219:AM219))>0,AN219,0)) -> 0 | AH219: =IF(AND((K219-SUM(AI219:AM219)>0),(AO219-(K219-SUM(AI219:AM219))>0)),K219-SUM(AI219:AM219),IF((K219-SUM(AI219:AM219))>0,AO219,0)) -> 0 | AI219: =IF(AND((K219-SUM(AJ219:AM219)>0),(AP219-(K219-SUM(AJ219:AM219))>0)),K219-SUM(AJ219:AM219),IF((K219-SUM(AJ219:AM219))>0,AP219,0)) -> 0 | AJ219: =IF(AND((K219-SUM(AK219:AM219)>0),(AQ219-(K219-SUM(AK219:AM219))>0)),K219-SUM(AK219:AM219),IF((K219-SUM(AK219:AM219))>0,AQ219,0)) -> 0 | AK219: =IF(AND((K219-SUM(AL219:AM219)>0),(AR219-(K219-SUM(AL219:AM219))>0)),K219-SUM(AL219:AM219),IF((K219-SUM(AL219:AM219))>0,AR219,0)) -> 0 | AL219: =IF(AND((K219-AM219)>0,(AS219-(K219-AM219))>0),(K219-AM219),IF((K219-AM219)>0,AS219,0)) -> 0 | AM219: =IF(AND(I219>0,(I219-K219)>0),K219,I219) -> 0 | AN219: =B$8 -> 0 | AO219: =IF(OR(BL219=10,BL219=11,BL219=12,BL219=1,BL219=2,BL219=3,BL219=4),B$9,$B$12) -> 0 | AP219: =IF(OR(BL219=11,BL219=12,BL219=1,BL219=2,BL219=3),B$10,) -> 0 | AQ219: =IF(OR(BL219=12,BL219=1,BL219=2),B$11,) -> 0 | AR219: =SUMIFS($B$13:$B$16,$C$13:$C$16,BM219) -> 0 | AS219: =SUMIFS($B$18:$B$29,$C$18:$C$29,BL219) -> 0 | AT219: =L219+I219 -> 0 | AX219: =MAX(AN219-AG219,0) -> 0 | AY219: =MAX(AO219-AH219,0) -> 0 | AZ219: =MAX(AP219-AI219,0) -> 0 | BA219: =MAX(AQ219-AJ219,0) -> 0 | BB219: =MAX(AR219-AK219,0) -> 0 | BC219: =MAX(AS219-AL219,0) -> 0 | BD219: =MAX(AT219-AM219,0) -> 0 | BE219: =SUM(AX219:BD219) -> 0 | BI219: =IF(Förbrukning!F218="",Förbrukning!E218,0)/IF(Förbrukning!$B$3=Listor!$B$5,F219,1) -> 0 | BJ219: =Förbrukning!F218/IF(Förbrukning!$B$3=Listor!$B$5,F219,1) -> 0 | BL219: =MONTH(D219) -> 5 | BM219: =ROUNDUP(BL219/3,0) -> 2 | BN219: =Indata!$B$7 -> 0
D220: =D219+1 -> 46511 | E220: =F220*G220 -> 0 | F220: =24+SUMIFS(Listor!$C$22:$C$23,Listor!$B$22:$B$23,Uttag!D220) -> 24 | G220: =SUM(BI220:BJ220) -> 0 | I220: =Förbrukning!H219 -> 0 | N220: =BE220 -> 0 | P220: =I220*SUMIFS(Priser!$L$3:$L$14,Priser!$A$3:$A$14,BL220) -> 0 | Q220: =Z220+AC220 -> 0 | U220: =MAX(G220-BE220,0) -> 0 | V220: =U220-W220 -> 0 | W220: =MAX(G220-BN220,0) -> 0 | X220: =COUNTIFS(V220,">0")+IF(BL220=BL219,X219,0) -> 0 | Y220: =IF(X220>=Priser!$N$6,Priser!$O$6,IF(X220>=Priser!$N$5,Priser!$O$5,IF(X220>=Priser!$N$4,Priser!$O$4,Priser!$O$3))) -> 0 | Z220: =Y220*SUMIFS(Priser!$L$3:$L$14,Priser!$A$3:$A$14,$BL220)*V220 -> 0 | AA220: =COUNTIFS(W220,">0")+IF(BL220=BL219,AA219,0) -> 0 | AB220: =IF(AA220>=Priser!$P$6,Priser!$Q$6,IF(AA220>=Priser!$P$5,Priser!$Q$5,IF(AA220>=Priser!$P$4,Priser!$Q$4,Priser!$Q$3))) -> 0 | AC220: =AB220*SUMIFS(Priser!$L$3:$L$14,Priser!$A$3:$A$14,$BL220)*W220 -> 0 | AG220: =IF(AND((K220-SUM(AH220:AM220)>0),(AN220-(K220-SUM(AH220:AM220))>0)),K220-SUM(AH220:AM220),IF((K220-SUM(AH220:AM220))>0,AN220,0)) -> 0 | AH220: =IF(AND((K220-SUM(AI220:AM220)>0),(AO220-(K220-SUM(AI220:AM220))>0)),K220-SUM(AI220:AM220),IF((K220-SUM(AI220:AM220))>0,AO220,0)) -> 0 | AI220: =IF(AND((K220-SUM(AJ220:AM220)>0),(AP220-(K220-SUM(AJ220:AM220))>0)),K220-SUM(AJ220:AM220),IF((K220-SUM(AJ220:AM220))>0,AP220,0)) -> 0 | AJ220: =IF(AND((K220-SUM(AK220:AM220)>0),(AQ220-(K220-SUM(AK220:AM220))>0)),K220-SUM(AK220:AM220),IF((K220-SUM(AK220:AM220))>0,AQ220,0)) -> 0 | AK220: =IF(AND((K220-SUM(AL220:AM220)>0),(AR220-(K220-SUM(AL220:AM220))>0)),K220-SUM(AL220:AM220),IF((K220-SUM(AL220:AM220))>0,AR220,0)) -> 0 | AL220: =IF(AND((K220-AM220)>0,(AS220-(K220-AM220))>0),(K220-AM220),IF((K220-AM220)>0,AS220,0)) -> 0 | AM220: =IF(AND(I220>0,(I220-K220)>0),K220,I220) -> 0 | AN220: =B$8 -> 0 | AO220: =IF(OR(BL220=10,BL220=11,BL220=12,BL220=1,BL220=2,BL220=3,BL220=4),B$9,$B$12) -> 0 | AP220: =IF(OR(BL220=11,BL220=12,BL220=1,BL220=2,BL220=3),B$10,) -> 0 | AQ220: =IF(OR(BL220=12,BL220=1,BL220=2),B$11,) -> 0 | AR220: =SUMIFS($B$13:$B$16,$C$13:$C$16,BM220) -> 0 | AS220: =SUMIFS($B$18:$B$29,$C$18:$C$29,BL220) -> 0 | AT220: =L220+I220 -> 0 | AX220: =MAX(AN220-AG220,0) -> 0 | AY220: =MAX(AO220-AH220,0) -> 0 | AZ220: =MAX(AP220-AI220,0) -> 0 | BA220: =MAX(AQ220-AJ220,0) -> 0 | BB220: =MAX(AR220-AK220,0) -> 0 | BC220: =MAX(AS220-AL220,0) -> 0 | BD220: =MAX(AT220-AM220,0) -> 0 | BE220: =SUM(AX220:BD220) -> 0 | BI220: =IF(Förbrukning!F219="",Förbrukning!E219,0)/IF(Förbrukning!$B$3=Listor!$B$5,F220,1) -> 0 | BJ220: =Förbrukning!F219/IF(Förbrukning!$B$3=Listor!$B$5,F220,1) -> 0 | BL220: =MONTH(D220) -> 5 | BM220: =ROUNDUP(BL220/3,0) -> 2 | BN220: =Indata!$B$7 -> 0
D221: =D220+1 -> 46512 | E221: =F221*G221 -> 0 | F221: =24+SUMIFS(Listor!$C$22:$C$23,Listor!$B$22:$B$23,Uttag!D221) -> 24 | G221: =SUM(BI221:BJ221) -> 0 | I221: =Förbrukning!H220 -> 0 | N221: =BE221 -> 0 | P221: =I221*SUMIFS(Priser!$L$3:$L$14,Priser!$A$3:$A$14,BL221) -> 0 | Q221: =Z221+AC221 -> 0 | U221: =MAX(G221-BE221,0) -> 0 | V221: =U221-W221 -> 0 | W221: =MAX(G221-BN221,0) -> 0 | X221: =COUNTIFS(V221,">0")+IF(BL221=BL220,X220,0) -> 0 | Y221: =IF(X221>=Priser!$N$6,Priser!$O$6,IF(X221>=Priser!$N$5,Priser!$O$5,IF(X221>=Priser!$N$4,Priser!$O$4,Priser!$O$3))) -> 0 | Z221: =Y221*SUMIFS(Priser!$L$3:$L$14,Priser!$A$3:$A$14,$BL221)*V221 -> 0 | AA221: =COUNTIFS(W221,">0")+IF(BL221=BL220,AA220,0) -> 0 | AB221: =IF(AA221>=Priser!$P$6,Priser!$Q$6,IF(AA221>=Priser!$P$5,Priser!$Q$5,IF(AA221>=Priser!$P$4,Priser!$Q$4,Priser!$Q$3))) -> 0 | AC221: =AB221*SUMIFS(Priser!$L$3:$L$14,Priser!$A$3:$A$14,$BL221)*W221 -> 0 | AG221: =IF(AND((K221-SUM(AH221:AM221)>0),(AN221-(K221-SUM(AH221:AM221))>0)),K221-SUM(AH221:AM221),IF((K221-SUM(AH221:AM221))>0,AN221,0)) -> 0 | AH221: =IF(AND((K221-SUM(AI221:AM221)>0),(AO221-(K221-SUM(AI221:AM221))>0)),K221-SUM(AI221:AM221),IF((K221-SUM(AI221:AM221))>0,AO221,0)) -> 0 | AI221: =IF(AND((K221-SUM(AJ221:AM221)>0),(AP221-(K221-SUM(AJ221:AM221))>0)),K221-SUM(AJ221:AM221),IF((K221-SUM(AJ221:AM221))>0,AP221,0)) -> 0 | AJ221: =IF(AND((K221-SUM(AK221:AM221)>0),(AQ221-(K221-SUM(AK221:AM221))>0)),K221-SUM(AK221:AM221),IF((K221-SUM(AK221:AM221))>0,AQ221,0)) -> 0 | AK221: =IF(AND((K221-SUM(AL221:AM221)>0),(AR221-(K221-SUM(AL221:AM221))>0)),K221-SUM(AL221:AM221),IF((K221-SUM(AL221:AM221))>0,AR221,0)) -> 0 | AL221: =IF(AND((K221-AM221)>0,(AS221-(K221-AM221))>0),(K221-AM221),IF((K221-AM221)>0,AS221,0)) -> 0 | AM221: =IF(AND(I221>0,(I221-K221)>0),K221,I221) -> 0 | AN221: =B$8 -> 0 | AO221: =IF(OR(BL221=10,BL221=11,BL221=12,BL221=1,BL221=2,BL221=3,BL221=4),B$9,$B$12) -> 0 | AP221: =IF(OR(BL221=11,BL221=12,BL221=1,BL221=2,BL221=3),B$10,) -> 0 | AQ221: =IF(OR(BL221=12,BL221=1,BL221=2),B$11,) -> 0 | AR221: =SUMIFS($B$13:$B$16,$C$13:$C$16,BM221) -> 0 | AS221: =SUMIFS($B$18:$B$29,$C$18:$C$29,BL221) -> 0 | AT221: =L221+I221 -> 0 | AX221: =MAX(AN221-AG221,0) -> 0 | AY221: =MAX(AO221-AH221,0) -> 0 | AZ221: =MAX(AP221-AI221,0) -> 0 | BA221: =MAX(AQ221-AJ221,0) -> 0 | BB221: =MAX(AR221-AK221,0) -> 0 | BC221: =MAX(AS221-AL221,0) -> 0 | BD221: =MAX(AT221-AM221,0) -> 0 | BE221: =SUM(AX221:BD221) -> 0 | BI221: =IF(Förbrukning!F220="",Förbrukning!E220,0)/IF(Förbrukning!$B$3=Listor!$B$5,F221,1) -> 0 | BJ221: =Förbrukning!F220/IF(Förbrukning!$B$3=Listor!$B$5,F221,1) -> 0 | BL221: =MONTH(D221) -> 5 | BM221: =ROUNDUP(BL221/3,0) -> 2 | BN221: =Indata!$B$7 -> 0
D222: =D221+1 -> 46513 | E222: =F222*G222 -> 0 | F222: =24+SUMIFS(Listor!$C$22:$C$23,Listor!$B$22:$B$23,Uttag!D222) -> 24 | G222: =SUM(BI222:BJ222) -> 0 | I222: =Förbrukning!H221 -> 0 | N222: =BE222 -> 0 | P222: =I222*SUMIFS(Priser!$L$3:$L$14,Priser!$A$3:$A$14,BL222) -> 0 | Q222: =Z222+AC222 -> 0 | U222: =MAX(G222-BE222,0) -> 0 | V222: =U222-W222 -> 0 | W222: =MAX(G222-BN222,0) -> 0 | X222: =COUNTIFS(V222,">0")+IF(BL222=BL221,X221,0) -> 0 | Y222: =IF(X222>=Priser!$N$6,Priser!$O$6,IF(X222>=Priser!$N$5,Priser!$O$5,IF(X222>=Priser!$N$4,Priser!$O$4,Priser!$O$3))) -> 0 | Z222: =Y222*SUMIFS(Priser!$L$3:$L$14,Priser!$A$3:$A$14,$BL222)*V222 -> 0 | AA222: =COUNTIFS(W222,">0")+IF(BL222=BL221,AA221,0) -> 0 | AB222: =IF(AA222>=Priser!$P$6,Priser!$Q$6,IF(AA222>=Priser!$P$5,Priser!$Q$5,IF(AA222>=Priser!$P$4,Priser!$Q$4,Priser!$Q$3))) -> 0 | AC222: =AB222*SUMIFS(Priser!$L$3:$L$14,Priser!$A$3:$A$14,$BL222)*W222 -> 0 | AG222: =IF(AND((K222-SUM(AH222:AM222)>0),(AN222-(K222-SUM(AH222:AM222))>0)),K222-SUM(AH222:AM222),IF((K222-SUM(AH222:AM222))>0,AN222,0)) -> 0 | AH222: =IF(AND((K222-SUM(AI222:AM222)>0),(AO222-(K222-SUM(AI222:AM222))>0)),K222-SUM(AI222:AM222),IF((K222-SUM(AI222:AM222))>0,AO222,0)) -> 0 | AI222: =IF(AND((K222-SUM(AJ222:AM222)>0),(AP222-(K222-SUM(AJ222:AM222))>0)),K222-SUM(AJ222:AM222),IF((K222-SUM(AJ222:AM222))>0,AP222,0)) -> 0 | AJ222: =IF(AND((K222-SUM(AK222:AM222)>0),(AQ222-(K222-SUM(AK222:AM222))>0)),K222-SUM(AK222:AM222),IF((K222-SUM(AK222:AM222))>0,AQ222,0)) -> 0 | AK222: =IF(AND((K222-SUM(AL222:AM222)>0),(AR222-(K222-SUM(AL222:AM222))>0)),K222-SUM(AL222:AM222),IF((K222-SUM(AL222:AM222))>0,AR222,0)) -> 0 | AL222: =IF(AND((K222-AM222)>0,(AS222-(K222-AM222))>0),(K222-AM222),IF((K222-AM222)>0,AS222,0)) -> 0 | AM222: =IF(AND(I222>0,(I222-K222)>0),K222,I222) -> 0 | AN222: =B$8 -> 0 | AO222: =IF(OR(BL222=10,BL222=11,BL222=12,BL222=1,BL222=2,BL222=3,BL222=4),B$9,$B$12) -> 0 | AP222: =IF(OR(BL222=11,BL222=12,BL222=1,BL222=2,BL222=3),B$10,) -> 0 | AQ222: =IF(OR(BL222=12,BL222=1,BL222=2),B$11,) -> 0 | AR222: =SUMIFS($B$13:$B$16,$C$13:$C$16,BM222) -> 0 | AS222: =SUMIFS($B$18:$B$29,$C$18:$C$29,BL222) -> 0 | AT222: =L222+I222 -> 0 | AX222: =MAX(AN222-AG222,0) -> 0 | AY222: =MAX(AO222-AH222,0) -> 0 | AZ222: =MAX(AP222-AI222,0) -> 0 | BA222: =MAX(AQ222-AJ222,0) -> 0 | BB222: =MAX(AR222-AK222,0) -> 0 | BC222: =MAX(AS222-AL222,0) -> 0 | BD222: =MAX(AT222-AM222,0) -> 0 | BE222: =SUM(AX222:BD222) -> 0 | BI222: =IF(Förbrukning!F221="",Förbrukning!E221,0)/IF(Förbrukning!$B$3=Listor!$B$5,F222,1) -> 0 | BJ222: =Förbrukning!F221/IF(Förbrukning!$B$3=Listor!$B$5,F222,1) -> 0 | BL222: =MONTH(D222) -> 5 | BM222: =ROUNDUP(BL222/3,0) -> 2 | BN222: =Indata!$B$7 -> 0
D223: =D222+1 -> 46514 | E223: =F223*G223 -> 0 | F223: =24+SUMIFS(Listor!$C$22:$C$23,Listor!$B$22:$B$23,Uttag!D223) -> 24 | G223: =SUM(BI223:BJ223) -> 0 | I223: =Förbrukning!H222 -> 0 | N223: =BE223 -> 0 | P223: =I223*SUMIFS(Priser!$L$3:$L$14,Priser!$A$3:$A$14,BL223) -> 0 | Q223: =Z223+AC223 -> 0 | U223: =MAX(G223-BE223,0) -> 0 | V223: =U223-W223 -> 0 | W223: =MAX(G223-BN223,0) -> 0 | X223: =COUNTIFS(V223,">0")+IF(BL223=BL222,X222,0) -> 0 | Y223: =IF(X223>=Priser!$N$6,Priser!$O$6,IF(X223>=Priser!$N$5,Priser!$O$5,IF(X223>=Priser!$N$4,Priser!$O$4,Priser!$O$3))) -> 0 | Z223: =Y223*SUMIFS(Priser!$L$3:$L$14,Priser!$A$3:$A$14,$BL223)*V223 -> 0 | AA223: =COUNTIFS(W223,">0")+IF(BL223=BL222,AA222,0) -> 0 | AB223: =IF(AA223>=Priser!$P$6,Priser!$Q$6,IF(AA223>=Priser!$P$5,Priser!$Q$5,IF(AA223>=Priser!$P$4,Priser!$Q$4,Priser!$Q$3))) -> 0 | AC223: =AB223*SUMIFS(Priser!$L$3:$L$14,Priser!$A$3:$A$14,$BL223)*W223 -> 0 | AG223: =IF(AND((K223-SUM(AH223:AM223)>0),(AN223-(K223-SUM(AH223:AM223))>0)),K223-SUM(AH223:AM223),IF((K223-SUM(AH223:AM223))>0,AN223,0)) -> 0 | AH223: =IF(AND((K223-SUM(AI223:AM223)>0),(AO223-(K223-SUM(AI223:AM223))>0)),K223-SUM(AI223:AM223),IF((K223-SUM(AI223:AM223))>0,AO223,0)) -> 0 | AI223: =IF(AND((K223-SUM(AJ223:AM223)>0),(AP223-(K223-SUM(AJ223:AM223))>0)),K223-SUM(AJ223:AM223),IF((K223-SUM(AJ223:AM223))>0,AP223,0)) -> 0 | AJ223: =IF(AND((K223-SUM(AK223:AM223)>0),(AQ223-(K223-SUM(AK223:AM223))>0)),K223-SUM(AK223:AM223),IF((K223-SUM(AK223:AM223))>0,AQ223,0)) -> 0 | AK223: =IF(AND((K223-SUM(AL223:AM223)>0),(AR223-(K223-SUM(AL223:AM223))>0)),K223-SUM(AL223:AM223),IF((K223-SUM(AL223:AM223))>0,AR223,0)) -> 0 | AL223: =IF(AND((K223-AM223)>0,(AS223-(K223-AM223))>0),(K223-AM223),IF((K223-AM223)>0,AS223,0)) -> 0 | AM223: =IF(AND(I223>0,(I223-K223)>0),K223,I223) -> 0 | AN223: =B$8 -> 0 | AO223: =IF(OR(BL223=10,BL223=11,BL223=12,BL223=1,BL223=2,BL223=3,BL223=4),B$9,$B$12) -> 0 | AP223: =IF(OR(BL223=11,BL223=12,BL223=1,BL223=2,BL223=3),B$10,) -> 0 | AQ223: =IF(OR(BL223=12,BL223=1,BL223=2),B$11,) -> 0 | AR223: =SUMIFS($B$13:$B$16,$C$13:$C$16,BM223) -> 0 | AS223: =SUMIFS($B$18:$B$29,$C$18:$C$29,BL223) -> 0 | AT223: =L223+I223 -> 0 | AX223: =MAX(AN223-AG223,0) -> 0 | AY223: =MAX(AO223-AH223,0) -> 0 | AZ223: =MAX(AP223-AI223,0) -> 0 | BA223: =MAX(AQ223-AJ223,0) -> 0 | BB223: =MAX(AR223-AK223,0) -> 0 | BC223: =MAX(AS223-AL223,0) -> 0 | BD223: =MAX(AT223-AM223,0) -> 0 | BE223: =SUM(AX223:BD223) -> 0 | BI223: =IF(Förbrukning!F222="",Förbrukning!E222,0)/IF(Förbrukning!$B$3=Listor!$B$5,F223,1) -> 0 | BJ223: =Förbrukning!F222/IF(Förbrukning!$B$3=Listor!$B$5,F223,1) -> 0 | BL223: =MONTH(D223) -> 5 | BM223: =ROUNDUP(BL223/3,0) -> 2 | BN223: =Indata!$B$7 -> 0
D224: =D223+1 -> 46515 | E224: =F224*G224 -> 0 | F224: =24+SUMIFS(Listor!$C$22:$C$23,Listor!$B$22:$B$23,Uttag!D224) -> 24 | G224: =SUM(BI224:BJ224) -> 0 | I224: =Förbrukning!H223 -> 0 | N224: =BE224 -> 0 | P224: =I224*SUMIFS(Priser!$L$3:$L$14,Priser!$A$3:$A$14,BL224) -> 0 | Q224: =Z224+AC224 -> 0 | U224: =MAX(G224-BE224,0) -> 0 | V224: =U224-W224 -> 0 | W224: =MAX(G224-BN224,0) -> 0 | X224: =COUNTIFS(V224,">0")+IF(BL224=BL223,X223,0) -> 0 | Y224: =IF(X224>=Priser!$N$6,Priser!$O$6,IF(X224>=Priser!$N$5,Priser!$O$5,IF(X224>=Priser!$N$4,Priser!$O$4,Priser!$O$3))) -> 0 | Z224: =Y224*SUMIFS(Priser!$L$3:$L$14,Priser!$A$3:$A$14,$BL224)*V224 -> 0 | AA224: =COUNTIFS(W224,">0")+IF(BL224=BL223,AA223,0) -> 0 | AB224: =IF(AA224>=Priser!$P$6,Priser!$Q$6,IF(AA224>=Priser!$P$5,Priser!$Q$5,IF(AA224>=Priser!$P$4,Priser!$Q$4,Priser!$Q$3))) -> 0 | AC224: =AB224*SUMIFS(Priser!$L$3:$L$14,Priser!$A$3:$A$14,$BL224)*W224 -> 0 | AG224: =IF(AND((K224-SUM(AH224:AM224)>0),(AN224-(K224-SUM(AH224:AM224))>0)),K224-SUM(AH224:AM224),IF((K224-SUM(AH224:AM224))>0,AN224,0)) -> 0 | AH224: =IF(AND((K224-SUM(AI224:AM224)>0),(AO224-(K224-SUM(AI224:AM224))>0)),K224-SUM(AI224:AM224),IF((K224-SUM(AI224:AM224))>0,AO224,0)) -> 0 | AI224: =IF(AND((K224-SUM(AJ224:AM224)>0),(AP224-(K224-SUM(AJ224:AM224))>0)),K224-SUM(AJ224:AM224),IF((K224-SUM(AJ224:AM224))>0,AP224,0)) -> 0 | AJ224: =IF(AND((K224-SUM(AK224:AM224)>0),(AQ224-(K224-SUM(AK224:AM224))>0)),K224-SUM(AK224:AM224),IF((K224-SUM(AK224:AM224))>0,AQ224,0)) -> 0 | AK224: =IF(AND((K224-SUM(AL224:AM224)>0),(AR224-(K224-SUM(AL224:AM224))>0)),K224-SUM(AL224:AM224),IF((K224-SUM(AL224:AM224))>0,AR224,0)) -> 0 | AL224: =IF(AND((K224-AM224)>0,(AS224-(K224-AM224))>0),(K224-AM224),IF((K224-AM224)>0,AS224,0)) -> 0 | AM224: =IF(AND(I224>0,(I224-K224)>0),K224,I224) -> 0 | AN224: =B$8 -> 0 | AO224: =IF(OR(BL224=10,BL224=11,BL224=12,BL224=1,BL224=2,BL224=3,BL224=4),B$9,$B$12) -> 0 | AP224: =IF(OR(BL224=11,BL224=12,BL224=1,BL224=2,BL224=3),B$10,) -> 0 | AQ224: =IF(OR(BL224=12,BL224=1,BL224=2),B$11,) -> 0 | AR224: =SUMIFS($B$13:$B$16,$C$13:$C$16,BM224) -> 0 | AS224: =SUMIFS($B$18:$B$29,$C$18:$C$29,BL224) -> 0 | AT224: =L224+I224 -> 0 | AX224: =MAX(AN224-AG224,0) -> 0 | AY224: =MAX(AO224-AH224,0) -> 0 | AZ224: =MAX(AP224-AI224,0) -> 0 | BA224: =MAX(AQ224-AJ224,0) -> 0 | BB224: =MAX(AR224-AK224,0) -> 0 | BC224: =MAX(AS224-AL224,0) -> 0 | BD224: =MAX(AT224-AM224,0) -> 0 | BE224: =SUM(AX224:BD224) -> 0 | BI224: =IF(Förbrukning!F223="",Förbrukning!E223,0)/IF(Förbrukning!$B$3=Listor!$B$5,F224,1) -> 0 | BJ224: =Förbrukning!F223/IF(Förbrukning!$B$3=Listor!$B$5,F224,1) -> 0 | BL224: =MONTH(D224) -> 5 | BM224: =ROUNDUP(BL224/3,0) -> 2 | BN224: =Indata!$B$7 -> 0
D225: =D224+1 -> 46516 | E225: =F225*G225 -> 0 | F225: =24+SUMIFS(Listor!$C$22:$C$23,Listor!$B$22:$B$23,Uttag!D225) -> 24 | G225: =SUM(BI225:BJ225) -> 0 | I225: =Förbrukning!H224 -> 0 | N225: =BE225 -> 0 | P225: =I225*SUMIFS(Priser!$L$3:$L$14,Priser!$A$3:$A$14,BL225) -> 0 | Q225: =Z225+AC225 -> 0 | U225: =MAX(G225-BE225,0) -> 0 | V225: =U225-W225 -> 0 | W225: =MAX(G225-BN225,0) -> 0 | X225: =COUNTIFS(V225,">0")+IF(BL225=BL224,X224,0) -> 0 | Y225: =IF(X225>=Priser!$N$6,Priser!$O$6,IF(X225>=Priser!$N$5,Priser!$O$5,IF(X225>=Priser!$N$4,Priser!$O$4,Priser!$O$3))) -> 0 | Z225: =Y225*SUMIFS(Priser!$L$3:$L$14,Priser!$A$3:$A$14,$BL225)*V225 -> 0 | AA225: =COUNTIFS(W225,">0")+IF(BL225=BL224,AA224,0) -> 0 | AB225: =IF(AA225>=Priser!$P$6,Priser!$Q$6,IF(AA225>=Priser!$P$5,Priser!$Q$5,IF(AA225>=Priser!$P$4,Priser!$Q$4,Priser!$Q$3))) -> 0 | AC225: =AB225*SUMIFS(Priser!$L$3:$L$14,Priser!$A$3:$A$14,$BL225)*W225 -> 0 | AG225: =IF(AND((K225-SUM(AH225:AM225)>0),(AN225-(K225-SUM(AH225:AM225))>0)),K225-SUM(AH225:AM225),IF((K225-SUM(AH225:AM225))>0,AN225,0)) -> 0 | AH225: =IF(AND((K225-SUM(AI225:AM225)>0),(AO225-(K225-SUM(AI225:AM225))>0)),K225-SUM(AI225:AM225),IF((K225-SUM(AI225:AM225))>0,AO225,0)) -> 0 | AI225: =IF(AND((K225-SUM(AJ225:AM225)>0),(AP225-(K225-SUM(AJ225:AM225))>0)),K225-SUM(AJ225:AM225),IF((K225-SUM(AJ225:AM225))>0,AP225,0)) -> 0 | AJ225: =IF(AND((K225-SUM(AK225:AM225)>0),(AQ225-(K225-SUM(AK225:AM225))>0)),K225-SUM(AK225:AM225),IF((K225-SUM(AK225:AM225))>0,AQ225,0)) -> 0 | AK225: =IF(AND((K225-SUM(AL225:AM225)>0),(AR225-(K225-SUM(AL225:AM225))>0)),K225-SUM(AL225:AM225),IF((K225-SUM(AL225:AM225))>0,AR225,0)) -> 0 | AL225: =IF(AND((K225-AM225)>0,(AS225-(K225-AM225))>0),(K225-AM225),IF((K225-AM225)>0,AS225,0)) -> 0 | AM225: =IF(AND(I225>0,(I225-K225)>0),K225,I225) -> 0 | AN225: =B$8 -> 0 | AO225: =IF(OR(BL225=10,BL225=11,BL225=12,BL225=1,BL225=2,BL225=3,BL225=4),B$9,$B$12) -> 0 | AP225: =IF(OR(BL225=11,BL225=12,BL225=1,BL225=2,BL225=3),B$10,) -> 0 | AQ225: =IF(OR(BL225=12,BL225=1,BL225=2),B$11,) -> 0 | AR225: =SUMIFS($B$13:$B$16,$C$13:$C$16,BM225) -> 0 | AS225: =SUMIFS($B$18:$B$29,$C$18:$C$29,BL225) -> 0 | AT225: =L225+I225 -> 0 | AX225: =MAX(AN225-AG225,0) -> 0 | AY225: =MAX(AO225-AH225,0) -> 0 | AZ225: =MAX(AP225-AI225,0) -> 0 | BA225: =MAX(AQ225-AJ225,0) -> 0 | BB225: =MAX(AR225-AK225,0) -> 0 | BC225: =MAX(AS225-AL225,0) -> 0 | BD225: =MAX(AT225-AM225,0) -> 0 | BE225: =SUM(AX225:BD225) -> 0 | BI225: =IF(Förbrukning!F224="",Förbrukning!E224,0)/IF(Förbrukning!$B$3=Listor!$B$5,F225,1) -> 0 | BJ225: =Förbrukning!F224/IF(Förbrukning!$B$3=Listor!$B$5,F225,1) -> 0 | BL225: =MONTH(D225) -> 5 | BM225: =ROUNDUP(BL225/3,0) -> 2 | BN225: =Indata!$B$7 -> 0
D226: =D225+1 -> 46517 | E226: =F226*G226 -> 0 | F226: =24+SUMIFS(Listor!$C$22:$C$23,Listor!$B$22:$B$23,Uttag!D226) -> 24 | G226: =SUM(BI226:BJ226) -> 0 | I226: =Förbrukning!H225 -> 0 | N226: =BE226 -> 0 | P226: =I226*SUMIFS(Priser!$L$3:$L$14,Priser!$A$3:$A$14,BL226) -> 0 | Q226: =Z226+AC226 -> 0 | U226: =MAX(G226-BE226,0) -> 0 | V226: =U226-W226 -> 0 | W226: =MAX(G226-BN226,0) -> 0 | X226: =COUNTIFS(V226,">0")+IF(BL226=BL225,X225,0) -> 0 | Y226: =IF(X226>=Priser!$N$6,Priser!$O$6,IF(X226>=Priser!$N$5,Priser!$O$5,IF(X226>=Priser!$N$4,Priser!$O$4,Priser!$O$3))) -> 0 | Z226: =Y226*SUMIFS(Priser!$L$3:$L$14,Priser!$A$3:$A$14,$BL226)*V226 -> 0 | AA226: =COUNTIFS(W226,">0")+IF(BL226=BL225,AA225,0) -> 0 | AB226: =IF(AA226>=Priser!$P$6,Priser!$Q$6,IF(AA226>=Priser!$P$5,Priser!$Q$5,IF(AA226>=Priser!$P$4,Priser!$Q$4,Priser!$Q$3))) -> 0 | AC226: =AB226*SUMIFS(Priser!$L$3:$L$14,Priser!$A$3:$A$14,$BL226)*W226 -> 0 | AG226: =IF(AND((K226-SUM(AH226:AM226)>0),(AN226-(K226-SUM(AH226:AM226))>0)),K226-SUM(AH226:AM226),IF((K226-SUM(AH226:AM226))>0,AN226,0)) -> 0 | AH226: =IF(AND((K226-SUM(AI226:AM226)>0),(AO226-(K226-SUM(AI226:AM226))>0)),K226-SUM(AI226:AM226),IF((K226-SUM(AI226:AM226))>0,AO226,0)) -> 0 | AI226: =IF(AND((K226-SUM(AJ226:AM226)>0),(AP226-(K226-SUM(AJ226:AM226))>0)),K226-SUM(AJ226:AM226),IF((K226-SUM(AJ226:AM226))>0,AP226,0)) -> 0 | AJ226: =IF(AND((K226-SUM(AK226:AM226)>0),(AQ226-(K226-SUM(AK226:AM226))>0)),K226-SUM(AK226:AM226),IF((K226-SUM(AK226:AM226))>0,AQ226,0)) -> 0 | AK226: =IF(AND((K226-SUM(AL226:AM226)>0),(AR226-(K226-SUM(AL226:AM226))>0)),K226-SUM(AL226:AM226),IF((K226-SUM(AL226:AM226))>0,AR226,0)) -> 0 | AL226: =IF(AND((K226-AM226)>0,(AS226-(K226-AM226))>0),(K226-AM226),IF((K226-AM226)>0,AS226,0)) -> 0 | AM226: =IF(AND(I226>0,(I226-K226)>0),K226,I226) -> 0 | AN226: =B$8 -> 0 | AO226: =IF(OR(BL226=10,BL226=11,BL226=12,BL226=1,BL226=2,BL226=3,BL226=4),B$9,$B$12) -> 0 | AP226: =IF(OR(BL226=11,BL226=12,BL226=1,BL226=2,BL226=3),B$10,) -> 0 | AQ226: =IF(OR(BL226=12,BL226=1,BL226=2),B$11,) -> 0 | AR226: =SUMIFS($B$13:$B$16,$C$13:$C$16,BM226) -> 0 | AS226: =SUMIFS($B$18:$B$29,$C$18:$C$29,BL226) -> 0 | AT226: =L226+I226 -> 0 | AX226: =MAX(AN226-AG226,0) -> 0 | AY226: =MAX(AO226-AH226,0) -> 0 | AZ226: =MAX(AP226-AI226,0) -> 0 | BA226: =MAX(AQ226-AJ226,0) -> 0 | BB226: =MAX(AR226-AK226,0) -> 0 | BC226: =MAX(AS226-AL226,0) -> 0 | BD226: =MAX(AT226-AM226,0) -> 0 | BE226: =SUM(AX226:BD226) -> 0 | BI226: =IF(Förbrukning!F225="",Förbrukning!E225,0)/IF(Förbrukning!$B$3=Listor!$B$5,F226,1) -> 0 | BJ226: =Förbrukning!F225/IF(Förbrukning!$B$3=Listor!$B$5,F226,1) -> 0 | BL226: =MONTH(D226) -> 5 | BM226: =ROUNDUP(BL226/3,0) -> 2 | BN226: =Indata!$B$7 -> 0
D227: =D226+1 -> 46518 | E227: =F227*G227 -> 0 | F227: =24+SUMIFS(Listor!$C$22:$C$23,Listor!$B$22:$B$23,Uttag!D227) -> 24 | G227: =SUM(BI227:BJ227) -> 0 | I227: =Förbrukning!H226 -> 0 | N227: =BE227 -> 0 | P227: =I227*SUMIFS(Priser!$L$3:$L$14,Priser!$A$3:$A$14,BL227) -> 0 | Q227: =Z227+AC227 -> 0 | U227: =MAX(G227-BE227,0) -> 0 | V227: =U227-W227 -> 0 | W227: =MAX(G227-BN227,0) -> 0 | X227: =COUNTIFS(V227,">0")+IF(BL227=BL226,X226,0) -> 0 | Y227: =IF(X227>=Priser!$N$6,Priser!$O$6,IF(X227>=Priser!$N$5,Priser!$O$5,IF(X227>=Priser!$N$4,Priser!$O$4,Priser!$O$3))) -> 0 | Z227: =Y227*SUMIFS(Priser!$L$3:$L$14,Priser!$A$3:$A$14,$BL227)*V227 -> 0 | AA227: =COUNTIFS(W227,">0")+IF(BL227=BL226,AA226,0) -> 0 | AB227: =IF(AA227>=Priser!$P$6,Priser!$Q$6,IF(AA227>=Priser!$P$5,Priser!$Q$5,IF(AA227>=Priser!$P$4,Priser!$Q$4,Priser!$Q$3))) -> 0 | AC227: =AB227*SUMIFS(Priser!$L$3:$L$14,Priser!$A$3:$A$14,$BL227)*W227 -> 0 | AG227: =IF(AND((K227-SUM(AH227:AM227)>0),(AN227-(K227-SUM(AH227:AM227))>0)),K227-SUM(AH227:AM227),IF((K227-SUM(AH227:AM227))>0,AN227,0)) -> 0 | AH227: =IF(AND((K227-SUM(AI227:AM227)>0),(AO227-(K227-SUM(AI227:AM227))>0)),K227-SUM(AI227:AM227),IF((K227-SUM(AI227:AM227))>0,AO227,0)) -> 0 | AI227: =IF(AND((K227-SUM(AJ227:AM227)>0),(AP227-(K227-SUM(AJ227:AM227))>0)),K227-SUM(AJ227:AM227),IF((K227-SUM(AJ227:AM227))>0,AP227,0)) -> 0 | AJ227: =IF(AND((K227-SUM(AK227:AM227)>0),(AQ227-(K227-SUM(AK227:AM227))>0)),K227-SUM(AK227:AM227),IF((K227-SUM(AK227:AM227))>0,AQ227,0)) -> 0 | AK227: =IF(AND((K227-SUM(AL227:AM227)>0),(AR227-(K227-SUM(AL227:AM227))>0)),K227-SUM(AL227:AM227),IF((K227-SUM(AL227:AM227))>0,AR227,0)) -> 0 | AL227: =IF(AND((K227-AM227)>0,(AS227-(K227-AM227))>0),(K227-AM227),IF((K227-AM227)>0,AS227,0)) -> 0 | AM227: =IF(AND(I227>0,(I227-K227)>0),K227,I227) -> 0 | AN227: =B$8 -> 0 | AO227: =IF(OR(BL227=10,BL227=11,BL227=12,BL227=1,BL227=2,BL227=3,BL227=4),B$9,$B$12) -> 0 | AP227: =IF(OR(BL227=11,BL227=12,BL227=1,BL227=2,BL227=3),B$10,) -> 0 | AQ227: =IF(OR(BL227=12,BL227=1,BL227=2),B$11,) -> 0 | AR227: =SUMIFS($B$13:$B$16,$C$13:$C$16,BM227) -> 0 | AS227: =SUMIFS($B$18:$B$29,$C$18:$C$29,BL227) -> 0 | AT227: =L227+I227 -> 0 | AX227: =MAX(AN227-AG227,0) -> 0 | AY227: =MAX(AO227-AH227,0) -> 0 | AZ227: =MAX(AP227-AI227,0) -> 0 | BA227: =MAX(AQ227-AJ227,0) -> 0 | BB227: =MAX(AR227-AK227,0) -> 0 | BC227: =MAX(AS227-AL227,0) -> 0 | BD227: =MAX(AT227-AM227,0) -> 0 | BE227: =SUM(AX227:BD227) -> 0 | BI227: =IF(Förbrukning!F226="",Förbrukning!E226,0)/IF(Förbrukning!$B$3=Listor!$B$5,F227,1) -> 0 | BJ227: =Förbrukning!F226/IF(Förbrukning!$B$3=Listor!$B$5,F227,1) -> 0 | BL227: =MONTH(D227) -> 5 | BM227: =ROUNDUP(BL227/3,0) -> 2 | BN227: =Indata!$B$7 -> 0
D228: =D227+1 -> 46519 | E228: =F228*G228 -> 0 | F228: =24+SUMIFS(Listor!$C$22:$C$23,Listor!$B$22:$B$23,Uttag!D228) -> 24 | G228: =SUM(BI228:BJ228) -> 0 | I228: =Förbrukning!H227 -> 0 | N228: =BE228 -> 0 | P228: =I228*SUMIFS(Priser!$L$3:$L$14,Priser!$A$3:$A$14,BL228) -> 0 | Q228: =Z228+AC228 -> 0 | U228: =MAX(G228-BE228,0) -> 0 | V228: =U228-W228 -> 0 | W228: =MAX(G228-BN228,0) -> 0 | X228: =COUNTIFS(V228,">0")+IF(BL228=BL227,X227,0) -> 0 | Y228: =IF(X228>=Priser!$N$6,Priser!$O$6,IF(X228>=Priser!$N$5,Priser!$O$5,IF(X228>=Priser!$N$4,Priser!$O$4,Priser!$O$3))) -> 0 | Z228: =Y228*SUMIFS(Priser!$L$3:$L$14,Priser!$A$3:$A$14,$BL228)*V228 -> 0 | AA228: =COUNTIFS(W228,">0")+IF(BL228=BL227,AA227,0) -> 0 | AB228: =IF(AA228>=Priser!$P$6,Priser!$Q$6,IF(AA228>=Priser!$P$5,Priser!$Q$5,IF(AA228>=Priser!$P$4,Priser!$Q$4,Priser!$Q$3))) -> 0 | AC228: =AB228*SUMIFS(Priser!$L$3:$L$14,Priser!$A$3:$A$14,$BL228)*W228 -> 0 | AG228: =IF(AND((K228-SUM(AH228:AM228)>0),(AN228-(K228-SUM(AH228:AM228))>0)),K228-SUM(AH228:AM228),IF((K228-SUM(AH228:AM228))>0,AN228,0)) -> 0 | AH228: =IF(AND((K228-SUM(AI228:AM228)>0),(AO228-(K228-SUM(AI228:AM228))>0)),K228-SUM(AI228:AM228),IF((K228-SUM(AI228:AM228))>0,AO228,0)) -> 0 | AI228: =IF(AND((K228-SUM(AJ228:AM228)>0),(AP228-(K228-SUM(AJ228:AM228))>0)),K228-SUM(AJ228:AM228),IF((K228-SUM(AJ228:AM228))>0,AP228,0)) -> 0 | AJ228: =IF(AND((K228-SUM(AK228:AM228)>0),(AQ228-(K228-SUM(AK228:AM228))>0)),K228-SUM(AK228:AM228),IF((K228-SUM(AK228:AM228))>0,AQ228,0)) -> 0 | AK228: =IF(AND((K228-SUM(AL228:AM228)>0),(AR228-(K228-SUM(AL228:AM228))>0)),K228-SUM(AL228:AM228),IF((K228-SUM(AL228:AM228))>0,AR228,0)) -> 0 | AL228: =IF(AND((K228-AM228)>0,(AS228-(K228-AM228))>0),(K228-AM228),IF((K228-AM228)>0,AS228,0)) -> 0 | AM228: =IF(AND(I228>0,(I228-K228)>0),K228,I228) -> 0 | AN228: =B$8 -> 0 | AO228: =IF(OR(BL228=10,BL228=11,BL228=12,BL228=1,BL228=2,BL228=3,BL228=4),B$9,$B$12) -> 0 | AP228: =IF(OR(BL228=11,BL228=12,BL228=1,BL228=2,BL228=3),B$10,) -> 0 | AQ228: =IF(OR(BL228=12,BL228=1,BL228=2),B$11,) -> 0 | AR228: =SUMIFS($B$13:$B$16,$C$13:$C$16,BM228) -> 0 | AS228: =SUMIFS($B$18:$B$29,$C$18:$C$29,BL228) -> 0 | AT228: =L228+I228 -> 0 | AX228: =MAX(AN228-AG228,0) -> 0 | AY228: =MAX(AO228-AH228,0) -> 0 | AZ228: =MAX(AP228-AI228,0) -> 0 | BA228: =MAX(AQ228-AJ228,0) -> 0 | BB228: =MAX(AR228-AK228,0) -> 0 | BC228: =MAX(AS228-AL228,0) -> 0 | BD228: =MAX(AT228-AM228,0) -> 0 | BE228: =SUM(AX228:BD228) -> 0 | BI228: =IF(Förbrukning!F227="",Förbrukning!E227,0)/IF(Förbrukning!$B$3=Listor!$B$5,F228,1) -> 0 | BJ228: =Förbrukning!F227/IF(Förbrukning!$B$3=Listor!$B$5,F228,1) -> 0 | BL228: =MONTH(D228) -> 5 | BM228: =ROUNDUP(BL228/3,0) -> 2 | BN228: =Indata!$B$7 -> 0
... D369: =D368+1 -> 46660 | E369: =F369*G369 -> 0 | F369: =24+SUMIFS(Listor!$C$22:$C$23,Listor!$B$22:$B$23,Uttag!D369) -> 24 | G369: =SUM(BI369:BJ369) -> 0 | I369: =Förbrukning!H368 -> 0 | N369: =BE369 -> 0 | P369: =I369*SUMIFS(Priser!$L$3:$L$14,Priser!$A$3:$A$14,BL369) -> 0 | Q369: =Z369+AC369 -> 0 | U369: =MAX(G369-BE369,0) -> 0 | V369: =U369-W369 -> 0 | W369: =MAX(G369-BN369,0) -> 0 | X369: =COUNTIFS(V369,">0")+IF(BL369=BL368,X368,0) -> 0 | Y369: =IF(X369>=Priser!$N$6,Priser!$O$6,IF(X369>=Priser!$N$5,Priser!$O$5,IF(X369>=Priser!$N$4,Priser!$O$4,Priser!$O$3))) -> 0 | Z369: =Y369*SUMIFS(Priser!$L$3:$L$14,Priser!$A$3:$A$14,$BL369)*V369 -> 0 | AA369: =COUNTIFS(W369,">0")+IF(BL369=BL368,AA368,0) -> 0 | AB369: =IF(AA369>=Priser!$P$6,Priser!$Q$6,IF(AA369>=Priser!$P$5,Priser!$Q$5,IF(AA369>=Priser!$P$4,Priser!$Q$4,Priser!$Q$3))) -> 0 | AC369: =AB369*SUMIFS(Priser!$L$3:$L$14,Priser!$A$3:$A$14,$BL369)*W369 -> 0 | AG369: =IF(AND((K369-SUM(AH369:AM369)>0),(AN369-(K369-SUM(AH369:AM369))>0)),K369-SUM(AH369:AM369),IF((K369-SUM(AH369:AM369))>0,AN369,0)) -> 0 | AH369: =IF(AND((K369-SUM(AI369:AM369)>0),(AO369-(K369-SUM(AI369:AM369))>0)),K369-SUM(AI369:AM369),IF((K369-SUM(AI369:AM369))>0,AO369,0)) -> 0 | AI369: =IF(AND((K369-SUM(AJ369:AM369)>0),(AP369-(K369-SUM(AJ369:AM369))>0)),K369-SUM(AJ369:AM369),IF((K369-SUM(AJ369:AM369))>0,AP369,0)) -> 0 | AJ369: =IF(AND((K369-SUM(AK369:AM369)>0),(AQ369-(K369-SUM(AK369:AM369))>0)),K369-SUM(AK369:AM369),IF((K369-SUM(AK369:AM369))>0,AQ369,0)) -> 0 | AK369: =IF(AND((K369-SUM(AL369:AM369)>0),(AR369-(K369-SUM(AL369:AM369))>0)),K369-SUM(AL369:AM369),IF((K369-SUM(AL369:AM369))>0,AR369,0)) -> 0 | AL369: =IF(AND((K369-AM369)>0,(AS369-(K369-AM369))>0),(K369-AM369),IF((K369-AM369)>0,AS369,0)) -> 0 | AM369: =IF(AND(I369>0,(I369-K369)>0),K369,I369) -> 0 | AN369: =B$8 -> 0 | AO369: =IF(OR(BL369=10,BL369=11,BL369=12,BL369=1,BL369=2,BL369=3,BL369=4),B$9,$B$12) -> 0 | AP369: =IF(OR(BL369=11,BL369=12,BL369=1,BL369=2,BL369=3),B$10,) -> 0 | AQ369: =IF(OR(BL369=12,BL369=1,BL369=2),B$11,) -> 0 | AR369: =SUMIFS($B$13:$B$16,$C$13:$C$16,BM369) -> 0 | AS369: =SUMIFS($B$18:$B$29,$C$18:$C$29,BL369) -> 0 | AT369: =L369+I369 -> 0 | AX369: =MAX(AN369-AG369,0) -> 0 | AY369: =MAX(AO369-AH369,0) -> 0 | AZ369: =MAX(AP369-AI369,0) -> 0 | BA369: =MAX(AQ369-AJ369,0) -> 0 | BB369: =MAX(AR369-AK369,0) -> 0 | BC369: =MAX(AS369-AL369,0) -> 0 | BD369: =MAX(AT369-AM369,0) -> 0 | BE369: =SUM(AX369:BD369) -> 0 | BI369: =IF(Förbrukning!F368="",Förbrukning!E368,0)/IF(Förbrukning!$B$3=Listor!$B$5,F369,1) -> 0 | BJ369: =Förbrukning!F368/IF(Förbrukning!$B$3=Listor!$B$5,F369,1) -> 0 | BL369: =MONTH(D369) -> 9 | BM369: =ROUNDUP(BL369/3,0) -> 3 | BN369: =Indata!$B$7 -> 0

Sheet Sammanställning 
B1: Kostnader | U1: Uttag
G2: Kapacitetsavgift specifierat per produkt
B3: =Indata!B2 -> 0 | C3: Administrativ avgift | D3: Kapacitets tilldelnings-avgift | E3: Kapacitets tilldelnings-avgift dygn | F3: Kapacitets-avgifter | G3: År | H3: Vinter 1 | I3: Vinter 2 | J3: Vinter 3 | K3: Sommar | L3: Kvartal | M3: Månad | N3: Dygn | O3: Överuttagsavgift inom maximalt kap.behov | P3: Överuttagsavgift utöver maximalt kap.behov | Q3: Avgift för extra områdes förbrukning | R3: Myndighetsavgifter | S3: Total kostnad | U3: Volym | V3: Högsta dygns-uttag | W3: Antal Dygns-produkter | X3: Antal överlåtelser ut | Y3: Antal överlåtelser in | Z3: Antal Överuttag inom max | AA3: Antal Överuttag över max
A4: Månad | C4: SEK | D4: SEK | E4: SEK | F4: SEK | G4: SEK | H4: SEK | I4: SEK | J4: SEK | K4: SEK | L4: SEK | M4: SEK | N4: SEK | O4: SEK | P4: SEK | Q4: SEK | R4: SEK | S4: SEK | U4: kWh | V4: kWh/h | W4: st | X4: st | Y4: st | Z4: st | AA4: st
A5: 10 | B5: Oktober | C5: =Priser!$B$19/12 -> 36320.5 | D5: =(Priser!$B$20*Uttag!$B$5^0.5)/7 -> 0 | E5: =IF(Indata!$B$3="Ja",Uttag!$B$5*Priser!$B$22/12,0) -> 0 | F5: =SUM(G5:N5) -> 0 | G5: =Uttag!$B$8*Priser!B3 -> 0 | H5: =Uttag!$B$9*Priser!C3 -> 0 | L5: =Uttag!$B$13*Priser!H3 -> 0 | M5: =Uttag!$B18*Priser!J3 -> 0 | N5: =SUMIFS(Uttag!$P:$P,Uttag!$BL:$BL,A5) -> 0 | O5: =SUMIFS(Uttag!Z:Z,Uttag!$BL:$BL,A5) -> 0 | P5: =SUMIFS(Uttag!AC:AC,Uttag!$BL:$BL,A5) -> 0 | Q5: =U5*Priser!B$24 -> 0 | R5: =U5*Priser!$B$25 -> 0 | S5: =SUM(C5:F5,O5:R5) -> 36320.5 | U5: =SUMIFS(Uttag!E:E,Uttag!$BL:$BL,$A5) -> 0 | V5: =_xlfn.MAXIFS(Uttag!G:G,Uttag!BL:BL,A5) -> 0 | W5: =COUNTIFS(Uttag!P:P,">0",Uttag!BL:BL,A5) -> 0 | X5: =COUNTIFS(Uttag!K:K,">0",Uttag!$BL:$BL,$A5) -> 0 | Y5: =COUNTIFS(Uttag!L:L,">0",Uttag!$BL:$BL,$A5) -> 0 | Z5: =COUNTIFS(Uttag!$BL$5:$BL$369,$A5,Uttag!$V$5:$V$369,">0") -> 0 | AA5: =COUNTIFS(Uttag!$BL$5:$BL$369,$A5,Uttag!$W$5:$W$369,">0") -> 0
A6: 11 | B6: November | C6: =Priser!$B$19/12 -> 36320.5 | D6: =(Priser!$B$20*Uttag!$B$5^0.5)/7 -> 0 | E6: =IF(Indata!$B$3="Ja",Uttag!$B$5*Priser!$B$22/12,0) -> 0 | F6: =SUM(G6:N6) -> 0 | G6: =Uttag!$B$8*Priser!B4 -> 0 | H6: =Uttag!$B$9*Priser!C4 -> 0 | I6: =Uttag!$B$10*Priser!D4 -> 0 | L6: =Uttag!$B$13*Priser!H4 -> 0 | M6: =Uttag!$B19*Priser!J4 -> 0 | N6: =SUMIFS(Uttag!$P:$P,Uttag!$BL:$BL,A6) -> 0 | O6: =SUMIFS(Uttag!Z:Z,Uttag!BL:BL,A6) -> 0 | P6: =SUMIFS(Uttag!AC:AC,Uttag!$BL:$BL,A6) -> 0 | Q6: =U6*Priser!B$24 -> 0 | R6: =U6*Priser!$B$25 -> 0 | S6: =SUM(C6:F6,O6:R6) -> 36320.5 | U6: =SUMIFS(Uttag!E:E,Uttag!$BL:$BL,$A6) -> 0 | V6: =_xlfn.MAXIFS(Uttag!G:G,Uttag!BL:BL,A6) -> 0 | W6: =COUNTIFS(Uttag!P:P,">0",Uttag!BL:BL,A6) -> 0 | X6: =COUNTIFS(Uttag!K:K,">0",Uttag!$BL:$BL,$A6) -> 0 | Y6: =COUNTIFS(Uttag!L:L,">0",Uttag!$BL:$BL,$A6) -> 0 | Z6: =COUNTIFS(Uttag!$BL$5:$BL$369,$A6,Uttag!$V$5:$V$369,">0") -> 0 | AA6: =COUNTIFS(Uttag!$BL$5:$BL$369,$A6,Uttag!$W$5:$W$369,">0") -> 0
A7: 12 | B7: December | C7: =Priser!$B$19/12 -> 36320.5 | D7: =(Priser!$B$20*Uttag!$B$5^0.5)/7 -> 0 | E7: =IF(Indata!$B$3="Ja",Uttag!$B$5*Priser!$B$22/12,0) -> 0 | F7: =SUM(G7:N7) -> 0 | G7: =Uttag!$B$8*Priser!B5 -> 0 | H7: =Uttag!$B$9*Priser!C5 -> 0 | I7: =Uttag!$B$10*Priser!D5 -> 0 | J7: =Uttag!$B$11*Priser!E5 -> 0 | L7: =Uttag!$B$13*Priser!H5 -> 0 | M7: =Uttag!$B20*Priser!J5 -> 0 | N7: =SUMIFS(Uttag!$P:$P,Uttag!$BL:$BL,A7) -> 0 | O7: =SUMIFS(Uttag!Z:Z,Uttag!BL:BL,A7) -> 0 | P7: =SUMIFS(Uttag!AC:AC,Uttag!$BL:$BL,A7) -> 0 | Q7: =U7*Priser!B$24 -> 0 | R7: =U7*Priser!$B$25 -> 0 | S7: =SUM(C7:F7,O7:R7) -> 36320.5 | U7: =SUMIFS(Uttag!E:E,Uttag!$BL:$BL,$A7) -> 0 | V7: =_xlfn.MAXIFS(Uttag!G:G,Uttag!BL:BL,A7) -> 0 | W7: =COUNTIFS(Uttag!P:P,">0",Uttag!BL:BL,A7) -> 0 | X7: =COUNTIFS(Uttag!K:K,">0",Uttag!$BL:$BL,$A7) -> 0 | Y7: =COUNTIFS(Uttag!L:L,">0",Uttag!$BL:$BL,$A7) -> 0 | Z7: =COUNTIFS(Uttag!$BL$5:$BL$369,$A7,Uttag!$V$5:$V$369,">0") -> 0 | AA7: =COUNTIFS(Uttag!$BL$5:$BL$369,$A7,Uttag!$W$5:$W$369,">0") -> 0
A8: 1 | B8: Januari | C8: =Priser!$B$19/12 -> 36320.5 | D8: =(Priser!$B$20*Uttag!$B$5^0.5)/7 -> 0 | E8: =IF(Indata!$B$3="Ja",Uttag!$B$5*Priser!$B$22/12,0) -> 0 | F8: =SUM(G8:N8) -> 0 | G8: =Uttag!$B$8*Priser!B6 -> 0 | H8: =Uttag!$B$9*Priser!C6 -> 0 | I8: =Uttag!$B$10*Priser!D6 -> 0 | J8: =Uttag!$B$11*Priser!E6 -> 0 | L8: =Uttag!$B$14*Priser!H6 -> 0 | M8: =Uttag!$B21*Priser!J6 -> 0 | N8: =SUMIFS(Uttag!$P:$P,Uttag!$BL:$BL,A8) -> 0 | O8: =SUMIFS(Uttag!Z:Z,Uttag!BL:BL,A8) -> 0 | P8: =SUMIFS(Uttag!AC:AC,Uttag!$BL:$BL,A8) -> 0 | Q8: =U8*Priser!B$24 -> 0 | R8: =U8*Priser!$B$25 -> 0 | S8: =SUM(C8:F8,O8:R8) -> 36320.5 | U8: =SUMIFS(Uttag!E:E,Uttag!$BL:$BL,$A8) -> 0 | V8: =_xlfn.MAXIFS(Uttag!G:G,Uttag!BL:BL,A8) -> 0 | W8: =COUNTIFS(Uttag!P:P,">0",Uttag!BL:BL,A8) -> 0 | X8: =COUNTIFS(Uttag!K:K,">0",Uttag!$BL:$BL,$A8) -> 0 | Y8: =COUNTIFS(Uttag!L:L,">0",Uttag!$BL:$BL,$A8) -> 0 | Z8: =COUNTIFS(Uttag!$BL$5:$BL$369,$A8,Uttag!$V$5:$V$369,">0") -> 0 | AA8: =COUNTIFS(Uttag!$BL$5:$BL$369,$A8,Uttag!$W$5:$W$369,">0") -> 0
A9: 2 | B9: Februari | C9: =Priser!$B$19/12 -> 36320.5 | D9: =(Priser!$B$20*Uttag!$B$5^0.5)/7 -> 0 | E9: =IF(Indata!$B$3="Ja",Uttag!$B$5*Priser!$B$22/12,0) -> 0 | F9: =SUM(G9:N9) -> 0 | G9: =Uttag!$B$8*Priser!B7 -> 0 | H9: =Uttag!$B$9*Priser!C7 -> 0 | I9: =Uttag!$B$10*Priser!D7 -> 0 | J9: =Uttag!$B$11*Priser!E7 -> 0 | L9: =Uttag!$B$14*Priser!H7 -> 0 | M9: =Uttag!$B22*Priser!J7 -> 0 | N9: =SUMIFS(Uttag!$P:$P,Uttag!$BL:$BL,A9) -> 0 | O9: =SUMIFS(Uttag!Z:Z,Uttag!BL:BL,A9) -> 0 | P9: =SUMIFS(Uttag!AC:AC,Uttag!$BL:$BL,A9) -> 0 | Q9: =U9*Priser!B$24 -> 0 | R9: =U9*Priser!$B$25 -> 0 | S9: =SUM(C9:F9,O9:R9) -> 36320.5 | U9: =SUMIFS(Uttag!E:E,Uttag!$BL:$BL,$A9) -> 0 | V9: =_xlfn.MAXIFS(Uttag!G:G,Uttag!BL:BL,A9) -> 0 | W9: =COUNTIFS(Uttag!P:P,">0",Uttag!BL:BL,A9) -> 0 | X9: =COUNTIFS(Uttag!K:K,">0",Uttag!$BL:$BL,$A9) -> 0 | Y9: =COUNTIFS(Uttag!L:L,">0",Uttag!$BL:$BL,$A9) -> 0 | Z9: =COUNTIFS(Uttag!$BL$5:$BL$369,$A9,Uttag!$V$5:$V$369,">0") -> 0 | AA9: =COUNTIFS(Uttag!$BL$5:$BL$369,$A9,Uttag!$W$5:$W$369,">0") -> 0
A10: 3 | B10: Mars | C10: =Priser!$B$19/12 -> 36320.5 | D10: =(Priser!$B$20*Uttag!$B$5^0.5)/7 -> 0 | E10: =IF(Indata!$B$3="Ja",Uttag!$B$5*Priser!$B$22/12,0) -> 0 | F10: =SUM(G10:N10) -> 0 | G10: =Uttag!$B$8*Priser!B8 -> 0 | H10: =Uttag!$B$9*Priser!C8 -> 0 | I10: =Uttag!$B$10*Priser!D8 -> 0 | L10: =Uttag!$B$14*Priser!H8 -> 0 | M10: =Uttag!$B23*Priser!J8 -> 0 | N10: =SUMIFS(Uttag!$P:$P,Uttag!$BL:$BL,A10) -> 0 | O10: =SUMIFS(Uttag!Z:Z,Uttag!BL:BL,A10) -> 0 | P10: =SUMIFS(Uttag!AC:AC,Uttag!$BL:$BL,A10) -> 0 | Q10: =U10*Priser!B$24 -> 0 | R10: =U10*Priser!$B$25 -> 0 | S10: =SUM(C10:F10,O10:R10) -> 36320.5 | U10: =SUMIFS(Uttag!E:E,Uttag!$BL:$BL,$A10) -> 0 | V10: =_xlfn.MAXIFS(Uttag!G:G,Uttag!BL:BL,A10) -> 0 | W10: =COUNTIFS(Uttag!P:P,">0",Uttag!BL:BL,A10) -> 0 | X10: =COUNTIFS(Uttag!K:K,">0",Uttag!$BL:$BL,$A10) -> 0 | Y10: =COUNTIFS(Uttag!L:L,">0",Uttag!$BL:$BL,$A10) -> 0 | Z10: =COUNTIFS(Uttag!$BL$5:$BL$369,$A10,Uttag!$V$5:$V$369,">0") -> 0 | AA10: =COUNTIFS(Uttag!$BL$5:$BL$369,$A10,Uttag!$W$5:$W$369,">0") -> 0
A11: 4 | B11: April | C11: =Priser!$B$19/12 -> 36320.5 | D11: =(Priser!$B$20*Uttag!$B$5^0.5)/7 -> 0 | E11: =IF(Indata!$B$3="Ja",Uttag!$B$5*Priser!$B$22/12,0) -> 0 | F11: =SUM(G11:N11) -> 0 | G11: =Uttag!$B$8*Priser!B9 -> 0 | H11: =Uttag!$B$9*Priser!C9 -> 0 | L11: =Uttag!$B$15*Priser!H9 -> 0 | M11: =Uttag!$B24*Priser!J9 -> 0 | N11: =SUMIFS(Uttag!$P:$P,Uttag!$BL:$BL,A11) -> 0 | O11: =SUMIFS(Uttag!Z:Z,Uttag!BL:BL,A11) -> 0 | P11: =SUMIFS(Uttag!AC:AC,Uttag!$BL:$BL,A11) -> 0 | Q11: =U11*Priser!B$24 -> 0 | R11: =U11*Priser!$B$25 -> 0 | S11: =SUM(C11:F11,O11:R11) -> 36320.5 | U11: =SUMIFS(Uttag!E:E,Uttag!$BL:$BL,$A11) -> 0 | V11: =_xlfn.MAXIFS(Uttag!G:G,Uttag!BL:BL,A11) -> 0 | W11: =COUNTIFS(Uttag!P:P,">0",Uttag!BL:BL,A11) -> 0 | X11: =COUNTIFS(Uttag!K:K,">0",Uttag!$BL:$BL,$A11) -> 0 | Y11: =COUNTIFS(Uttag!L:L,">0",Uttag!$BL:$BL,$A11) -> 0 | Z11: =COUNTIFS(Uttag!$BL$5:$BL$369,$A11,Uttag!$V$5:$V$369,">0") -> 0 | AA11: =COUNTIFS(Uttag!$BL$5:$BL$369,$A11,Uttag!$W$5:$W$369,">0") -> 0
A12: 5 | B12: Maj | C12: =Priser!$B$19/12 -> 36320.5 | D12: =(Priser!$B$21*Uttag!$B$6^0.5)/5 -> 0 | E12: =IF(Indata!$B$3="Ja",Uttag!$B$5*Priser!$B$22/12,0) -> 0 | F12: =SUM(G12:N12) -> 0 | G12: =Uttag!$B$8*Priser!B10 -> 0 | K12: =Uttag!$B$12*Priser!F10 -> 0 | L12: =Uttag!$B$15*Priser!H10 -> 0 | M12: =Uttag!$B25*Priser!J10 -> 0 | N12: =SUMIFS(Uttag!$P:$P,Uttag!$BL:$BL,A12) -> 0 | O12: =SUMIFS(Uttag!Z:Z,Uttag!BL:BL,A12) -> 0 | P12: =SUMIFS(Uttag!AC:AC,Uttag!$BL:$BL,A12) -> 0 | Q12: =U12*Priser!B$24 -> 0 | R12: =U12*Priser!$B$25 -> 0 | S12: =SUM(C12:F12,O12:R12) -> 36320.5 | U12: =SUMIFS(Uttag!E:E,Uttag!$BL:$BL,$A12) -> 0 | V12: =_xlfn.MAXIFS(Uttag!G:G,Uttag!BL:BL,A12) -> 0 | W12: =COUNTIFS(Uttag!P:P,">0",Uttag!BL:BL,A12) -> 0 | X12: =COUNTIFS(Uttag!K:K,">0",Uttag!$BL:$BL,$A12) -> 0 | Y12: =COUNTIFS(Uttag!L:L,">0",Uttag!$BL:$BL,$A12) -> 0 | Z12: =COUNTIFS(Uttag!$BL$5:$BL$369,$A12,Uttag!$V$5:$V$369,">0") -> 0 | AA12: =COUNTIFS(Uttag!$BL$5:$BL$369,$A12,Uttag!$W$5:$W$369,">0") -> 0
A13: 6 | B13: Juni | C13: =Priser!$B$19/12 -> 36320.5 | D13: =(Priser!$B$21*Uttag!$B$6^0.5)/5 -> 0 | E13: =IF(Indata!$B$3="Ja",Uttag!$B$5*Priser!$B$22/12,0) -> 0 | F13: =SUM(G13:N13) -> 0 | G13: =Uttag!$B$8*Priser!B11 -> 0 | K13: =Uttag!$B$12*Priser!F11 -> 0 | L13: =Uttag!$B$15*Priser!H11 -> 0 | M13: =Uttag!$B26*Priser!J11 -> 0 | N13: =SUMIFS(Uttag!$P:$P,Uttag!$BL:$BL,A13) -> 0 | O13: =SUMIFS(Uttag!Z:Z,Uttag!BL:BL,A13) -> 0 | P13: =SUMIFS(Uttag!AC:AC,Uttag!$BL:$BL,A13) -> 0 | Q13: =U13*Priser!B$24 -> 0 | R13: =U13*Priser!$B$25 -> 0 | S13: =SUM(C13:F13,O13:R13) -> 36320.5 | U13: =SUMIFS(Uttag!E:E,Uttag!$BL:$BL,$A13) -> 0 | V13: =_xlfn.MAXIFS(Uttag!G:G,Uttag!BL:BL,A13) -> 0 | W13: =COUNTIFS(Uttag!P:P,">0",Uttag!BL:BL,A13) -> 0 | X13: =COUNTIFS(Uttag!K:K,">0",Uttag!$BL:$BL,$A13) -> 0 | Y13: =COUNTIFS(Uttag!L:L,">0",Uttag!$BL:$BL,$A13) -> 0 | Z13: =COUNTIFS(Uttag!$BL$5:$BL$369,$A13,Uttag!$V$5:$V$369,">0") -> 0 | AA13: =COUNTIFS(Uttag!$BL$5:$BL$369,$A13,Uttag!$W$5:$W$369,">0") -> 0
A14: 7 | B14: Juli | C14: =Priser!$B$19/12 -> 36320.5 | D14: =(Priser!$B$21*Uttag!$B$6^0.5)/5 -> 0 | E14: =IF(Indata!$B$3="Ja",Uttag!$B$5*Priser!$B$22/12,0) -> 0 | F14: =SUM(G14:N14) -> 0 | G14: =Uttag!$B$8*Priser!B12 -> 0 | K14: =Uttag!$B$12*Priser!F12 -> 0 | L14: =Uttag!$B$16*Priser!H12 -> 0 | M14: =Uttag!$B27*Priser!J12 -> 0 | N14: =SUMIFS(Uttag!$P:$P,Uttag!$BL:$BL,A14) -> 0 | O14: =SUMIFS(Uttag!Z:Z,Uttag!BL:BL,A14) -> 0 | P14: =SUMIFS(Uttag!AC:AC,Uttag!$BL:$BL,A14) -> 0 | Q14: =U14*Priser!B$24 -> 0 | R14: =U14*Priser!$B$25 -> 0 | S14: =SUM(C14:F14,O14:R14) -> 36320.5 | U14: =SUMIFS(Uttag!E:E,Uttag!$BL:$BL,$A14) -> 0 | V14: =_xlfn.MAXIFS(Uttag!G:G,Uttag!BL:BL,A14) -> 0 | W14: =COUNTIFS(Uttag!P:P,">0",Uttag!BL:BL,A14) -> 0 | X14: =COUNTIFS(Uttag!K:K,">0",Uttag!$BL:$BL,$A14) -> 0 | Y14: =COUNTIFS(Uttag!L:L,">0",Uttag!$BL:$BL,$A14) -> 0 | Z14: =COUNTIFS(Uttag!$BL$5:$BL$369,$A14,Uttag!$V$5:$V$369,">0") -> 0 | AA14: =COUNTIFS(Uttag!$BL$5:$BL$369,$A14,Uttag!$W$5:$W$369,">0") -> 0
A15: 8 | B15: Augusti | C15: =Priser!$B$19/12 -> 36320.5 | D15: =(Priser!$B$21*Uttag!$B$6^0.5)/5 -> 0 | E15: =IF(Indata!$B$3="Ja",Uttag!$B$5*Priser!$B$22/12,0) -> 0 | F15: =SUM(G15:N15) -> 0 | G15: =Uttag!$B$8*Priser!B13 -> 0 | K15: =Uttag!$B$12*Priser!F13 -> 0 | L15: =Uttag!$B$16*Priser!H13 -> 0 | M15: =Uttag!$B28*Priser!J13 -> 0 | N15: =SUMIFS(Uttag!$P:$P,Uttag!$BL:$BL,A15) -> 0 | O15: =SUMIFS(Uttag!Z:Z,Uttag!BL:BL,A15) -> 0 | P15: =SUMIFS(Uttag!AC:AC,Uttag!$BL:$BL,A15) -> 0 | Q15: =U15*Priser!B$24 -> 0 | R15: =U15*Priser!$B$25 -> 0 | S15: =SUM(C15:F15,O15:R15) -> 36320.5 | U15: =SUMIFS(Uttag!E:E,Uttag!$BL:$BL,$A15) -> 0 | V15: =_xlfn.MAXIFS(Uttag!G:G,Uttag!BL:BL,A15) -> 0 | W15: =COUNTIFS(Uttag!P:P,">0",Uttag!BL:BL,A15) -> 0 | X15: =COUNTIFS(Uttag!K:K,">0",Uttag!$BL:$BL,$A15) -> 0 | Y15: =COUNTIFS(Uttag!L:L,">0",Uttag!$BL:$BL,$A15) -> 0 | Z15: =COUNTIFS(Uttag!$BL$5:$BL$369,$A15,Uttag!$V$5:$V$369,">0") -> 0 | AA15: =COUNTIFS(Uttag!$BL$5:$BL$369,$A15,Uttag!$W$5:$W$369,">0") -> 0
A16: 9 | B16: September | C16: =Priser!$B$19/12 -> 36320.5 | D16: =(Priser!$B$21*Uttag!$B$6^0.5)/5 -> 0 | E16: =IF(Indata!$B$3="Ja",Uttag!$B$5*Priser!$B$22/12,0) -> 0 | F16: =SUM(G16:N16) -> 0 | G16: =Uttag!$B$8*Priser!B14 -> 0 | K16: =Uttag!$B$12*Priser!F14 -> 0 | L16: =Uttag!$B$16*Priser!H14 -> 0 | M16: =Uttag!$B29*Priser!J14 -> 0 | N16: =SUMIFS(Uttag!$P:$P,Uttag!$BL:$BL,A16) -> 0 | O16: =SUMIFS(Uttag!Z:Z,Uttag!BL:BL,A16) -> 0 | P16: =SUMIFS(Uttag!AC:AC,Uttag!$BL:$BL,A16) -> 0 | Q16: =U16*Priser!B$24 -> 0 | R16: =U16*Priser!$B$25 -> 0 | S16: =SUM(C16:F16,O16:R16) -> 36320.5 | U16: =SUMIFS(Uttag!E:E,Uttag!$BL:$BL,$A16) -> 0 | V16: =_xlfn.MAXIFS(Uttag!G:G,Uttag!BL:BL,A16) -> 0 | W16: =COUNTIFS(Uttag!P:P,">0",Uttag!BL:BL,A16) -> 0 | X16: =COUNTIFS(Uttag!K:K,">0",Uttag!$BL:$BL,$A16) -> 0 | Y16: =COUNTIFS(Uttag!L:L,">0",Uttag!$BL:$BL,$A16) -> 0 | Z16: =COUNTIFS(Uttag!$BL$5:$BL$369,$A16,Uttag!$V$5:$V$369,">0") -> 0 | AA16: =COUNTIFS(Uttag!$BL$5:$BL$369,$A16,Uttag!$W$5:$W$369,">0") -> 0
B17: Summa | C17: =SUM(C5:C16) -> 435846 | D17: =SUM(D5:D16) -> 0 | E17: =SUM(E5:E16) -> 0 | F17: =SUM(F5:F16) -> 0 | G17: =SUM(G5:G16) -> 0 | H17: =SUM(H5:H16) -> 0 | I17: =SUM(I5:I16) -> 0 | J17: =SUM(J5:J16) -> 0 | ... S17: =SUM(S5:S16) -> 435846 | U17: =SUM(U5:U16) -> 0 | W17: =SUM(W5:W16) -> 0 | X17: =SUM(X5:X16) -> 0 | Y17: =SUM(Y5:Y16) -> 0 | Z17: =SUM(Z5:Z16) -> 0 | AA17: =SUM(AA5:AA16) -> 0
A63: okt
A64: nov
A65: dec
A66: jan
A67: feb
A68: mar
A69: apr
A70: maj
A71: jun
A72: jul
A73: aug
A74: sep

Sheet Listor
B1: Celler att uppdatera vid nytt gasår | D1: OBS! Om gasårets februarimånad infaller då det är skottår, måste man dra ner alla formler ett steg på fliken "Indata" och "Dygnsindata".På samma sätt måste man ta bort nedersta raden när man går från skottår till vanligt år.
A3: Indataval
B4: kWh/h
B5: kWh
A7: Ja
A8: Nej
A10: Gasår indata
A11: Gasår | B11: 2026/2027
A12: Gasårets första datum | B12: 46296
A20: Vintertid/sommartid
B21: datum | C21: justering
A22: Gasdygn övergång till vintertid (25 timmar) | B22: 46319 | C22: 1
A23: Gasdygn övergång till sommartid (23 timmar) | B23: 46473 | C23: -1
